Workbook

Sheet Календарь
D2: Год | E2: =IF(MONTH(TODAY())=12,YEAR(TODAY())+1,YEAR(TODAY())) -> 2026 | J2: Месяц | K2: 1 | O2: День начала | P2: 7 | R2: 1:Вс, 2:Пн …
C5: 2025
C8: =DATE(E2,K2,1) -> 46023 | K8: =DATE(YEAR(C8+42),MONTH(C8+42),1) -> 46054 | S8: =DATE(YEAR(K8+42),MONTH(K8+42),1) -> 46082
C9: =CHOOSE(1+MOD($P$2+1-2,7),"ПН","ВТ","СР","ЧТ","ПТ","СБ","ВС") -> ВС | D9: =CHOOSE(1+MOD($P$2+2-2,7),"ПН","ВТ","СР","ЧТ","ПТ","СБ","ВС") -> ПН | E9: =CHOOSE(1+MOD($P$2+3-2,7),"ПН","ВТ","СР","ЧТ","ПТ","СБ","ВС") -> ВТ | F9: =CHOOSE(1+MOD($P$2+4-2,7),"ПН","ВТ","СР","ЧТ","ПТ","СБ","ВС") -> СР | G9: =CHOOSE(1+MOD($P$2+5-2,7),"ПН","ВТ","СР","ЧТ","ПТ","СБ","ВС") -> ЧТ | H9: =CHOOSE(1+MOD($P$2+6-2,7),"ПН","ВТ","СР","ЧТ","ПТ","СБ","ВС") -> ПТ | I9: =CHOOSE(1+MOD($P$2+7-2,7),"ПН","ВТ","СР","ЧТ","ПТ","СБ","ВС") -> СБ | K9: =CHOOSE(1+MOD($P$2+1-2,7),"ПН","ВТ","СР","ЧТ","ПТ","СБ","ВС") -> ВС | L9: =CHOOSE(1+MOD($P$2+2-2,7),"ПН","ВТ","СР","ЧТ","ПТ","СБ","ВС") -> ПН | M9: =CHOOSE(1+MOD($P$2+3-2,7),"ПН","ВТ","СР","ЧТ","ПТ","СБ","ВС") -> ВТ | N9: =CHOOSE(1+MOD($P$2+4-2,7),"ПН","ВТ","СР","ЧТ","ПТ","СБ","ВС") -> СР | O9: =CHOOSE(1+MOD($P$2+5-2,7),"ПН","ВТ","СР","ЧТ","ПТ","СБ","ВС") -> ЧТ | P9: =CHOOSE(1+MOD($P$2+6-2,7),"ПН","ВТ","СР","ЧТ","ПТ","СБ","ВС") -> ПТ | Q9: =CHOOSE(1+MOD($P$2+7-2,7),"ПН","ВТ","СР","ЧТ","ПТ","СБ","ВС") -> СБ | S9: =CHOOSE(1+MOD($P$2+1-2,7),"ПН","ВТ","СР","ЧТ","ПТ","СБ","ВС") -> ВС | T9: =CHOOSE(1+MOD($P$2+2-2,7),"ПН","ВТ","СР","ЧТ","ПТ","СБ","ВС") -> ПН | U9: =CHOOSE(1+MOD($P$2+3-2,7),"ПН","ВТ","СР","ЧТ","ПТ","СБ","ВС") -> ВТ | V9: =CHOOSE(1+MOD($P$2+4-2,7),"ПН","ВТ","СР","ЧТ","ПТ","СБ","ВС") -> СР | W9: =CHOOSE(1+MOD($P$2+5-2,7),"ПН","ВТ","СР","ЧТ","ПТ","СБ","ВС") -> ЧТ | X9: =CHOOSE(1+MOD($P$2+6-2,7),"ПН","ВТ","СР","ЧТ","ПТ","СБ","ВС") -> ПТ | Y9: =CHOOSE(1+MOD($P$2+7-2,7),"ПН","ВТ","СР","ЧТ","ПТ","СБ","ВС") -> СБ
G10: 45658 | H10: 45659 | I10: 45660 | K10: 45689 | L10: 45690 | M10: 45691 | N10: 45692 | O10: 45693 | P10: 45694 | Q10: 45695 | S10: 45717 | T10: 45718 | U10: 45719 | V10: 45720 | W10: 45721 | X10: 45722 | Y10: 45723
C11: 45661 | D11: 45662 | E11: 45663 | F11: 45664 | G11: 45665 | H11: 45666 | I11: 45667 | K11: 45696 | L11: 45697 | M11: 45698 | N11: 45699 | O11: 45700 | P11: 45701 | Q11: 45702 | S11: 45724 | T11: 45725 | U11: 45726 | V11: 45727 | W11: 45728 | X11: 45729 | Y11: 45730
C12: 45668 | D12: 45669 | E12: 45670 | F12: 45671 | G12: 45672 | H12: 45673 | I12: 45674 | K12: 45703 | L12: 45704 | M12: 45705 | N12: 45706 | O12: 45707 | P12: 45708 | Q12: 45709 | S12: 45731 | T12: 45732 | U12: 45733 | V12: 45734 | W12: 45735 | X12: 45736 | Y12: 45737
C13: 45675 | D13: 45676 | E13: 45677 | F13: 45678 | G13: 45679 | H13: 45680 | I13: 45681 | K13: 45710 | L13: 45711 | M13: 45712 | N13: 45713 | O13: 45714 | P13: 45715 | Q13: 45716 | S13: 45738 | T13: 45739 | U13: 45740 | V13: 45741 | W13: 45742 | X13: 45743 | Y13: 45744
C14: 45682 | D14: 45683 | E14: 45684 | F14: 45685 | G14: 45686 | H14: 45687 | I14: 45688 | S14: 45745 | T14: 45746 | U14: 45747
C17: =DATE(YEAR(S8+42),MONTH(S8+42),1) -> 46113 | K17: =DATE(YEAR(C17+42),MONTH(C17+42),1) -> 46143 | S17: =DATE(YEAR(K17+42),MONTH(K17+42),1) -> 46174
C18: =CHOOSE(1+MOD($P$2+1-2,7),"ПН","ВТ","СР","ЧТ","ПТ","СБ","ВС") -> ВС | D18: =CHOOSE(1+MOD($P$2+2-2,7),"ПН","ВТ","СР","ЧТ","ПТ","СБ","ВС") -> ПН | E18: =CHOOSE(1+MOD($P$2+3-2,7),"ПН","ВТ","СР","ЧТ","ПТ","СБ","ВС") -> ВТ | F18: =CHOOSE(1+MOD($P$2+4-2,7),"ПН","ВТ","СР","ЧТ","ПТ","СБ","ВС") -> СР | G18: =CHOOSE(1+MOD($P$2+5-2,7),"ПН","ВТ","СР","ЧТ","ПТ","СБ","ВС") -> ЧТ | H18: =CHOOSE(1+MOD($P$2+6-2,7),"ПН","ВТ","СР","ЧТ","ПТ","СБ","ВС") -> ПТ | I18: =CHOOSE(1+MOD($P$2+7-2,7),"ПН","ВТ","СР","ЧТ","ПТ","СБ","ВС") -> СБ | K18: =CHOOSE(1+MOD($P$2+1-2,7),"ПН","ВТ","СР","ЧТ","ПТ","СБ","ВС") -> ВС | L18: =CHOOSE(1+MOD($P$2+2-2,7),"ПН","ВТ","СР","ЧТ","ПТ","СБ","ВС") -> ПН | M18: =CHOOSE(1+MOD($P$2+3-2,7),"ПН","ВТ","СР","ЧТ","ПТ","СБ","ВС") -> ВТ | N18: =CHOOSE(1+MOD($P$2+4-2,7),"ПН","ВТ","СР","ЧТ","ПТ","СБ","ВС") -> СР | O18: =CHOOSE(1+MOD($P$2+5-2,7),"ПН","ВТ","СР","ЧТ","ПТ","СБ","ВС") -> ЧТ | P18: =CHOOSE(1+MOD($P$2+6-2,7),"ПН","ВТ","СР","ЧТ","ПТ","СБ","ВС") -> ПТ | Q18: =CHOOSE(1+MOD($P$2+7-2,7),"ПН","ВТ","СР","ЧТ","ПТ","СБ","ВС") -> СБ | S18: =CHOOSE(1+MOD($P$2+1-2,7),"ПН","ВТ","СР","ЧТ","ПТ","СБ","ВС") -> ВС | T18: =CHOOSE(1+MOD($P$2+2-2,7),"ПН","ВТ","СР","ЧТ","ПТ","СБ","ВС") -> ПН | U18: =CHOOSE(1+MOD($P$2+3-2,7),"ПН","ВТ","СР","ЧТ","ПТ","СБ","ВС") -> ВТ | V18: =CHOOSE(1+MOD($P$2+4-2,7),"ПН","ВТ","СР","ЧТ","ПТ","СБ","ВС") -> СР | W18: =CHOOSE(1+MOD($P$2+5-2,7),"ПН","ВТ","СР","ЧТ","ПТ","СБ","ВС") -> ЧТ | X18: =CHOOSE(1+MOD($P$2+6-2,7),"ПН","ВТ","СР","ЧТ","ПТ","СБ","ВС") -> ПТ | Y18: =CHOOSE(1+MOD($P$2+7-2,7),"ПН","ВТ","СР","ЧТ","ПТ","СБ","ВС") -> СБ
C19: =IF(WEEKDAY(C17,1)=MOD($P$2-1,7)+1,C17,"") | D19: =IF(C19="",IF(WEEKDAY(C17,1)=MOD($P$2,7)+1,C17,""),C19+1) | E19: =IF(D19="",IF(WEEKDAY(C17,1)=MOD($P$2+1,7)+1,C17,""),D19+1) | F19: =IF(E19="",IF(WEEKDAY(C17,1)=MOD($P$2+2,7)+1,C17,""),E19+1) | G19: =IF(F19="",IF(WEEKDAY(C17,1)=MOD($P$2+3,7)+1,C17,""),F19+1) -> 46113 | H19: =IF(G19="",IF(WEEKDAY(C17,1)=MOD($P$2+4,7)+1,C17,""),G19+1) -> 46114 | I19: =IF(H19="",IF(WEEKDAY(C17,1)=MOD($P$2+5,7)+1,C17,""),H19+1) -> 46115 | K19: =IF(WEEKDAY(K17,1)=MOD($P$2-1,7)+1,K17,"") | L19: =IF(K19="",IF(WEEKDAY(K17,1)=MOD($P$2,7)+1,K17,""),K19+1) | M19: =IF(L19="",IF(WEEKDAY(K17,1)=MOD($P$2+1,7)+1,K17,""),L19+1) | N19: =IF(M19="",IF(WEEKDAY(K17,1)=MOD($P$2+2,7)+1,K17,""),M19+1) | O19: =IF(N19="",IF(WEEKDAY(K17,1)=MOD($P$2+3,7)+1,K17,""),N19+1) | P19: =IF(O19="",IF(WEEKDAY(K17,1)=MOD($P$2+4,7)+1,K17,""),O19+1) | Q19: =IF(P19="",IF(WEEKDAY(K17,1)=MOD($P$2+5,7)+1,K17,""),P19+1) -> 46143 | S19: =IF(WEEKDAY(S17,1)=MOD($P$2-1,7)+1,S17,"") | T19: =IF(S19="",IF(WEEKDAY(S17,1)=MOD($P$2,7)+1,S17,""),S19+1) | U19: =IF(T19="",IF(WEEKDAY(S17,1)=MOD($P$2+1,7)+1,S17,""),T19+1) -> 46174 | V19: =IF(U19="",IF(WEEKDAY(S17,1)=MOD($P$2+2,7)+1,S17,""),U19+1) -> 46175 | W19: =IF(V19="",IF(WEEKDAY(S17,1)=MOD($P$2+3,7)+1,S17,""),V19+1) -> 46176 | X19: =IF(W19="",IF(WEEKDAY(S17,1)=MOD($P$2+4,7)+1,S17,""),W19+1) -> 46177 | Y19: =IF(X19="",IF(WEEKDAY(S17,1)=MOD($P$2+5,7)+1,S17,""),X19+1) -> 46178
C20: =IF(I19="","",IF(MONTH(I19+1)<>MONTH(I19),"",I19+1)) -> 46116 | D20: =IF(C20="","",IF(MONTH(C20+1)<>MONTH(C20),"",C20+1)) -> 46117 | E20: =IF(D20="","",IF(MONTH(D20+1)<>MONTH(D20),"",D20+1)) -> 46118 | F20: =IF(E20="","",IF(MONTH(E20+1)<>MONTH(E20),"",E20+1)) -> 46119 | G20: =IF(F20="","",IF(MONTH(F20+1)<>MONTH(F20),"",F20+1)) -> 46120 | H20: =IF(G20="","",IF(MONTH(G20+1)<>MONTH(G20),"",G20+1)) -> 46121 | I20: =IF(H20="","",IF(MONTH(H20+1)<>MONTH(H20),"",H20+1)) -> 46122 | K20: =IF(Q19="","",IF(MONTH(Q19+1)<>MONTH(Q19),"",Q19+1)) -> 46144 | L20: =IF(K20="","",IF(MONTH(K20+1)<>MONTH(K20),"",K20+1)) -> 46145 | M20: =IF(L20="","",IF(MONTH(L20+1)<>MONTH(L20),"",L20+1)) -> 46146 | N20: =IF(M20="","",IF(MONTH(M20+1)<>MONTH(M20),"",M20+1)) -> 46147 | O20: =IF(N20="","",IF(MONTH(N20+1)<>MONTH(N20),"",N20+1)) -> 46148 | P20: =IF(O20="","",IF(MONTH(O20+1)<>MONTH(O20),"",O20+1)) -> 46149 | Q20: =IF(P20="","",IF(MONTH(P20+1)<>MONTH(P20),"",P20+1)) -> 46150 | S20: =IF(Y19="","",IF(MONTH(Y19+1)<>MONTH(Y19),"",Y19+1)) -> 46179 | T20: =IF(S20="","",IF(MONTH(S20+1)<>MONTH(S20),"",S20+1)) -> 46180 | U20: =IF(T20="","",IF(MONTH(T20+1)<>MONTH(T20),"",T20+1)) -> 46181 | V20: =IF(U20="","",IF(MONTH(U20+1)<>MONTH(U20),"",U20+1)) -> 46182 | W20: =IF(V20="","",IF(MONTH(V20+1)<>MONTH(V20),"",V20+1)) -> 46183 | X20: =IF(W20="","",IF(MONTH(W20+1)<>MONTH(W20),"",W20+1)) -> 46184 | Y20: =IF(X20="","",IF(MONTH(X20+1)<>MONTH(X20),"",X20+1)) -> 46185
C21: =IF(I20="","",IF(MONTH(I20+1)<>MONTH(I20),"",I20+1)) -> 46123 | D21: =IF(C21="","",IF(MONTH(C21+1)<>MONTH(C21),"",C21+1)) -> 46124 | E21: =IF(D21="","",IF(MONTH(D21+1)<>MONTH(D21),"",D21+1)) -> 46125 | F21: =IF(E21="","",IF(MONTH(E21+1)<>MONTH(E21),"",E21+1)) -> 46126 | G21: =IF(F21="","",IF(MONTH(F21+1)<>MONTH(F21),"",F21+1)) -> 46127 | H21: =IF(G21="","",IF(MONTH(G21+1)<>MONTH(G21),"",G21+1)) -> 46128 | I21: =IF(H21="","",IF(MONTH(H21+1)<>MONTH(H21),"",H21+1)) -> 46129 | K21: =IF(Q20="","",IF(MONTH(Q20+1)<>MONTH(Q20),"",Q20+1)) -> 46151 | L21: =IF(K21="","",IF(MONTH(K21+1)<>MONTH(K21),"",K21+1)) -> 46152 | M21: =IF(L21="","",IF(MONTH(L21+1)<>MONTH(L21),"",L21+1)) -> 46153 | N21: =IF(M21="","",IF(MONTH(M21+1)<>MONTH(M21),"",M21+1)) -> 46154 | O21: =IF(N21="","",IF(MONTH(N21+1)<>MONTH(N21),"",N21+1)) -> 46155 | P21: =IF(O21="","",IF(MONTH(O21+1)<>MONTH(O21),"",O21+1)) -> 46156 | Q21: =IF(P21="","",IF(MONTH(P21+1)<>MONTH(P21),"",P21+1)) -> 46157 | S21: =IF(Y20="","",IF(MONTH(Y20+1)<>MONTH(Y20),"",Y20+1)) -> 46186 | T21: =IF(S21="","",IF(MONTH(S21+1)<>MONTH(S21),"",S21+1)) -> 46187 | U21: =IF(T21="","",IF(MONTH(T21+1)<>MONTH(T21),"",T21+1)) -> 46188 | V21: =IF(U21="","",IF(MONTH(U21+1)<>MONTH(U21),"",U21+1)) -> 46189 | W21: =IF(V21="","",IF(MONTH(V21+1)<>MONTH(V21),"",V21+1)) -> 46190 | X21: =IF(W21="","",IF(MONTH(W21+1)<>MONTH(W21),"",W21+1)) -> 46191 | Y21: =IF(X21="","",IF(MONTH(X21+1)<>MONTH(X21),"",X21+1)) -> 46192
C22: =IF(I21="","",IF(MONTH(I21+1)<>MONTH(I21),"",I21+1)) -> 46130 | D22: =IF(C22="","",IF(MONTH(C22+1)<>MONTH(C22),"",C22+1)) -> 46131 | E22: =IF(D22="","",IF(MONTH(D22+1)<>MONTH(D22),"",D22+1)) -> 46132 | F22: =IF(E22="","",IF(MONTH(E22+1)<>MONTH(E22),"",E22+1)) -> 46133 | G22: =IF(F22="","",IF(MONTH(F22+1)<>MONTH(F22),"",F22+1)) -> 46134 | H22: =IF(G22="","",IF(MONTH(G22+1)<>MONTH(G22),"",G22+1)) -> 46135 | I22: =IF(H22="","",IF(MONTH(H22+1)<>MONTH(H22),"",H22+1)) -> 46136 | K22: =IF(Q21="","",IF(MONTH(Q21+1)<>MONTH(Q21),"",Q21+1)) -> 46158 | L22: =IF(K22="","",IF(MONTH(K22+1)<>MONTH(K22),"",K22+1)) -> 46159 | M22: =IF(L22="","",IF(MONTH(L22+1)<>MONTH(L22),"",L22+1)) -> 46160 | N22: =IF(M22="","",IF(MONTH(M22+1)<>MONTH(M22),"",M22+1)) -> 46161 | O22: =IF(N22="","",IF(MONTH(N22+1)<>MONTH(N22),"",N22+1)) -> 46162 | P22: =IF(O22="","",IF(MONTH(O22+1)<>MONTH(O22),"",O22+1)) -> 46163 | Q22: =IF(P22="","",IF(MONTH(P22+1)<>MONTH(P22),"",P22+1)) -> 46164 | S22: =IF(Y21="","",IF(MONTH(Y21+1)<>MONTH(Y21),"",Y21+1)) -> 46193 | T22: =IF(S22="","",IF(MONTH(S22+1)<>MONTH(S22),"",S22+1)) -> 46194 | U22: =IF(T22="","",IF(MONTH(T22+1)<>MONTH(T22),"",T22+1)) -> 46195 | V22: =IF(U22="","",IF(MONTH(U22+1)<>MONTH(U22),"",U22+1)) -> 46196 | W22: =IF(V22="","",IF(MONTH(V22+1)<>MONTH(V22),"",V22+1)) -> 46197 | X22: =IF(W22="","",IF(MONTH(W22+1)<>MONTH(W22),"",W22+1)) -> 46198 | Y22: =IF(X22="","",IF(MONTH(X22+1)<>MONTH(X22),"",X22+1)) -> 46199
C23: =IF(I22="","",IF(MONTH(I22+1)<>MONTH(I22),"",I22+1)) -> 46137 | D23: =IF(C23="","",IF(MONTH(C23+1)<>MONTH(C23),"",C23+1)) -> 46138 | E23: =IF(D23="","",IF(MONTH(D23+1)<>MONTH(D23),"",D23+1)) -> 46139 | F23: =IF(E23="","",IF(MONTH(E23+1)<>MONTH(E23),"",E23+1)) -> 46140 | G23: =IF(F23="","",IF(MONTH(F23+1)<>MONTH(F23),"",F23+1)) -> 46141 | H23: =IF(G23="","",IF(MONTH(G23+1)<>MONTH(G23),"",G23+1)) -> 46142 | I23: =IF(H23="","",IF(MONTH(H23+1)<>MONTH(H23),"",H23+1)) | K23: =IF(Q22="","",IF(MONTH(Q22+1)<>MONTH(Q22),"",Q22+1)) -> 46165 | L23: =IF(K23="","",IF(MONTH(K23+1)<>MONTH(K23),"",K23+1)) -> 46166 | M23: =IF(L23="","",IF(MONTH(L23+1)<>MONTH(L23),"",L23+1)) -> 46167 | N23: =IF(M23="","",IF(MONTH(M23+1)<>MONTH(M23),"",M23+1)) -> 46168 | O23: =IF(N23="","",IF(MONTH(N23+1)<>MONTH(N23),"",N23+1)) -> 46169 | P23: =IF(O23="","",IF(MONTH(O23+1)<>MONTH(O23),"",O23+1)) -> 46170 | Q23: =IF(P23="","",IF(MONTH(P23+1)<>MONTH(P23),"",P23+1)) -> 46171 | S23: =IF(Y22="","",IF(MONTH(Y22+1)<>MONTH(Y22),"",Y22+1)) -> 46200 | T23: =IF(S23="","",IF(MONTH(S23+1)<>MONTH(S23),"",S23+1)) -> 46201 | U23: =IF(T23="","",IF(MONTH(T23+1)<>MONTH(T23),"",T23+1)) -> 46202 | V23: =IF(U23="","",IF(MONTH(U23+1)<>MONTH(U23),"",U23+1)) -> 46203 | W23: =IF(V23="","",IF(MONTH(V23+1)<>MONTH(V23),"",V23+1)) | X23: =IF(W23="","",IF(MONTH(W23+1)<>MONTH(W23),"",W23+1)) | Y23: =IF(X23="","",IF(MONTH(X23+1)<>MONTH(X23),"",X23+1))
C24: =IF(I23="","",IF(MONTH(I23+1)<>MONTH(I23),"",I23+1)) | D24: =IF(C24="","",IF(MONTH(C24+1)<>MONTH(C24),"",C24+1)) | E24: =IF(D24="","",IF(MONTH(D24+1)<>MONTH(D24),"",D24+1)) | F24: =IF(E24="","",IF(MONTH(E24+1)<>MONTH(E24),"",E24+1)) | G24: =IF(F24="","",IF(MONTH(F24+1)<>MONTH(F24),"",F24+1)) | H24: =IF(G24="","",IF(MONTH(G24+1)<>MONTH(G24),"",G24+1)) | I24: =IF(H24="","",IF(MONTH(H24+1)<>MONTH(H24),"",H24+1)) | K24: =IF(Q23="","",IF(MONTH(Q23+1)<>MONTH(Q23),"",Q23+1)) -> 46172 | L24: =IF(K24="","",IF(MONTH(K24+1)<>MONTH(K24),"",K24+1)) -> 46173 | M24: =IF(L24="","",IF(MONTH(L24+1)<>MONTH(L24),"",L24+1)) | N24: =IF(M24="","",IF(MONTH(M24+1)<>MONTH(M24),"",M24+1)) | O24: =IF(N24="","",IF(MONTH(N24+1)<>MONTH(N24),"",N24+1)) | P24: =IF(O24="","",IF(MONTH(O24+1)<>MONTH(O24),"",O24+1)) | Q24: =IF(P24="","",IF(MONTH(P24+1)<>MONTH(P24),"",P24+1)) | S24: =IF(Y23="","",IF(MONTH(Y23+1)<>MONTH(Y23),"",Y23+1)) | T24: =IF(S24="","",IF(MONTH(S24+1)<>MONTH(S24),"",S24+1)) | U24: =IF(T24="","",IF(MONTH(T24+1)<>MONTH(T24),"",T24+1)) | V24: =IF(U24="","",IF(MONTH(U24+1)<>MONTH(U24),"",U24+1)) | W24: =IF(V24="","",IF(MONTH(V24+1)<>MONTH(V24),"",V24+1)) | X24: =IF(W24="","",IF(MONTH(W24+1)<>MONTH(W24),"",W24+1)) | Y24: =IF(X24="","",IF(MONTH(X24+1)<>MONTH(X24),"",X24+1))
C26: =DATE(YEAR(S17+42),MONTH(S17+42),1) -> 46204 | K26: =DATE(YEAR(C26+42),MONTH(C26+42),1) -> 46235 | S26: =DATE(YEAR(K26+42),MONTH(K26+42),1) -> 46266
C27: =CHOOSE(1+MOD($P$2+1-2,7),"ПН","ВТ","СР","ЧТ","ПТ","СБ","ВС") -> ВС | D27: =CHOOSE(1+MOD($P$2+2-2,7),"ПН","ВТ","СР","ЧТ","ПТ","СБ","ВС") -> ПН | E27: =CHOOSE(1+MOD($P$2+3-2,7),"ПН","ВТ","СР","ЧТ","ПТ","СБ","ВС") -> ВТ | F27: =CHOOSE(1+MOD($P$2+4-2,7),"ПН","ВТ","СР","ЧТ","ПТ","СБ","ВС") -> СР | G27: =CHOOSE(1+MOD($P$2+5-2,7),"ПН","ВТ","СР","ЧТ","ПТ","СБ","ВС") -> ЧТ | H27: =CHOOSE(1+MOD($P$2+6-2,7),"ПН","ВТ","СР","ЧТ","ПТ","СБ","ВС") -> ПТ | I27: =CHOOSE(1+MOD($P$2+7-2,7),"ПН","ВТ","СР","ЧТ","ПТ","СБ","ВС") -> СБ | K27: =CHOOSE(1+MOD($P$2+1-2,7),"ПН","ВТ","СР","ЧТ","ПТ","СБ","ВС") -> ВС | L27: =CHOOSE(1+MOD($P$2+2-2,7),"ПН","ВТ","СР","ЧТ","ПТ","СБ","ВС") -> ПН | M27: =CHOOSE(1+MOD($P$2+3-2,7),"ПН","ВТ","СР","ЧТ","ПТ","СБ","ВС") -> ВТ | N27: =CHOOSE(1+MOD($P$2+4-2,7),"ПН","ВТ","СР","ЧТ","ПТ","СБ","ВС") -> СР | O27: =CHOOSE(1+MOD($P$2+5-2,7),"ПН","ВТ","СР","ЧТ","ПТ","СБ","ВС") -> ЧТ | P27: =CHOOSE(1+MOD($P$2+6-2,7),"ПН","ВТ","СР","ЧТ","ПТ","СБ","ВС") -> ПТ | Q27: =CHOOSE(1+MOD($P$2+7-2,7),"ПН","ВТ","СР","ЧТ","ПТ","СБ","ВС") -> СБ | S27: =CHOOSE(1+MOD($P$2+1-2,7),"ПН","ВТ","СР","ЧТ","ПТ","СБ","ВС") -> ВС | T27: =CHOOSE(1+MOD($P$2+2-2,7),"ПН","ВТ","СР","ЧТ","ПТ","СБ","ВС") -> ПН | U27: =CHOOSE(1+MOD($P$2+3-2,7),"ПН","ВТ","СР","ЧТ","ПТ","СБ","ВС") -> ВТ | V27: =CHOOSE(1+MOD($P$2+4-2,7),"ПН","ВТ","СР","ЧТ","ПТ","СБ","ВС") -> СР | W27: =CHOOSE(1+MOD($P$2+5-2,7),"ПН","ВТ","СР","ЧТ","ПТ","СБ","ВС") -> ЧТ | X27: =CHOOSE(1+MOD($P$2+6-2,7),"ПН","ВТ","СР","ЧТ","ПТ","СБ","ВС") -> ПТ | Y27: =CHOOSE(1+MOD($P$2+7-2,7),"ПН","ВТ","СР","ЧТ","ПТ","СБ","ВС") -> СБ
C28: =IF(WEEKDAY(C26,1)=MOD($P$2-1,7)+1,C26,"") | D28: =IF(C28="",IF(WEEKDAY(C26,1)=MOD($P$2,7)+1,C26,""),C28+1) | E28: =IF(D28="",IF(WEEKDAY(C26,1)=MOD($P$2+1,7)+1,C26,""),D28+1) | F28: =IF(E28="",IF(WEEKDAY(C26,1)=MOD($P$2+2,7)+1,C26,""),E28+1) | G28: =IF(F28="",IF(WEEKDAY(C26,1)=MOD($P$2+3,7)+1,C26,""),F28+1) -> 46204 | H28: =IF(G28="",IF(WEEKDAY(C26,1)=MOD($P$2+4,7)+1,C26,""),G28+1) -> 46205 | I28: =IF(H28="",IF(WEEKDAY(C26,1)=MOD($P$2+5,7)+1,C26,""),H28+1) -> 46206 | K28: =IF(WEEKDAY(K26,1)=MOD($P$2-1,7)+1,K26,"") -> 46235 | L28: =IF(K28="",IF(WEEKDAY(K26,1)=MOD($P$2,7)+1,K26,""),K28+1) -> 46236 | M28: =IF(L28="",IF(WEEKDAY(K26,1)=MOD($P$2+1,7)+1,K26,""),L28+1) -> 46237 | N28: =IF(M28="",IF(WEEKDAY(K26,1)=MOD($P$2+2,7)+1,K26,""),M28+1) -> 46238 | O28: =IF(N28="",IF(WEEKDAY(K26,1)=MOD($P$2+3,7)+1,K26,""),N28+1) -> 46239 | P28: =IF(O28="",IF(WEEKDAY(K26,1)=MOD($P$2+4,7)+1,K26,""),O28+1) -> 46240 | Q28: =IF(P28="",IF(WEEKDAY(K26,1)=MOD($P$2+5,7)+1,K26,""),P28+1) -> 46241 | S28: =IF(WEEKDAY(S26,1)=MOD($P$2-1,7)+1,S26,"") | T28: =IF(S28="",IF(WEEKDAY(S26,1)=MOD($P$2,7)+1,S26,""),S28+1) | U28: =IF(T28="",IF(WEEKDAY(S26,1)=MOD($P$2+1,7)+1,S26,""),T28+1) | V28: =IF(U28="",IF(WEEKDAY(S26,1)=MOD($P$2+2,7)+1,S26,""),U28+1) -> 46266 | W28: =IF(V28="",IF(WEEKDAY(S26,1)=MOD($P$2+3,7)+1,S26,""),V28+1) -> 46267 | X28: =IF(W28="",IF(WEEKDAY(S26,1)=MOD($P$2+4,7)+1,S26,""),W28+1) -> 46268 | Y28: =IF(X28="",IF(WEEKDAY(S26,1)=MOD($P$2+5,7)+1,S26,""),X28+1) -> 46269
C29: =IF(I28="","",IF(MONTH(I28+1)<>MONTH(I28),"",I28+1)) -> 46207 | D29: =IF(C29="","",IF(MONTH(C29+1)<>MONTH(C29),"",C29+1)) -> 46208 | E29: =IF(D29="","",IF(MONTH(D29+1)<>MONTH(D29),"",D29+1)) -> 46209 | F29: =IF(E29="","",IF(MONTH(E29+1)<>MONTH(E29),"",E29+1)) -> 46210 | G29: =IF(F29="","",IF(MONTH(F29+1)<>MONTH(F29),"",F29+1)) -> 46211 | H29: =IF(G29="","",IF(MONTH(G29+1)<>MONTH(G29),"",G29+1)) -> 46212 | I29: =IF(H29="","",IF(MONTH(H29+1)<>MONTH(H29),"",H29+1)) -> 46213 | K29: =IF(Q28="","",IF(MONTH(Q28+1)<>MONTH(Q28),"",Q28+1)) -> 46242 | L29: =IF(K29="","",IF(MONTH(K29+1)<>MONTH(K29),"",K29+1)) -> 46243 | M29: =IF(L29="","",IF(MONTH(L29+1)<>MONTH(L29),"",L29+1)) -> 46244 | N29: =IF(M29="","",IF(MONTH(M29+1)<>MONTH(M29),"",M29+1)) -> 46245 | O29: =IF(N29="","",IF(MONTH(N29+1)<>MONTH(N29),"",N29+1)) -> 46246 | P29: =IF(O29="","",IF(MONTH(O29+1)<>MONTH(O29),"",O29+1)) -> 46247 | Q29: =IF(P29="","",IF(MONTH(P29+1)<>MONTH(P29),"",P29+1)) -> 46248 | S29: =IF(Y28="","",IF(MONTH(Y28+1)<>MONTH(Y28),"",Y28+1)) -> 46270 | T29: =IF(S29="","",IF(MONTH(S29+1)<>MONTH(S29),"",S29+1)) -> 46271 | U29: =IF(T29="","",IF(MONTH(T29+1)<>MONTH(T29),"",T29+1)) -> 46272 | V29: =IF(U29="","",IF(MONTH(U29+1)<>MONTH(U29),"",U29+1)) -> 46273 | W29: =IF(V29="","",IF(MONTH(V29+1)<>MONTH(V29),"",V29+1)) -> 46274 | X29: =IF(W29="","",IF(MONTH(W29+1)<>MONTH(W29),"",W29+1)) -> 46275 | Y29: =IF(X29="","",IF(MONTH(X29+1)<>MONTH(X29),"",X29+1)) -> 46276
C30: =IF(I29="","",IF(MONTH(I29+1)<>MONTH(I29),"",I29+1)) -> 46214 | D30: =IF(C30="","",IF(MONTH(C30+1)<>MONTH(C30),"",C30+1)) -> 46215 | E30: =IF(D30="","",IF(MONTH(D30+1)<>MONTH(D30),"",D30+1)) -> 46216 | F30: =IF(E30="","",IF(MONTH(E30+1)<>MONTH(E30),"",E30+1)) -> 46217 | G30: =IF(F30="","",IF(MONTH(F30+1)<>MONTH(F30),"",F30+1)) -> 46218 | H30: =IF(G30="","",IF(MONTH(G30+1)<>MONTH(G30),"",G30+1)) -> 46219 | I30: =IF(H30="","",IF(MONTH(H30+1)<>MONTH(H30),"",H30+1)) -> 46220 | K30: =IF(Q29="","",IF(MONTH(Q29+1)<>MONTH(Q29),"",Q29+1)) -> 46249 | L30: =IF(K30="","",IF(MONTH(K30+1)<>MONTH(K30),"",K30+1)) -> 46250 | M30: =IF(L30="","",IF(MONTH(L30+1)<>MONTH(L30),"",L30+1)) -> 46251 | N30: =IF(M30="","",IF(MONTH(M30+1)<>MONTH(M30),"",M30+1)) -> 46252 | O30: =IF(N30="","",IF(MONTH(N30+1)<>MONTH(N30),"",N30+1)) -> 46253 | P30: =IF(O30="","",IF(MONTH(O30+1)<>MONTH(O30),"",O30+1)) -> 46254 | Q30: =IF(P30="","",IF(MONTH(P30+1)<>MONTH(P30),"",P30+1)) -> 46255 | S30: =IF(Y29="","",IF(MONTH(Y29+1)<>MONTH(Y29),"",Y29+1)) -> 46277 | T30: =IF(S30="","",IF(MONTH(S30+1)<>MONTH(S30),"",S30+1)) -> 46278 | U30: =IF(T30="","",IF(MONTH(T30+1)<>MONTH(T30),"",T30+1)) -> 46279 | V30: =IF(U30="","",IF(MONTH(U30+1)<>MONTH(U30),"",U30+1)) -> 46280 | W30: =IF(V30="","",IF(MONTH(V30+1)<>MONTH(V30),"",V30+1)) -> 46281 | X30: =IF(W30="","",IF(MONTH(W30+1)<>MONTH(W30),"",W30+1)) -> 46282 | Y30: =IF(X30="","",IF(MONTH(X30+1)<>MONTH(X30),"",X30+1)) -> 46283
C31: =IF(I30="","",IF(MONTH(I30+1)<>MONTH(I30),"",I30+1)) -> 46221 | D31: =IF(C31="","",IF(MONTH(C31+1)<>MONTH(C31),"",C31+1)) -> 46222 | E31: =IF(D31="","",IF(MONTH(D31+1)<>MONTH(D31),"",D31+1)) -> 46223 | F31: =IF(E31="","",IF(MONTH(E31+1)<>MONTH(E31),"",E31+1)) -> 46224 | G31: =IF(F31="","",IF(MONTH(F31+1)<>MONTH(F31),"",F31+1)) -> 46225 | H31: =IF(G31="","",IF(MONTH(G31+1)<>MONTH(G31),"",G31+1)) -> 46226 | I31: =IF(H31="","",IF(MONTH(H31+1)<>MONTH(H31),"",H31+1)) -> 46227 | K31: =IF(Q30="","",IF(MONTH(Q30+1)<>MONTH(Q30),"",Q30+1)) -> 46256 | L31: =IF(K31="","",IF(MONTH(K31+1)<>MONTH(K31),"",K31+1)) -> 46257 | M31: =IF(L31="","",IF(MONTH(L31+1)<>MONTH(L31),"",L31+1)) -> 46258 | N31: =IF(M31="","",IF(MONTH(M31+1)<>MONTH(M31),"",M31+1)) -> 46259 | O31: =IF(N31="","",IF(MONTH(N31+1)<>MONTH(N31),"",N31+1)) -> 46260 | P31: =IF(O31="","",IF(MONTH(O31+1)<>MONTH(O31),"",O31+1)) -> 46261 | Q31: =IF(P31="","",IF(MONTH(P31+1)<>MONTH(P31),"",P31+1)) -> 46262 | S31: =IF(Y30="","",IF(MONTH(Y30+1)<>MONTH(Y30),"",Y30+1)) -> 46284 | T31: =IF(S31="","",IF(MONTH(S31+1)<>MONTH(S31),"",S31+1)) -> 46285 | U31: =IF(T31="","",IF(MONTH(T31+1)<>MONTH(T31),"",T31+1)) -> 46286 | V31: =IF(U31="","",IF(MONTH(U31+1)<>MONTH(U31),"",U31+1)) -> 46287 | W31: =IF(V31="","",IF(MONTH(V31+1)<>MONTH(V31),"",V31+1)) -> 46288 | X31: =IF(W31="","",IF(MONTH(W31+1)<>MONTH(W31),"",W31+1)) -> 46289 | Y31: =IF(X31="","",IF(MONTH(X31+1)<>MONTH(X31),"",X31+1)) -> 46290
C32: =IF(I31="","",IF(MONTH(I31+1)<>MONTH(I31),"",I31+1)) -> 46228 | D32: =IF(C32="","",IF(MONTH(C32+1)<>MONTH(C32),"",C32+1)) -> 46229 | E32: =IF(D32="","",IF(MONTH(D32+1)<>MONTH(D32),"",D32+1)) -> 46230 | F32: =IF(E32="","",IF(MONTH(E32+1)<>MONTH(E32),"",E32+1)) -> 46231 | G32: =IF(F32="","",IF(MONTH(F32+1)<>MONTH(F32),"",F32+1)) -> 46232 | H32: =IF(G32="","",IF(MONTH(G32+1)<>MONTH(G32),"",G32+1)) -> 46233 | I32: =IF(H32="","",IF(MONTH(H32+1)<>MONTH(H32),"",H32+1)) -> 46234 | K32: =IF(Q31="","",IF(MONTH(Q31+1)<>MONTH(Q31),"",Q31+1)) -> 46263 | L32: =IF(K32="","",IF(MONTH(K32+1)<>MONTH(K32),"",K32+1)) -> 46264 | M32: =IF(L32="","",IF(MONTH(L32+1)<>MONTH(L32),"",L32+1)) -> 46265 | N32: =IF(M32="","",IF(MONTH(M32+1)<>MONTH(M32),"",M32+1)) | O32: =IF(N32="","",IF(MONTH(N32+1)<>MONTH(N32),"",N32+1)) | P32: =IF(O32="","",IF(MONTH(O32+1)<>MONTH(O32),"",O32+1)) | Q32: =IF(P32="","",IF(MONTH(P32+1)<>MONTH(P32),"",P32+1)) | S32: =IF(Y31="","",IF(MONTH(Y31+1)<>MONTH(Y31),"",Y31+1)) -> 46291 | T32: =IF(S32="","",IF(MONTH(S32+1)<>MONTH(S32),"",S32+1)) -> 46292 | U32: =IF(T32="","",IF(MONTH(T32+1)<>MONTH(T32),"",T32+1)) -> 46293 | V32: =IF(U32="","",IF(MONTH(U32+1)<>MONTH(U32),"",U32+1)) -> 46294 | W32: =IF(V32="","",IF(MONTH(V32+1)<>MONTH(V32),"",V32+1)) -> 46295 | X32: =IF(W32="","",IF(MONTH(W32+1)<>MONTH(W32),"",W32+1)) | Y32: =IF(X32="","",IF(MONTH(X32+1)<>MONTH(X32),"",X32+1))
C33: =IF(I32="","",IF(MONTH(I32+1)<>MONTH(I32),"",I32+1)) | D33: =IF(C33="","",IF(MONTH(C33+1)<>MONTH(C33),"",C33+1)) | E33: =IF(D33="","",IF(MONTH(D33+1)<>MONTH(D33),"",D33+1)) | F33: =IF(E33="","",IF(MONTH(E33+1)<>MONTH(E33),"",E33+1)) | G33: =IF(F33="","",IF(MONTH(F33+1)<>MONTH(F33),"",F33+1)) | H33: =IF(G33="","",IF(MONTH(G33+1)<>MONTH(G33),"",G33+1)) | I33: =IF(H33="","",IF(MONTH(H33+1)<>MONTH(H33),"",H33+1)) | K33: =IF(Q32="","",IF(MONTH(Q32+1)<>MONTH(Q32),"",Q32+1)) | L33: =IF(K33="","",IF(MONTH(K33+1)<>MONTH(K33),"",K33+1)) | M33: =IF(L33="","",IF(MONTH(L33+1)<>MONTH(L33),"",L33+1)) | N33: =IF(M33="","",IF(MONTH(M33+1)<>MONTH(M33),"",M33+1)) | O33: =IF(N33="","",IF(MONTH(N33+1)<>MONTH(N33),"",N33+1)) | P33: =IF(O33="","",IF(MONTH(O33+1)<>MONTH(O33),"",O33+1)) | Q33: =IF(P33="","",IF(MONTH(P33+1)<>MONTH(P33),"",P33+1)) | S33: =IF(Y32="","",IF(MONTH(Y32+1)<>MONTH(Y32),"",Y32+1)) | T33: =IF(S33="","",IF(MONTH(S33+1)<>MONTH(S33),"",S33+1)) | U33: =IF(T33="","",IF(MONTH(T33+1)<>MONTH(T33),"",T33+1)) | V33: =IF(U33="","",IF(MONTH(U33+1)<>MONTH(U33),"",U33+1)) | W33: =IF(V33="","",IF(MONTH(V33+1)<>MONTH(V33),"",V33+1)) | X33: =IF(W33="","",IF(MONTH(W33+1)<>MONTH(W33),"",W33+1)) | Y33: =IF(X33="","",IF(MONTH(X33+1)<>MONTH(X33),"",X33+1))
C35: =DATE(YEAR(S26+42),MONTH(S26+42),1) -> 46296 | K35: =DATE(YEAR(C35+42),MONTH(C35+42),1) -> 46327 | S35: =DATE(YEAR(K35+42),MONTH(K35+42),1) -> 46357
C36: =CHOOSE(1+MOD($P$2+1-2,7),"ПН","ВТ","СР","ЧТ","ПТ","СБ","ВС") -> ВС | D36: =CHOOSE(1+MOD($P$2+2-2,7),"ПН","ВТ","СР","ЧТ","ПТ","СБ","ВС") -> ПН | E36: =CHOOSE(1+MOD($P$2+3-2,7),"ПН","ВТ","СР","ЧТ","ПТ","СБ","ВС") -> ВТ | F36: =CHOOSE(1+MOD($P$2+4-2,7),"ПН","ВТ","СР","ЧТ","ПТ","СБ","ВС") -> СР | G36: =CHOOSE(1+MOD($P$2+5-2,7),"ПН","ВТ","СР","ЧТ","ПТ","СБ","ВС") -> ЧТ | H36: =CHOOSE(1+MOD($P$2+6-2,7),"ПН","ВТ","СР","ЧТ","ПТ","СБ","ВС") -> ПТ | I36: =CHOOSE(1+MOD($P$2+7-2,7),"ПН","ВТ","СР","ЧТ","ПТ","СБ","ВС") -> СБ | K36: =CHOOSE(1+MOD($P$2+1-2,7),"ПН","ВТ","СР","ЧТ","ПТ","СБ","ВС") -> ВС | L36: =CHOOSE(1+MOD($P$2+2-2,7),"ПН","ВТ","СР","ЧТ","ПТ","СБ","ВС") -> ПН | M36: =CHOOSE(1+MOD($P$2+3-2,7),"ПН","ВТ","СР","ЧТ","ПТ","СБ","ВС") -> ВТ | N36: =CHOOSE(1+MOD($P$2+4-2,7),"ПН","ВТ","СР","ЧТ","ПТ","СБ","ВС") -> СР | O36: =CHOOSE(1+MOD($P$2+5-2,7),"ПН","ВТ","СР","ЧТ","ПТ","СБ","ВС") -> ЧТ | P36: =CHOOSE(1+MOD($P$2+6-2,7),"ПН","ВТ","СР","ЧТ","ПТ","СБ","ВС") -> ПТ | Q36: =CHOOSE(1+MOD($P$2+7-2,7),"ПН","ВТ","СР","ЧТ","ПТ","СБ","ВС") -> СБ | S36: =CHOOSE(1+MOD($P$2+1-2,7),"ПН","ВТ","СР","ЧТ","ПТ","СБ","ВС") -> ВС | T36: =CHOOSE(1+MOD($P$2+2-2,7),"ПН","ВТ","СР","ЧТ","ПТ","СБ","ВС") -> ПН | U36: =CHOOSE(1+MOD($P$2+3-2,7),"ПН","ВТ","СР","ЧТ","ПТ","СБ","ВС") -> ВТ | V36: =CHOOSE(1+MOD($P$2+4-2,7),"ПН","ВТ","СР","ЧТ","ПТ","СБ","ВС") -> СР | W36: =CHOOSE(1+MOD($P$2+5-2,7),"ПН","ВТ","СР","ЧТ","ПТ","СБ","ВС") -> ЧТ | X36: =CHOOSE(1+MOD($P$2+6-2,7),"ПН","ВТ","СР","ЧТ","ПТ","СБ","ВС") -> ПТ | Y36: =CHOOSE(1+MOD($P$2+7-2,7),"ПН","ВТ","СР","ЧТ","ПТ","СБ","ВС") -> СБ
C37: =IF(WEEKDAY(C35,1)=MOD($P$2-1,7)+1,C35,"") | D37: =IF(C37="",IF(WEEKDAY(C35,1)=MOD($P$2,7)+1,C35,""),C37+1) | E37: =IF(D37="",IF(WEEKDAY(C35,1)=MOD($P$2+1,7)+1,C35,""),D37+1) | F37: =IF(E37="",IF(WEEKDAY(C35,1)=MOD($P$2+2,7)+1,C35,""),E37+1) | G37: =IF(F37="",IF(WEEKDAY(C35,1)=MOD($P$2+3,7)+1,C35,""),F37+1) | H37: =IF(G37="",IF(WEEKDAY(C35,1)=MOD($P$2+4,7)+1,C35,""),G37+1) -> 46296 | I37: =IF(H37="",IF(WEEKDAY(C35,1)=MOD($P$2+5,7)+1,C35,""),H37+1) -> 46297 | K37: =IF(WEEKDAY(K35,1)=MOD($P$2-1,7)+1,K35,"") | L37: =IF(K37="",IF(WEEKDAY(K35,1)=MOD($P$2,7)+1,K35,""),K37+1) -> 46327 | M37: =IF(L37="",IF(WEEKDAY(K35,1)=MOD($P$2+1,7)+1,K35,""),L37+1) -> 46328 | N37: =IF(M37="",IF(WEEKDAY(K35,1)=MOD($P$2+2,7)+1,K35,""),M37+1) -> 46329 | O37: =IF(N37="",IF(WEEKDAY(K35,1)=MOD($P$2+3,7)+1,K35,""),N37+1) -> 46330 | P37: =IF(O37="",IF(WEEKDAY(K35,1)=MOD($P$2+4,7)+1,K35,""),O37+1) -> 46331 | Q37: =IF(P37="",IF(WEEKDAY(K35,1)=MOD($P$2+5,7)+1,K35,""),P37+1) -> 46332 | S37: =IF(WEEKDAY(S35,1)=MOD($P$2-1,7)+1,S35,"") | T37: =IF(S37="",IF(WEEKDAY(S35,1)=MOD($P$2,7)+1,S35,""),S37+1) | U37: =IF(T37="",IF(WEEKDAY(S35,1)=MOD($P$2+1,7)+1,S35,""),T37+1) | V37: =IF(U37="",IF(WEEKDAY(S35,1)=MOD($P$2+2,7)+1,S35,""),U37+1) -> 46357 | W37: =IF(V37="",IF(WEEKDAY(S35,1)=MOD($P$2+3,7)+1,S35,""),V37+1) -> 46358 | X37: =IF(W37="",IF(WEEKDAY(S35,1)=MOD($P$2+4,7)+1,S35,""),W37+1) -> 46359 | Y37: =IF(X37="",IF(WEEKDAY(S35,1)=MOD($P$2+5,7)+1,S35,""),X37+1) -> 46360
C38: =IF(I37="","",IF(MONTH(I37+1)<>MONTH(I37),"",I37+1)) -> 46298 | D38: =IF(C38="","",IF(MONTH(C38+1)<>MONTH(C38),"",C38+1)) -> 46299 | E38: =IF(D38="","",IF(MONTH(D38+1)<>MONTH(D38),"",D38+1)) -> 46300 | F38: =IF(E38="","",IF(MONTH(E38+1)<>MONTH(E38),"",E38+1)) -> 46301 | G38: =IF(F38="","",IF(MONTH(F38+1)<>MONTH(F38),"",F38+1)) -> 46302 | H38: =IF(G38="","",IF(MONTH(G38+1)<>MONTH(G38),"",G38+1)) -> 46303 | I38: =IF(H38="","",IF(MONTH(H38+1)<>MONTH(H38),"",H38+1)) -> 46304 | K38: =IF(Q37="","",IF(MONTH(Q37+1)<>MONTH(Q37),"",Q37+1)) -> 46333 | L38: =IF(K38="","",IF(MONTH(K38+1)<>MONTH(K38),"",K38+1)) -> 46334 | M38: =IF(L38="","",IF(MONTH(L38+1)<>MONTH(L38),"",L38+1)) -> 46335 | N38: =IF(M38="","",IF(MONTH(M38+1)<>MONTH(M38),"",M38+1)) -> 46336 | O38: =IF(N38="","",IF(MONTH(N38+1)<>MONTH(N38),"",N38+1)) -> 46337 | P38: =IF(O38="","",IF(MONTH(O38+1)<>MONTH(O38),"",O38+1)) -> 46338 | Q38: =IF(P38="","",IF(MONTH(P38+1)<>MONTH(P38),"",P38+1)) -> 46339 | S38: =IF(Y37="","",IF(MONTH(Y37+1)<>MONTH(Y37),"",Y37+1)) -> 46361 | T38: =IF(S38="","",IF(MONTH(S38+1)<>MONTH(S38),"",S38+1)) -> 46362 | U38: =IF(T38="","",IF(MONTH(T38+1)<>MONTH(T38),"",T38+1)) -> 46363 | V38: =IF(U38="","",IF(MONTH(U38+1)<>MONTH(U38),"",U38+1)) -> 46364 | W38: =IF(V38="","",IF(MONTH(V38+1)<>MONTH(V38),"",V38+1)) -> 46365 | X38: =IF(W38="","",IF(MONTH(W38+1)<>MONTH(W38),"",W38+1)) -> 46366 | Y38: =IF(X38="","",IF(MONTH(X38+1)<>MONTH(X38),"",X38+1)) -> 46367
C39: =IF(I38="","",IF(MONTH(I38+1)<>MONTH(I38),"",I38+1)) -> 46305 | D39: =IF(C39="","",IF(MONTH(C39+1)<>MONTH(C39),"",C39+1)) -> 46306 | E39: =IF(D39="","",IF(MONTH(D39+1)<>MONTH(D39),"",D39+1)) -> 46307 | F39: =IF(E39="","",IF(MONTH(E39+1)<>MONTH(E39),"",E39+1)) -> 46308 | G39: =IF(F39="","",IF(MONTH(F39+1)<>MONTH(F39),"",F39+1)) -> 46309 | H39: =IF(G39="","",IF(MONTH(G39+1)<>MONTH(G39),"",G39+1)) -> 46310 | I39: =IF(H39="","",IF(MONTH(H39+1)<>MONTH(H39),"",H39+1)) -> 46311 | K39: =IF(Q38="","",IF(MONTH(Q38+1)<>MONTH(Q38),"",Q38+1)) -> 46340 | L39: =IF(K39="","",IF(MONTH(K39+1)<>MONTH(K39),"",K39+1)) -> 46341 | M39: =IF(L39="","",IF(MONTH(L39+1)<>MONTH(L39),"",L39+1)) -> 46342 | N39: =IF(M39="","",IF(MONTH(M39+1)<>MONTH(M39),"",M39+1)) -> 46343 | O39: =IF(N39="","",IF(MONTH(N39+1)<>MONTH(N39),"",N39+1)) -> 46344 | P39: =IF(O39="","",IF(MONTH(O39+1)<>MONTH(O39),"",O39+1)) -> 46345 | Q39: =IF(P39="","",IF(MONTH(P39+1)<>MONTH(P39),"",P39+1)) -> 46346 | S39: =IF(Y38="","",IF(MONTH(Y38+1)<>MONTH(Y38),"",Y38+1)) -> 46368 | T39: =IF(S39="","",IF(MONTH(S39+1)<>MONTH(S39),"",S39+1)) -> 46369 | U39: =IF(T39="","",IF(MONTH(T39+1)<>MONTH(T39),"",T39+1)) -> 46370 | V39: =IF(U39="","",IF(MONTH(U39+1)<>MONTH(U39),"",U39+1)) -> 46371 | W39: =IF(V39="","",IF(MONTH(V39+1)<>MONTH(V39),"",V39+1)) -> 46372 | X39: =IF(W39="","",IF(MONTH(W39+1)<>MONTH(W39),"",W39+1)) -> 46373 | Y39: =IF(X39="","",IF(MONTH(X39+1)<>MONTH(X39),"",X39+1)) -> 46374
C40: =IF(I39="","",IF(MONTH(I39+1)<>MONTH(I39),"",I39+1)) -> 46312 | D40: =IF(C40="","",IF(MONTH(C40+1)<>MONTH(C40),"",C40+1)) -> 46313 | E40: =IF(D40="","",IF(MONTH(D40+1)<>MONTH(D40),"",D40+1)) -> 46314 | F40: =IF(E40="","",IF(MONTH(E40+1)<>MONTH(E40),"",E40+1)) -> 46315 | G40: =IF(F40="","",IF(MONTH(F40+1)<>MONTH(F40),"",F40+1)) -> 46316 | H40: =IF(G40="","",IF(MONTH(G40+1)<>MONTH(G40),"",G40+1)) -> 46317 | I40: =IF(H40="","",IF(MONTH(H40+1)<>MONTH(H40),"",H40+1)) -> 46318 | K40: =IF(Q39="","",IF(MONTH(Q39+1)<>MONTH(Q39),"",Q39+1)) -> 46347 | L40: =IF(K40="","",IF(MONTH(K40+1)<>MONTH(K40),"",K40+1)) -> 46348 | M40: =IF(L40="","",IF(MONTH(L40+1)<>MONTH(L40),"",L40+1)) -> 46349 | N40: =IF(M40="","",IF(MONTH(M40+1)<>MONTH(M40),"",M40+1)) -> 46350 | O40: =IF(N40="","",IF(MONTH(N40+1)<>MONTH(N40),"",N40+1)) -> 46351 | P40: =IF(O40="","",IF(MONTH(O40+1)<>MONTH(O40),"",O40+1)) -> 46352 | Q40: =IF(P40="","",IF(MONTH(P40+1)<>MONTH(P40),"",P40+1)) -> 46353 | S40: =IF(Y39="","",IF(MONTH(Y39+1)<>MONTH(Y39),"",Y39+1)) -> 46375 | T40: =IF(S40="","",IF(MONTH(S40+1)<>MONTH(S40),"",S40+1)) -> 46376 | U40: =IF(T40="","",IF(MONTH(T40+1)<>MONTH(T40),"",T40+1)) -> 46377 | V40: =IF(U40="","",IF(MONTH(U40+1)<>MONTH(U40),"",U40+1)) -> 46378 | W40: =IF(V40="","",IF(MONTH(V40+1)<>MONTH(V40),"",V40+1)) -> 46379 | X40: =IF(W40="","",IF(MONTH(W40+1)<>MONTH(W40),"",W40+1)) -> 46380 | Y40: =IF(X40="","",IF(MONTH(X40+1)<>MONTH(X40),"",X40+1)) -> 46381
C41: =IF(I40="","",IF(MONTH(I40+1)<>MONTH(I40),"",I40+1)) -> 46319 | D41: =IF(C41="","",IF(MONTH(C41+1)<>MONTH(C41),"",C41+1)) -> 46320 | E41: =IF(D41="","",IF(MONTH(D41+1)<>MONTH(D41),"",D41+1)) -> 46321 | F41: =IF(E41="","",IF(MONTH(E41+1)<>MONTH(E41),"",E41+1)) -> 46322 | G41: =IF(F41="","",IF(MONTH(F41+1)<>MONTH(F41),"",F41+1)) -> 46323 | H41: =IF(G41="","",IF(MONTH(G41+1)<>MONTH(G41),"",G41+1)) -> 46324 | I41: =IF(H41="","",IF(MONTH(H41+1)<>MONTH(H41),"",H41+1)) -> 46325 | K41: =IF(Q40="","",IF(MONTH(Q40+1)<>MONTH(Q40),"",Q40+1)) -> 46354 | L41: =IF(K41="","",IF(MONTH(K41+1)<>MONTH(K41),"",K41+1)) -> 46355 | M41: =IF(L41="","",IF(MONTH(L41+1)<>MONTH(L41),"",L41+1)) -> 46356 | N41: =IF(M41="","",IF(MONTH(M41+1)<>MONTH(M41),"",M41+1)) | O41: =IF(N41="","",IF(MONTH(N41+1)<>MONTH(N41),"",N41+1)) | P41: =IF(O41="","",IF(MONTH(O41+1)<>MONTH(O41),"",O41+1)) | Q41: =IF(P41="","",IF(MONTH(P41+1)<>MONTH(P41),"",P41+1)) | S41: =IF(Y40="","",IF(MONTH(Y40+1)<>MONTH(Y40),"",Y40+1)) -> 46382 | T41: =IF(S41="","",IF(MONTH(S41+1)<>MONTH(S41),"",S41+1)) -> 46383 | U41: =IF(T41="","",IF(MONTH(T41+1)<>MONTH(T41),"",T41+1)) -> 46384 | V41: =IF(U41="","",IF(MONTH(U41+1)<>MONTH(U41),"",U41+1)) -> 46385 | W41: =IF(V41="","",IF(MONTH(V41+1)<>MONTH(V41),"",V41+1)) -> 46386 | X41: =IF(W41="","",IF(MONTH(W41+1)<>MONTH(W41),"",W41+1)) -> 46387 | Y41: =IF(X41="","",IF(MONTH(X41+1)<>MONTH(X41),"",X41+1))
C42: =IF(I41="","",IF(MONTH(I41+1)<>MONTH(I41),"",I41+1)) -> 46326 | D42: =IF(C42="","",IF(MONTH(C42+1)<>MONTH(C42),"",C42+1)) | E42: =IF(D42="","",IF(MONTH(D42+1)<>MONTH(D42),"",D42+1)) | F42: =IF(E42="","",IF(MONTH(E42+1)<>MONTH(E42),"",E42+1)) | G42: =IF(F42="","",IF(MONTH(F42+1)<>MONTH(F42),"",F42+1)) | H42: =IF(G42="","",IF(MONTH(G42+1)<>MONTH(G42),"",G42+1)) | I42: =IF(H42="","",IF(MONTH(H42+1)<>MONTH(H42),"",H42+1)) | K42: =IF(Q41="","",IF(MONTH(Q41+1)<>MONTH(Q41),"",Q41+1)) | L42: =IF(K42="","",IF(MONTH(K42+1)<>MONTH(K42),"",K42+1)) | M42: =IF(L42="","",IF(MONTH(L42+1)<>MONTH(L42),"",L42+1)) | N42: =IF(M42="","",IF(MONTH(M42+1)<>MONTH(M42),"",M42+1)) | O42: =IF(N42="","",IF(MONTH(N42+1)<>MONTH(N42),"",N42+1)) | P42: =IF(O42="","",IF(MONTH(O42+1)<>MONTH(O42),"",O42+1)) | Q42: =IF(P42="","",IF(MONTH(P42+1)<>MONTH(P42),"",P42+1)) | S42: =IF(Y41="","",IF(MONTH(Y41+1)<>MONTH(Y41),"",Y41+1)) | T42: =IF(S42="","",IF(MONTH(S42+1)<>MONTH(S42),"",S42+1)) | U42: =IF(T42="","",IF(MONTH(T42+1)<>MONTH(T42),"",T42+1)) | V42: =IF(U42="","",IF(MONTH(U42+1)<>MONTH(U42),"",U42+1)) | W42: =IF(V42="","",IF(MONTH(V42+1)<>MONTH(V42),"",V42+1)) | X42: =IF(W42="","",IF(MONTH(W42+1)<>MONTH(W42),"",W42+1)) | Y42: =IF(X42="","",IF(MONTH(X42+1)<>MONTH(X42),"",X42+1))

Sheet Лист2
D2: Год | E2: =IF(MONTH(TODAY())=12,YEAR(TODAY())+1,YEAR(TODAY())) -> 2026 | J2: Месяц | K2: 1 | O2: День начала | P2: 7 | R2: 1:Вс, 2:Пн …
C5: 2025
C8: =DATE(E2,K2,1) -> 46023 | K8: =DATE(YEAR(C8+42),MONTH(C8+42),1) -> 46054 | S8: =DATE(YEAR(K8+42),MONTH(K8+42),1) -> 46082
C9: =CHOOSE(1+MOD($P$2+1-2,7),"ПН","ВТ","СР","ЧТ","ПТ","СБ","ВС") -> ВС | D9: =CHOOSE(1+MOD($P$2+2-2,7),"ПН","ВТ","СР","ЧТ","ПТ","СБ","ВС") -> ПН | E9: =CHOOSE(1+MOD($P$2+3-2,7),"ПН","ВТ","СР","ЧТ","ПТ","СБ","ВС") -> ВТ | F9: =CHOOSE(1+MOD($P$2+4-2,7),"ПН","ВТ","СР","ЧТ","ПТ","СБ","ВС") -> СР | G9: =CHOOSE(1+MOD($P$2+5-2,7),"ПН","ВТ","СР","ЧТ","ПТ","СБ","ВС") -> ЧТ | H9: =CHOOSE(1+MOD($P$2+6-2,7),"ПН","ВТ","СР","ЧТ","ПТ","СБ","ВС") -> ПТ | I9: =CHOOSE(1+MOD($P$2+7-2,7),"ПН","ВТ","СР","ЧТ","ПТ","СБ","ВС") -> СБ | K9: =CHOOSE(1+MOD($P$2+1-2,7),"ПН","ВТ","СР","ЧТ","ПТ","СБ","ВС") -> ВС | L9: =CHOOSE(1+MOD($P$2+2-2,7),"ПН","ВТ","СР","ЧТ","ПТ","СБ","ВС") -> ПН | M9: =CHOOSE(1+MOD($P$2+3-2,7),"ПН","ВТ","СР","ЧТ","ПТ","СБ","ВС") -> ВТ | N9: =CHOOSE(1+MOD($P$2+4-2,7),"ПН","ВТ","СР","ЧТ","ПТ","СБ","ВС") -> СР | O9: =CHOOSE(1+MOD($P$2+5-2,7),"ПН","ВТ","СР","ЧТ","ПТ","СБ","ВС") -> ЧТ | P9: =CHOOSE(1+MOD($P$2+6-2,7),"ПН","ВТ","СР","ЧТ","ПТ","СБ","ВС") -> ПТ | Q9: =CHOOSE(1+MOD($P$2+7-2,7),"ПН","ВТ","СР","ЧТ","ПТ","СБ","ВС") -> СБ | S9: =CHOOSE(1+MOD($P$2+1-2,7),"ПН","ВТ","СР","ЧТ","ПТ","СБ","ВС") -> ВС | T9: =CHOOSE(1+MOD($P$2+2-2,7),"ПН","ВТ","СР","ЧТ","ПТ","СБ","ВС") -> ПН | U9: =CHOOSE(1+MOD($P$2+3-2,7),"ПН","ВТ","СР","ЧТ","ПТ","СБ","ВС") -> ВТ | V9: =CHOOSE(1+MOD($P$2+4-2,7),"ПН","ВТ","СР","ЧТ","ПТ","СБ","ВС") -> СР | W9: =CHOOSE(1+MOD($P$2+5-2,7),"ПН","ВТ","СР","ЧТ","ПТ","СБ","ВС") -> ЧТ | X9: =CHOOSE(1+MOD($P$2+6-2,7),"ПН","ВТ","СР","ЧТ","ПТ","СБ","ВС") -> ПТ | Y9: =CHOOSE(1+MOD($P$2+7-2,7),"ПН","ВТ","СР","ЧТ","ПТ","СБ","ВС") -> СБ
G10: 45658 | H10: 45659 | I10: 45660 | K10: 1 | L10: 2 | M10: 3 | S10: 45717 | T10: 45718 | U10: 45719 | V10: 45720 | W10: 45721 | X10: 45722 | Y10: 45723
C11: 45661 | D11: 45662 | E11: 45663 | F11: 45664 | G11: 45665 | H11: 45666 | I11: 45667 | S11: 45724 | T11: 45725 | U11: 45726 | V11: 45727 | W11: 45728 | X11: 45729 | Y11: 45730
C12: 45668 | D12: 45669 | E12: 45670 | F12: 45671 | G12: 45672 | H12: 45673 | I12: 45674 | S12: 45731 | T12: 45732 | U12: 45733 | V12: 45734 | W12: 45735 | X12: 45736 | Y12: 45737
C13: 45675 | D13: 45676 | E13: 45677 | F13: 45678 | G13: 45679 | H13: 45680 | I13: 45681 | S13: 45738 | T13: 45739 | U13: 45740 | V13: 45741 | W13: 45742 | X13: 45743 | Y13: 45744
C14: 45682 | D14: 45683 | E14: 45684 | F14: 45685 | G14: 45686 | H14: 45687 | I14: 45688 | S14: 45745 | T14: 45746 | U14: 45747
C17: =DATE(YEAR(S8+42),MONTH(S8+42),1) -> 46113 | K17: =DATE(YEAR(C17+42),MONTH(C17+42),1) -> 46143 | S17: =DATE(YEAR(K17+42),MONTH(K17+42),1) -> 46174
C18: =CHOOSE(1+MOD($P$2+1-2,7),"ПН","ВТ","СР","ЧТ","ПТ","СБ","ВС") -> ВС | D18: =CHOOSE(1+MOD($P$2+2-2,7),"ПН","ВТ","СР","ЧТ","ПТ","СБ","ВС") -> ПН | E18: =CHOOSE(1+MOD($P$2+3-2,7),"ПН","ВТ","СР","ЧТ","ПТ","СБ","ВС") -> ВТ | F18: =CHOOSE(1+MOD($P$2+4-2,7),"ПН","ВТ","СР","ЧТ","ПТ","СБ","ВС") -> СР | G18: =CHOOSE(1+MOD($P$2+5-2,7),"ПН","ВТ","СР","ЧТ","ПТ","СБ","ВС") -> ЧТ | H18: =CHOOSE(1+MOD($P$2+6-2,7),"ПН","ВТ","СР","ЧТ","ПТ","СБ","ВС") -> ПТ | I18: =CHOOSE(1+MOD($P$2+7-2,7),"ПН","ВТ","СР","ЧТ","ПТ","СБ","ВС") -> СБ | K18: =CHOOSE(1+MOD($P$2+1-2,7),"ПН","ВТ","СР","ЧТ","ПТ","СБ","ВС") -> ВС | L18: =CHOOSE(1+MOD($P$2+2-2,7),"ПН","ВТ","СР","ЧТ","ПТ","СБ","ВС") -> ПН | M18: =CHOOSE(1+MOD($P$2+3-2,7),"ПН","ВТ","СР","ЧТ","ПТ","СБ","ВС") -> ВТ | N18: =CHOOSE(1+MOD($P$2+4-2,7),"ПН","ВТ","СР","ЧТ","ПТ","СБ","ВС") -> СР | O18: =CHOOSE(1+MOD($P$2+5-2,7),"ПН","ВТ","СР","ЧТ","ПТ","СБ","ВС") -> ЧТ | P18: =CHOOSE(1+MOD($P$2+6-2,7),"ПН","ВТ","СР","ЧТ","ПТ","СБ","ВС") -> ПТ | Q18: =CHOOSE(1+MOD($P$2+7-2,7),"ПН","ВТ","СР","ЧТ","ПТ","СБ","ВС") -> СБ | S18: =CHOOSE(1+MOD($P$2+1-2,7),"ПН","ВТ","СР","ЧТ","ПТ","СБ","ВС") -> ВС | T18: =CHOOSE(1+MOD($P$2+2-2,7),"ПН","ВТ","СР","ЧТ","ПТ","СБ","ВС") -> ПН | U18: =CHOOSE(1+MOD($P$2+3-2,7),"ПН","ВТ","СР","ЧТ","ПТ","СБ","ВС") -> ВТ | V18: =CHOOSE(1+MOD($P$2+4-2,7),"ПН","ВТ","СР","ЧТ","ПТ","СБ","ВС") -> СР | W18: =CHOOSE(1+MOD($P$2+5-2,7),"ПН","ВТ","СР","ЧТ","ПТ","СБ","ВС") -> ЧТ | X18: =CHOOSE(1+MOD($P$2+6-2,7),"ПН","ВТ","СР","ЧТ","ПТ","СБ","ВС") -> ПТ | Y18: =CHOOSE(1+MOD($P$2+7-2,7),"ПН","ВТ","СР","ЧТ","ПТ","СБ","ВС") -> СБ
C19: =IF(WEEKDAY(C17,1)=MOD($P$2-1,7)+1,C17,"") | D19: =IF(C19="",IF(WEEKDAY(C17,1)=MOD($P$2,7)+1,C17,""),C19+1) | E19: =IF(D19="",IF(WEEKDAY(C17,1)=MOD($P$2+1,7)+1,C17,""),D19+1) | F19: =IF(E19="",IF(WEEKDAY(C17,1)=MOD($P$2+2,7)+1,C17,""),E19+1) | G19: =IF(F19="",IF(WEEKDAY(C17,1)=MOD($P$2+3,7)+1,C17,""),F19+1) -> 46113 | H19: =IF(G19="",IF(WEEKDAY(C17,1)=MOD($P$2+4,7)+1,C17,""),G19+1) -> 46114 | I19: =IF(H19="",IF(WEEKDAY(C17,1)=MOD($P$2+5,7)+1,C17,""),H19+1) -> 46115 | K19: =IF(WEEKDAY(K17,1)=MOD($P$2-1,7)+1,K17,"") | L19: =IF(K19="",IF(WEEKDAY(K17,1)=MOD($P$2,7)+1,K17,""),K19+1) | M19: =IF(L19="",IF(WEEKDAY(K17,1)=MOD($P$2+1,7)+1,K17,""),L19+1) | N19: =IF(M19="",IF(WEEKDAY(K17,1)=MOD($P$2+2,7)+1,K17,""),M19+1) | O19: =IF(N19="",IF(WEEKDAY(K17,1)=MOD($P$2+3,7)+1,K17,""),N19+1) | P19: =IF(O19="",IF(WEEKDAY(K17,1)=MOD($P$2+4,7)+1,K17,""),O19+1) | Q19: =IF(P19="",IF(WEEKDAY(K17,1)=MOD($P$2+5,7)+1,K17,""),P19+1) -> 46143 | S19: =IF(WEEKDAY(S17,1)=MOD($P$2-1,7)+1,S17,"") | T19: =IF(S19="",IF(WEEKDAY(S17,1)=MOD($P$2,7)+1,S17,""),S19+1) | U19: =IF(T19="",IF(WEEKDAY(S17,1)=MOD($P$2+1,7)+1,S17,""),T19+1) -> 46174 | V19: =IF(U19="",IF(WEEKDAY(S17,1)=MOD($P$2+2,7)+1,S17,""),U19+1) -> 46175 | W19: =IF(V19="",IF(WEEKDAY(S17,1)=MOD($P$2+3,7)+1,S17,""),V19+1) -> 46176 | X19: =IF(W19="",IF(WEEKDAY(S17,1)=MOD($P$2+4,7)+1,S17,""),W19+1) -> 46177 | Y19: =IF(X19="",IF(WEEKDAY(S17,1)=MOD($P$2+5,7)+1,S17,""),X19+1) -> 46178
C20: =IF(I19="","",IF(MONTH(I19+1)<>MONTH(I19),"",I19+1)) -> 46116 | D20: =IF(C20="","",IF(MONTH(C20+1)<>MONTH(C20),"",C20+1)) -> 46117 | E20: =IF(D20="","",IF(MONTH(D20+1)<>MONTH(D20),"",D20+1)) -> 46118 | F20: =IF(E20="","",IF(MONTH(E20+1)<>MONTH(E20),"",E20+1)) -> 46119 | G20: =IF(F20="","",IF(MONTH(F20+1)<>MONTH(F20),"",F20+1)) -> 46120 | H20: =IF(G20="","",IF(MONTH(G20+1)<>MONTH(G20),"",G20+1)) -> 46121 | I20: =IF(H20="","",IF(MONTH(H20+1)<>MONTH(H20),"",H20+1)) -> 46122 | K20: =IF(Q19="","",IF(MONTH(Q19+1)<>MONTH(Q19),"",Q19+1)) -> 46144 | L20: =IF(K20="","",IF(MONTH(K20+1)<>MONTH(K20),"",K20+1)) -> 46145 | M20: =IF(L20="","",IF(MONTH(L20+1)<>MONTH(L20),"",L20+1)) -> 46146 | N20: =IF(M20="","",IF(MONTH(M20+1)<>MONTH(M20),"",M20+1)) -> 46147 | O20: =IF(N20="","",IF(MONTH(N20+1)<>MONTH(N20),"",N20+1)) -> 46148 | P20: =IF(O20="","",IF(MONTH(O20+1)<>MONTH(O20),"",O20+1)) -> 46149 | Q20: =IF(P20="","",IF(MONTH(P20+1)<>MONTH(P20),"",P20+1)) -> 46150 | S20: =IF(Y19="","",IF(MONTH(Y19+1)<>MONTH(Y19),"",Y19+1)) -> 46179 | T20: =IF(S20="","",IF(MONTH(S20+1)<>MONTH(S20),"",S20+1)) -> 46180 | U20: =IF(T20="","",IF(MONTH(T20+1)<>MONTH(T20),"",T20+1)) -> 46181 | V20: =IF(U20="","",IF(MONTH(U20+1)<>MONTH(U20),"",U20+1)) -> 46182 | W20: =IF(V20="","",IF(MONTH(V20+1)<>MONTH(V20),"",V20+1)) -> 46183 | X20: =IF(W20="","",IF(MONTH(W20+1)<>MONTH(W20),"",W20+1)) -> 46184 | Y20: =IF(X20="","",IF(MONTH(X20+1)<>MONTH(X20),"",X20+1)) -> 46185
C21: =IF(I20="","",IF(MONTH(I20+1)<>MONTH(I20),"",I20+1)) -> 46123 | D21: =IF(C21="","",IF(MONTH(C21+1)<>MONTH(C21),"",C21+1)) -> 46124 | E21: =IF(D21="","",IF(MONTH(D21+1)<>MONTH(D21),"",D21+1)) -> 46125 | F21: =IF(E21="","",IF(MONTH(E21+1)<>MONTH(E21),"",E21+1)) -> 46126 | G21: =IF(F21="","",IF(MONTH(F21+1)<>MONTH(F21),"",F21+1)) -> 46127 | H21: =IF(G21="","",IF(MONTH(G21+1)<>MONTH(G21),"",G21+1)) -> 46128 | I21: =IF(H21="","",IF(MONTH(H21+1)<>MONTH(H21),"",H21+1)) -> 46129 | K21: =IF(Q20="","",IF(MONTH(Q20+1)<>MONTH(Q20),"",Q20+1)) -> 46151 | L21: =IF(K21="","",IF(MONTH(K21+1)<>MONTH(K21),"",K21+1)) -> 46152 | M21: =IF(L21="","",IF(MONTH(L21+1)<>MONTH(L21),"",L21+1)) -> 46153 | N21: =IF(M21="","",IF(MONTH(M21+1)<>MONTH(M21),"",M21+1)) -> 46154 | O21: =IF(N21="","",IF(MONTH(N21+1)<>MONTH(N21),"",N21+1)) -> 46155 | P21: =IF(O21="","",IF(MONTH(O21+1)<>MONTH(O21),"",O21+1)) -> 46156 | Q21: =IF(P21="","",IF(MONTH(P21+1)<>MONTH(P21),"",P21+1)) -> 46157 | S21: =IF(Y20="","",IF(MONTH(Y20+1)<>MONTH(Y20),"",Y20+1)) -> 46186 | T21: =IF(S21="","",IF(MONTH(S21+1)<>MONTH(S21),"",S21+1)) -> 46187 | U21: =IF(T21="","",IF(MONTH(T21+1)<>MONTH(T21),"",T21+1)) -> 46188 | V21: =IF(U21="","",IF(MONTH(U21+1)<>MONTH(U21),"",U21+1)) -> 46189 | W21: =IF(V21="","",IF(MONTH(V21+1)<>MONTH(V21),"",V21+1)) -> 46190 | X21: =IF(W21="","",IF(MONTH(W21+1)<>MONTH(W21),"",W21+1)) -> 46191 | Y21: =IF(X21="","",IF(MONTH(X21+1)<>MONTH(X21),"",X21+1)) -> 46192
C22: =IF(I21="","",IF(MONTH(I21+1)<>MONTH(I21),"",I21+1)) -> 46130 | D22: =IF(C22="","",IF(MONTH(C22+1)<>MONTH(C22),"",C22+1)) -> 46131 | E22: =IF(D22="","",IF(MONTH(D22+1)<>MONTH(D22),"",D22+1)) -> 46132 | F22: =IF(E22="","",IF(MONTH(E22+1)<>MONTH(E22),"",E22+1)) -> 46133 | G22: =IF(F22="","",IF(MONTH(F22+1)<>MONTH(F22),"",F22+1)) -> 46134 | H22: =IF(G22="","",IF(MONTH(G22+1)<>MONTH(G22),"",G22+1)) -> 46135 | I22: =IF(H22="","",IF(MONTH(H22+1)<>MONTH(H22),"",H22+1)) -> 46136 | K22: =IF(Q21="","",IF(MONTH(Q21+1)<>MONTH(Q21),"",Q21+1)) -> 46158 | L22: =IF(K22="","",IF(MONTH(K22+1)<>MONTH(K22),"",K22+1)) -> 46159 | M22: =IF(L22="","",IF(MONTH(L22+1)<>MONTH(L22),"",L22+1)) -> 46160 | N22: =IF(M22="","",IF(MONTH(M22+1)<>MONTH(M22),"",M22+1)) -> 46161 | O22: =IF(N22="","",IF(MONTH(N22+1)<>MONTH(N22),"",N22+1)) -> 46162 | P22: =IF(O22="","",IF(MONTH(O22+1)<>MONTH(O22),"",O22+1)) -> 46163 | Q22: =IF(P22="","",IF(MONTH(P22+1)<>MONTH(P22),"",P22+1)) -> 46164 | S22: =IF(Y21="","",IF(MONTH(Y21+1)<>MONTH(Y21),"",Y21+1)) -> 46193 | T22: =IF(S22="","",IF(MONTH(S22+1)<>MONTH(S22),"",S22+1)) -> 46194 | U22: =IF(T22="","",IF(MONTH(T22+1)<>MONTH(T22),"",T22+1)) -> 46195 | V22: =IF(U22="","",IF(MONTH(U22+1)<>MONTH(U22),"",U22+1)) -> 46196 | W22: =IF(V22="","",IF(MONTH(V22+1)<>MONTH(V22),"",V22+1)) -> 46197 | X22: =IF(W22="","",IF(MONTH(W22+1)<>MONTH(W22),"",W22+1)) -> 46198 | Y22: =IF(X22="","",IF(MONTH(X22+1)<>MONTH(X22),"",X22+1)) -> 46199
C23: =IF(I22="","",IF(MONTH(I22+1)<>MONTH(I22),"",I22+1)) -> 46137 | D23: =IF(C23="","",IF(MONTH(C23+1)<>MONTH(C23),"",C23+1)) -> 46138 | E23: =IF(D23="","",IF(MONTH(D23+1)<>MONTH(D23),"",D23+1)) -> 46139 | F23: =IF(E23="","",IF(MONTH(E23+1)<>MONTH(E23),"",E23+1)) -> 46140 | G23: =IF(F23="","",IF(MONTH(F23+1)<>MONTH(F23),"",F23+1)) -> 46141 | H23: =IF(G23="","",IF(MONTH(G23+1)<>MONTH(G23),"",G23+1)) -> 46142 | I23: =IF(H23="","",IF(MONTH(H23+1)<>MONTH(H23),"",H23+1)) | K23: =IF(Q22="","",IF(MONTH(Q22+1)<>MONTH(Q22),"",Q22+1)) -> 46165 | L23: =IF(K23="","",IF(MONTH(K23+1)<>MONTH(K23),"",K23+1)) -> 46166 | M23: =IF(L23="","",IF(MONTH(L23+1)<>MONTH(L23),"",L23+1)) -> 46167 | N23: =IF(M23="","",IF(MONTH(M23+1)<>MONTH(M23),"",M23+1)) -> 46168 | O23: =IF(N23="","",IF(MONTH(N23+1)<>MONTH(N23),"",N23+1)) -> 46169 | P23: =IF(O23="","",IF(MONTH(O23+1)<>MONTH(O23),"",O23+1)) -> 46170 | Q23: =IF(P23="","",IF(MONTH(P23+1)<>MONTH(P23),"",P23+1)) -> 46171 | S23: =IF(Y22="","",IF(MONTH(Y22+1)<>MONTH(Y22),"",Y22+1)) -> 46200 | T23: =IF(S23="","",IF(MONTH(S23+1)<>MONTH(S23),"",S23+1)) -> 46201 | U23: =IF(T23="","",IF(MONTH(T23+1)<>MONTH(T23),"",T23+1)) -> 46202 | V23: =IF(U23="","",IF(MONTH(U23+1)<>MONTH(U23),"",U23+1)) -> 46203 | W23: =IF(V23="","",IF(MONTH(V23+1)<>MONTH(V23),"",V23+1)) | X23: =IF(W23="","",IF(MONTH(W23+1)<>MONTH(W23),"",W23+1)) | Y23: =IF(X23="","",IF(MONTH(X23+1)<>MONTH(X23),"",X23+1))
C24: =IF(I23="","",IF(MONTH(I23+1)<>MONTH(I23),"",I23+1)) | D24: =IF(C24="","",IF(MONTH(C24+1)<>MONTH(C24),"",C24+1)) | E24: =IF(D24="","",IF(MONTH(D24+1)<>MONTH(D24),"",D24+1)) | F24: =IF(E24="","",IF(MONTH(E24+1)<>MONTH(E24),"",E24+1)) | G24: =IF(F24="","",IF(MONTH(F24+1)<>MONTH(F24),"",F24+1)) | H24: =IF(G24="","",IF(MONTH(G24+1)<>MONTH(G24),"",G24+1)) | I24: =IF(H24="","",IF(MONTH(H24+1)<>MONTH(H24),"",H24+1)) | K24: =IF(Q23="","",IF(MONTH(Q23+1)<>MONTH(Q23),"",Q23+1)) -> 46172 | L24: =IF(K24="","",IF(MONTH(K24+1)<>MONTH(K24),"",K24+1)) -> 46173 | M24: =IF(L24="","",IF(MONTH(L24+1)<>MONTH(L24),"",L24+1)) | N24: =IF(M24="","",IF(MONTH(M24+1)<>MONTH(M24),"",M24+1)) | O24: =IF(N24="","",IF(MONTH(N24+1)<>MONTH(N24),"",N24+1)) | P24: =IF(O24="","",IF(MONTH(O24+1)<>MONTH(O24),"",O24+1)) | Q24: =IF(P24="","",IF(MONTH(P24+1)<>MONTH(P24),"",P24+1)) | S24: =IF(Y23="","",IF(MONTH(Y23+1)<>MONTH(Y23),"",Y23+1)) | T24: =IF(S24="","",IF(MONTH(S24+1)<>MONTH(S24),"",S24+1)) | U24: =IF(T24="","",IF(MONTH(T24+1)<>MONTH(T24),"",T24+1)) | V24: =IF(U24="","",IF(MONTH(U24+1)<>MONTH(U24),"",U24+1)) | W24: =IF(V24="","",IF(MONTH(V24+1)<>MONTH(V24),"",V24+1)) | X24: =IF(W24="","",IF(MONTH(W24+1)<>MONTH(W24),"",W24+1)) | Y24: =IF(X24="","",IF(MONTH(X24+1)<>MONTH(X24),"",X24+1))
C26: =DATE(YEAR(S17+42),MONTH(S17+42),1) -> 46204 | K26: =DATE(YEAR(C26+42),MONTH(C26+42),1) -> 46235 | S26: =DATE(YEAR(K26+42),MONTH(K26+42),1) -> 46266
C27: =CHOOSE(1+MOD($P$2+1-2,7),"ПН","ВТ","СР","ЧТ","ПТ","СБ","ВС") -> ВС | D27: =CHOOSE(1+MOD($P$2+2-2,7),"ПН","ВТ","СР","ЧТ","ПТ","СБ","ВС") -> ПН | E27: =CHOOSE(1+MOD($P$2+3-2,7),"ПН","ВТ","СР","ЧТ","ПТ","СБ","ВС") -> ВТ | F27: =CHOOSE(1+MOD($P$2+4-2,7),"ПН","ВТ","СР","ЧТ","ПТ","СБ","ВС") -> СР | G27: =CHOOSE(1+MOD($P$2+5-2,7),"ПН","ВТ","СР","ЧТ","ПТ","СБ","ВС") -> ЧТ | H27: =CHOOSE(1+MOD($P$2+6-2,7),"ПН","ВТ","СР","ЧТ","ПТ","СБ","ВС") -> ПТ | I27: =CHOOSE(1+MOD($P$2+7-2,7),"ПН","ВТ","СР","ЧТ","ПТ","СБ","ВС") -> СБ | K27: =CHOOSE(1+MOD($P$2+1-2,7),"ПН","ВТ","СР","ЧТ","ПТ","СБ","ВС") -> ВС | L27: =CHOOSE(1+MOD($P$2+2-2,7),"ПН","ВТ","СР","ЧТ","ПТ","СБ","ВС") -> ПН | M27: =CHOOSE(1+MOD($P$2+3-2,7),"ПН","ВТ","СР","ЧТ","ПТ","СБ","ВС") -> ВТ | N27: =CHOOSE(1+MOD($P$2+4-2,7),"ПН","ВТ","СР","ЧТ","ПТ","СБ","ВС") -> СР | O27: =CHOOSE(1+MOD($P$2+5-2,7),"ПН","ВТ","СР","ЧТ","ПТ","СБ","ВС") -> ЧТ | P27: =CHOOSE(1+MOD($P$2+6-2,7),"ПН","ВТ","СР","ЧТ","ПТ","СБ","ВС") -> ПТ | Q27: =CHOOSE(1+MOD($P$2+7-2,7),"ПН","ВТ","СР","ЧТ","ПТ","СБ","ВС") -> СБ | S27: =CHOOSE(1+MOD($P$2+1-2,7),"ПН","ВТ","СР","ЧТ","ПТ","СБ","ВС") -> ВС | T27: =CHOOSE(1+MOD($P$2+2-2,7),"ПН","ВТ","СР","ЧТ","ПТ","СБ","ВС") -> ПН | U27: =CHOOSE(1+MOD($P$2+3-2,7),"ПН","ВТ","СР","ЧТ","ПТ","СБ","ВС") -> ВТ | V27: =CHOOSE(1+MOD($P$2+4-2,7),"ПН","ВТ","СР","ЧТ","ПТ","СБ","ВС") -> СР | W27: =CHOOSE(1+MOD($P$2+5-2,7),"ПН","ВТ","СР","ЧТ","ПТ","СБ","ВС") -> ЧТ | X27: =CHOOSE(1+MOD($P$2+6-2,7),"ПН","ВТ","СР","ЧТ","ПТ","СБ","ВС") -> ПТ | Y27: =CHOOSE(1+MOD($P$2+7-2,7),"ПН","ВТ","СР","ЧТ","ПТ","СБ","ВС") -> СБ
C28: =IF(WEEKDAY(C26,1)=MOD($P$2-1,7)+1,C26,"") | D28: =IF(C28="",IF(WEEKDAY(C26,1)=MOD($P$2,7)+1,C26,""),C28+1) | E28: =IF(D28="",IF(WEEKDAY(C26,1)=MOD($P$2+1,7)+1,C26,""),D28+1) | F28: =IF(E28="",IF(WEEKDAY(C26,1)=MOD($P$2+2,7)+1,C26,""),E28+1) | G28: =IF(F28="",IF(WEEKDAY(C26,1)=MOD($P$2+3,7)+1,C26,""),F28+1) -> 46204 | H28: =IF(G28="",IF(WEEKDAY(C26,1)=MOD($P$2+4,7)+1,C26,""),G28+1) -> 46205 | I28: =IF(H28="",IF(WEEKDAY(C26,1)=MOD($P$2+5,7)+1,C26,""),H28+1) -> 46206 | K28: =IF(WEEKDAY(K26,1)=MOD($P$2-1,7)+1,K26,"") -> 46235 | L28: =IF(K28="",IF(WEEKDAY(K26,1)=MOD($P$2,7)+1,K26,""),K28+1) -> 46236 | M28: =IF(L28="",IF(WEEKDAY(K26,1)=MOD($P$2+1,7)+1,K26,""),L28+1) -> 46237 | N28: =IF(M28="",IF(WEEKDAY(K26,1)=MOD($P$2+2,7)+1,K26,""),M28+1) -> 46238 | O28: =IF(N28="",IF(WEEKDAY(K26,1)=MOD($P$2+3,7)+1,K26,""),N28+1) -> 46239 | P28: =IF(O28="",IF(WEEKDAY(K26,1)=MOD($P$2+4,7)+1,K26,""),O28+1) -> 46240 | Q28: =IF(P28="",IF(WEEKDAY(K26,1)=MOD($P$2+5,7)+1,K26,""),P28+1) -> 46241 | S28: =IF(WEEKDAY(S26,1)=MOD($P$2-1,7)+1,S26,"") | T28: =IF(S28="",IF(WEEKDAY(S26,1)=MOD($P$2,7)+1,S26,""),S28+1) | U28: =IF(T28="",IF(WEEKDAY(S26,1)=MOD($P$2+1,7)+1,S26,""),T28+1) | V28: =IF(U28="",IF(WEEKDAY(S26,1)=MOD($P$2+2,7)+1,S26,""),U28+1) -> 46266 | W28: =IF(V28="",IF(WEEKDAY(S26,1)=MOD($P$2+3,7)+1,S26,""),V28+1) -> 46267 | X28: =IF(W28="",IF(WEEKDAY(S26,1)=MOD($P$2+4,7)+1,S26,""),W28+1) -> 46268 | Y28: =IF(X28="",IF(WEEKDAY(S26,1)=MOD($P$2+5,7)+1,S26,""),X28+1) -> 46269
C29: =IF(I28="","",IF(MONTH(I28+1)<>MONTH(I28),"",I28+1)) -> 46207 | D29: =IF(C29="","",IF(MONTH(C29+1)<>MONTH(C29),"",C29+1)) -> 46208 | E29: =IF(D29="","",IF(MONTH(D29+1)<>MONTH(D29),"",D29+1)) -> 46209 | F29: =IF(E29="","",IF(MONTH(E29+1)<>MONTH(E29),"",E29+1)) -> 46210 | G29: =IF(F29="","",IF(MONTH(F29+1)<>MONTH(F29),"",F29+1)) -> 46211 | H29: =IF(G29="","",IF(MONTH(G29+1)<>MONTH(G29),"",G29+1)) -> 46212 | I29: =IF(H29="","",IF(MONTH(H29+1)<>MONTH(H29),"",H29+1)) -> 46213 | K29: =IF(Q28="","",IF(MONTH(Q28+1)<>MONTH(Q28),"",Q28+1)) -> 46242 | L29: =IF(K29="","",IF(MONTH(K29+1)<>MONTH(K29),"",K29+1)) -> 46243 | M29: =IF(L29="","",IF(MONTH(L29+1)<>MONTH(L29),"",L29+1)) -> 46244 | N29: =IF(M29="","",IF(MONTH(M29+1)<>MONTH(M29),"",M29+1)) -> 46245 | O29: =IF(N29="","",IF(MONTH(N29+1)<>MONTH(N29),"",N29+1)) -> 46246 | P29: =IF(O29="","",IF(MONTH(O29+1)<>MONTH(O29),"",O29+1)) -> 46247 | Q29: =IF(P29="","",IF(MONTH(P29+1)<>MONTH(P29),"",P29+1)) -> 46248 | S29: =IF(Y28="","",IF(MONTH(Y28+1)<>MONTH(Y28),"",Y28+1)) -> 46270 | T29: =IF(S29="","",IF(MONTH(S29+1)<>MONTH(S29),"",S29+1)) -> 46271 | U29: =IF(T29="","",IF(MONTH(T29+1)<>MONTH(T29),"",T29+1)) -> 46272 | V29: =IF(U29="","",IF(MONTH(U29+1)<>MONTH(U29),"",U29+1)) -> 46273 | W29: =IF(V29="","",IF(MONTH(V29+1)<>MONTH(V29),"",V29+1)) -> 46274 | X29: =IF(W29="","",IF(MONTH(W29+1)<>MONTH(W29),"",W29+1)) -> 46275 | Y29: =IF(X29="","",IF(MONTH(X29+1)<>MONTH(X29),"",X29+1)) -> 46276
C30: =IF(I29="","",IF(MONTH(I29+1)<>MONTH(I29),"",I29+1)) -> 46214 | D30: =IF(C30="","",IF(MONTH(C30+1)<>MONTH(C30),"",C30+1)) -> 46215 | E30: =IF(D30="","",IF(MONTH(D30+1)<>MONTH(D30),"",D30+1)) -> 46216 | F30: =IF(E30="","",IF(MONTH(E30+1)<>MONTH(E30),"",E30+1)) -> 46217 | G30: =IF(F30="","",IF(MONTH(F30+1)<>MONTH(F30),"",F30+1)) -> 46218 | H30: =IF(G30="","",IF(MONTH(G30+1)<>MONTH(G30),"",G30+1)) -> 46219 | I30: =IF(H30="","",IF(MONTH(H30+1)<>MONTH(H30),"",H30+1)) -> 46220 | K30: =IF(Q29="","",IF(MONTH(Q29+1)<>MONTH(Q29),"",Q29+1)) -> 46249 | L30: =IF(K30="","",IF(MONTH(K30+1)<>MONTH(K30),"",K30+1)) -> 46250 | M30: =IF(L30="","",IF(MONTH(L30+1)<>MONTH(L30),"",L30+1)) -> 46251 | N30: =IF(M30="","",IF(MONTH(M30+1)<>MONTH(M30),"",M30+1)) -> 46252 | O30: =IF(N30="","",IF(MONTH(N30+1)<>MONTH(N30),"",N30+1)) -> 46253 | P30: =IF(O30="","",IF(MONTH(O30+1)<>MONTH(O30),"",O30+1)) -> 46254 | Q30: =IF(P30="","",IF(MONTH(P30+1)<>MONTH(P30),"",P30+1)) -> 46255 | S30: =IF(Y29="","",IF(MONTH(Y29+1)<>MONTH(Y29),"",Y29+1)) -> 46277 | T30: =IF(S30="","",IF(MONTH(S30+1)<>MONTH(S30),"",S30+1)) -> 46278 | U30: =IF(T30="","",IF(MONTH(T30+1)<>MONTH(T30),"",T30+1)) -> 46279 | V30: =IF(U30="","",IF(MONTH(U30+1)<>MONTH(U30),"",U30+1)) -> 46280 | W30: =IF(V30="","",IF(MONTH(V30+1)<>MONTH(V30),"",V30+1)) -> 46281 | X30: =IF(W30="","",IF(MONTH(W30+1)<>MONTH(W30),"",W30+1)) -> 46282 | Y30: =IF(X30="","",IF(MONTH(X30+1)<>MONTH(X30),"",X30+1)) -> 46283
C31: =IF(I30="","",IF(MONTH(I30+1)<>MONTH(I30),"",I30+1)) -> 46221 | D31: =IF(C31="","",IF(MONTH(C31+1)<>MONTH(C31),"",C31+1)) -> 46222 | E31: =IF(D31="","",IF(MONTH(D31+1)<>MONTH(D31),"",D31+1)) -> 46223 | F31: =IF(E31="","",IF(MONTH(E31+1)<>MONTH(E31),"",E31+1)) -> 46224 | G31: =IF(F31="","",IF(MONTH(F31+1)<>MONTH(F31),"",F31+1)) -> 46225 | H31: =IF(G31="","",IF(MONTH(G31+1)<>MONTH(G31),"",G31+1)) -> 46226 | I31: =IF(H31="","",IF(MONTH(H31+1)<>MONTH(H31),"",H31+1)) -> 46227 | K31: =IF(Q30="","",IF(MONTH(Q30+1)<>MONTH(Q30),"",Q30+1)) -> 46256 | L31: =IF(K31="","",IF(MONTH(K31+1)<>MONTH(K31),"",K31+1)) -> 46257 | M31: =IF(L31="","",IF(MONTH(L31+1)<>MONTH(L31),"",L31+1)) -> 46258 | N31: =IF(M31="","",IF(MONTH(M31+1)<>MONTH(M31),"",M31+1)) -> 46259 | O31: =IF(N31="","",IF(MONTH(N31+1)<>MONTH(N31),"",N31+1)) -> 46260 | P31: =IF(O31="","",IF(MONTH(O31+1)<>MONTH(O31),"",O31+1)) -> 46261 | Q31: =IF(P31="","",IF(MONTH(P31+1)<>MONTH(P31),"",P31+1)) -> 46262 | S31: =IF(Y30="","",IF(MONTH(Y30+1)<>MONTH(Y30),"",Y30+1)) -> 46284 | T31: =IF(S31="","",IF(MONTH(S31+1)<>MONTH(S31),"",S31+1)) -> 46285 | U31: =IF(T31="","",IF(MONTH(T31+1)<>MONTH(T31),"",T31+1)) -> 46286 | V31: =IF(U31="","",IF(MONTH(U31+1)<>MONTH(U31),"",U31+1)) -> 46287 | W31: =IF(V31="","",IF(MONTH(V31+1)<>MONTH(V31),"",V31+1)) -> 46288 | X31: =IF(W31="","",IF(MONTH(W31+1)<>MONTH(W31),"",W31+1)) -> 46289 | Y31: =IF(X31="","",IF(MONTH(X31+1)<>MONTH(X31),"",X31+1)) -> 46290
C32: =IF(I31="","",IF(MONTH(I31+1)<>MONTH(I31),"",I31+1)) -> 46228 | D32: =IF(C32="","",IF(MONTH(C32+1)<>MONTH(C32),"",C32+1)) -> 46229 | E32: =IF(D32="","",IF(MONTH(D32+1)<>MONTH(D32),"",D32+1)) -> 46230 | F32: =IF(E32="","",IF(MONTH(E32+1)<>MONTH(E32),"",E32+1)) -> 46231 | G32: =IF(F32="","",IF(MONTH(F32+1)<>MONTH(F32),"",F32+1)) -> 46232 | H32: =IF(G32="","",IF(MONTH(G32+1)<>MONTH(G32),"",G32+1)) -> 46233 | I32: =IF(H32="","",IF(MONTH(H32+1)<>MONTH(H32),"",H32+1)) -> 46234 | K32: =IF(Q31="","",IF(MONTH(Q31+1)<>MONTH(Q31),"",Q31+1)) -> 46263 | L32: =IF(K32="","",IF(MONTH(K32+1)<>MONTH(K32),"",K32+1)) -> 46264 | M32: =IF(L32="","",IF(MONTH(L32+1)<>MONTH(L32),"",L32+1)) -> 46265 | N32: =IF(M32="","",IF(MONTH(M32+1)<>MONTH(M32),"",M32+1)) | O32: =IF(N32="","",IF(MONTH(N32+1)<>MONTH(N32),"",N32+1)) | P32: =IF(O32="","",IF(MONTH(O32+1)<>MONTH(O32),"",O32+1)) | Q32: =IF(P32="","",IF(MONTH(P32+1)<>MONTH(P32),"",P32+1)) | S32: =IF(Y31="","",IF(MONTH(Y31+1)<>MONTH(Y31),"",Y31+1)) -> 46291 | T32: =IF(S32="","",IF(MONTH(S32+1)<>MONTH(S32),"",S32+1)) -> 46292 | U32: =IF(T32="","",IF(MONTH(T32+1)<>MONTH(T32),"",T32+1)) -> 46293 | V32: =IF(U32="","",IF(MONTH(U32+1)<>MONTH(U32),"",U32+1)) -> 46294 | W32: =IF(V32="","",IF(MONTH(V32+1)<>MONTH(V32),"",V32+1)) -> 46295 | X32: =IF(W32="","",IF(MONTH(W32+1)<>MONTH(W32),"",W32+1)) | Y32: =IF(X32="","",IF(MONTH(X32+1)<>MONTH(X32),"",X32+1))
C33: =IF(I32="","",IF(MONTH(I32+1)<>MONTH(I32),"",I32+1)) | D33: =IF(C33="","",IF(MONTH(C33+1)<>MONTH(C33),"",C33+1)) | E33: =IF(D33="","",IF(MONTH(D33+1)<>MONTH(D33),"",D33+1)) | F33: =IF(E33="","",IF(MONTH(E33+1)<>MONTH(E33),"",E33+1)) | G33: =IF(F33="","",IF(MONTH(F33+1)<>MONTH(F33),"",F33+1)) | H33: =IF(G33="","",IF(MONTH(G33+1)<>MONTH(G33),"",G33+1)) | I33: =IF(H33="","",IF(MONTH(H33+1)<>MONTH(H33),"",H33+1)) | K33: =IF(Q32="","",IF(MONTH(Q32+1)<>MONTH(Q32),"",Q32+1)) | L33: =IF(K33="","",IF(MONTH(K33+1)<>MONTH(K33),"",K33+1)) | M33: =IF(L33="","",IF(MONTH(L33+1)<>MONTH(L33),"",L33+1)) | N33: =IF(M33="","",IF(MONTH(M33+1)<>MONTH(M33),"",M33+1)) | O33: =IF(N33="","",IF(MONTH(N33+1)<>MONTH(N33),"",N33+1)) | P33: =IF(O33="","",IF(MONTH(O33+1)<>MONTH(O33),"",O33+1)) | Q33: =IF(P33="","",IF(MONTH(P33+1)<>MONTH(P33),"",P33+1)) | S33: =IF(Y32="","",IF(MONTH(Y32+1)<>MONTH(Y32),"",Y32+1)) | T33: =IF(S33="","",IF(MONTH(S33+1)<>MONTH(S33),"",S33+1)) | U33: =IF(T33="","",IF(MONTH(T33+1)<>MONTH(T33),"",T33+1)) | V33: =IF(U33="","",IF(MONTH(U33+1)<>MONTH(U33),"",U33+1)) | W33: =IF(V33="","",IF(MONTH(V33+1)<>MONTH(V33),"",V33+1)) | X33: =IF(W33="","",IF(MONTH(W33+1)<>MONTH(W33),"",W33+1)) | Y33: =IF(X33="","",IF(MONTH(X33+1)<>MONTH(X33),"",X33+1))
C35: =DATE(YEAR(S26+42),MONTH(S26+42),1) -> 46296 | K35: =DATE(YEAR(C35+42),MONTH(C35+42),1) -> 46327 | S35: =DATE(YEAR(K35+42),MONTH(K35+42),1) -> 46357
C36: =CHOOSE(1+MOD($P$2+1-2,7),"ПН","ВТ","СР","ЧТ","ПТ","СБ","ВС") -> ВС | D36: =CHOOSE(1+MOD($P$2+2-2,7),"ПН","ВТ","СР","ЧТ","ПТ","СБ","ВС") -> ПН | E36: =CHOOSE(1+MOD($P$2+3-2,7),"ПН","ВТ","СР","ЧТ","ПТ","СБ","ВС") -> ВТ | F36: =CHOOSE(1+MOD($P$2+4-2,7),"ПН","ВТ","СР","ЧТ","ПТ","СБ","ВС") -> СР | G36: =CHOOSE(1+MOD($P$2+5-2,7),"ПН","ВТ","СР","ЧТ","ПТ","СБ","ВС") -> ЧТ | H36: =CHOOSE(1+MOD($P$2+6-2,7),"ПН","ВТ","СР","ЧТ","ПТ","СБ","ВС") -> ПТ | I36: =CHOOSE(1+MOD($P$2+7-2,7),"ПН","ВТ","СР","ЧТ","ПТ","СБ","ВС") -> СБ | K36: =CHOOSE(1+MOD($P$2+1-2,7),"ПН","ВТ","СР","ЧТ","ПТ","СБ","ВС") -> ВС | L36: =CHOOSE(1+MOD($P$2+2-2,7),"ПН","ВТ","СР","ЧТ","ПТ","СБ","ВС") -> ПН | M36: =CHOOSE(1+MOD($P$2+3-2,7),"ПН","ВТ","СР","ЧТ","ПТ","СБ","ВС") -> ВТ | N36: =CHOOSE(1+MOD($P$2+4-2,7),"ПН","ВТ","СР","ЧТ","ПТ","СБ","ВС") -> СР | O36: =CHOOSE(1+MOD($P$2+5-2,7),"ПН","ВТ","СР","ЧТ","ПТ","СБ","ВС") -> ЧТ | P36: =CHOOSE(1+MOD($P$2+6-2,7),"ПН","ВТ","СР","ЧТ","ПТ","СБ","ВС") -> ПТ | Q36: =CHOOSE(1+MOD($P$2+7-2,7),"ПН","ВТ","СР","ЧТ","ПТ","СБ","ВС") -> СБ | S36: =CHOOSE(1+MOD($P$2+1-2,7),"ПН","ВТ","СР","ЧТ","ПТ","СБ","ВС") -> ВС | T36: =CHOOSE(1+MOD($P$2+2-2,7),"ПН","ВТ","СР","ЧТ","ПТ","СБ","ВС") -> ПН | U36: =CHOOSE(1+MOD($P$2+3-2,7),"ПН","ВТ","СР","ЧТ","ПТ","СБ","ВС") -> ВТ | V36: =CHOOSE(1+MOD($P$2+4-2,7),"ПН","ВТ","СР","ЧТ","ПТ","СБ","ВС") -> СР | W36: =CHOOSE(1+MOD($P$2+5-2,7),"ПН","ВТ","СР","ЧТ","ПТ","СБ","ВС") -> ЧТ | X36: =CHOOSE(1+MOD($P$2+6-2,7),"ПН","ВТ","СР","ЧТ","ПТ","СБ","ВС") -> ПТ | Y36: =CHOOSE(1+MOD($P$2+7-2,7),"ПН","ВТ","СР","ЧТ","ПТ","СБ","ВС") -> СБ
C37: =IF(WEEKDAY(C35,1)=MOD($P$2-1,7)+1,C35,"") | D37: =IF(C37="",IF(WEEKDAY(C35,1)=MOD($P$2,7)+1,C35,""),C37+1) | E37: =IF(D37="",IF(WEEKDAY(C35,1)=MOD($P$2+1,7)+1,C35,""),D37+1) | F37: =IF(E37="",IF(WEEKDAY(C35,1)=MOD($P$2+2,7)+1,C35,""),E37+1) | G37: =IF(F37="",IF(WEEKDAY(C35,1)=MOD($P$2+3,7)+1,C35,""),F37+1) | H37: =IF(G37="",IF(WEEKDAY(C35,1)=MOD($P$2+4,7)+1,C35,""),G37+1) -> 46296 | I37: =IF(H37="",IF(WEEKDAY(C35,1)=MOD($P$2+5,7)+1,C35,""),H37+1) -> 46297 | K37: =IF(WEEKDAY(K35,1)=MOD($P$2-1,7)+1,K35,"") | L37: =IF(K37="",IF(WEEKDAY(K35,1)=MOD($P$2,7)+1,K35,""),K37+1) -> 46327 | M37: =IF(L37="",IF(WEEKDAY(K35,1)=MOD($P$2+1,7)+1,K35,""),L37+1) -> 46328 | N37: =IF(M37="",IF(WEEKDAY(K35,1)=MOD($P$2+2,7)+1,K35,""),M37+1) -> 46329 | O37: =IF(N37="",IF(WEEKDAY(K35,1)=MOD($P$2+3,7)+1,K35,""),N37+1) -> 46330 | P37: =IF(O37="",IF(WEEKDAY(K35,1)=MOD($P$2+4,7)+1,K35,""),O37+1) -> 46331 | Q37: =IF(P37="",IF(WEEKDAY(K35,1)=MOD($P$2+5,7)+1,K35,""),P37+1) -> 46332 | S37: =IF(WEEKDAY(S35,1)=MOD($P$2-1,7)+1,S35,"") | T37: =IF(S37="",IF(WEEKDAY(S35,1)=MOD($P$2,7)+1,S35,""),S37+1) | U37: =IF(T37="",IF(WEEKDAY(S35,1)=MOD($P$2+1,7)+1,S35,""),T37+1) | V37: =IF(U37="",IF(WEEKDAY(S35,1)=MOD($P$2+2,7)+1,S35,""),U37+1) -> 46357 | W37: =IF(V37="",IF(WEEKDAY(S35,1)=MOD($P$2+3,7)+1,S35,""),V37+1) -> 46358 | X37: =IF(W37="",IF(WEEKDAY(S35,1)=MOD($P$2+4,7)+1,S35,""),W37+1) -> 46359 | Y37: =IF(X37="",IF(WEEKDAY(S35,1)=MOD($P$2+5,7)+1,S35,""),X37+1) -> 46360
