Workbook

Sheet Календарь
D2: Год | E2: =IF(MONTH(TODAY())=12,YEAR(TODAY())+1,YEAR(TODAY())) -> 2026 | J2: Месяц | K2: 1 | O2: День начала | P2: 7 | R2: 1:Вс, 2:Пн …
C5: 2025
C8: =DATE(E2,K2,1) -> 46023 | K8: =DATE(YEAR(C8+42),MONTH(C8+42),1) -> 46054 | S8: =DATE(YEAR(K8+42),MONTH(K8+42),1) -> 46082
C9: =CHOOSE(1+MOD($P$2+1-2,7),"ПН","ВТ","СР","ЧТ","ПТ","СБ","ВС") -> ВС | D9: =CHOOSE(1+MOD($P$2+2-2,7),"ПН","ВТ","СР","ЧТ","ПТ","СБ","ВС") -> ПН | E9: =CHOOSE(1+MOD($P$2+3-2,7),"ПН","ВТ","СР","ЧТ","ПТ","СБ","ВС") -> ВТ | F9: =CHOOSE(1+MOD($P$2+4-2,7),"ПН","ВТ","СР","ЧТ","ПТ","СБ","ВС") -> СР | G9: =CHOOSE(1+MOD($P$2+5-2,7),"ПН","ВТ","СР","ЧТ","ПТ","СБ","ВС") -> ЧТ | H9: =CHOOSE(1+MOD($P$2+6-2,7),"ПН","ВТ","СР","ЧТ","ПТ","СБ","ВС") -> ПТ | I9: =CHOOSE(1+MOD($P$2+7-2,7),"ПН","ВТ","СР","ЧТ","ПТ","СБ","ВС") -> СБ | K9: =CHOOSE(1+MOD($P$2+1-2,7),"ПН","ВТ","СР","ЧТ","ПТ","СБ","ВС") -> ВС | L9: =CHOOSE(1+MOD($P$2+2-2,7),"ПН","ВТ","СР","ЧТ","ПТ","СБ","ВС") -> ПН | M9: =CHOOSE(1+MOD($P$2+3-2,7),"ПН","ВТ","СР","ЧТ","ПТ","СБ","ВС") -> ВТ | N9: =CHOOSE(1+MOD($P$2+4-2,7),"ПН","ВТ","СР","ЧТ","ПТ","СБ","ВС") -> СР | O9: =CHOOSE(1+MOD($P$2+5-2,7),"ПН","ВТ","СР","ЧТ","ПТ","СБ","ВС") -> ЧТ | P9: =CHOOSE(1+MOD($P$2+6-2,7),"ПН","ВТ","СР","ЧТ","ПТ","СБ","ВС") -> ПТ | Q9: =CHOOSE(1+MOD($P$2+7-2,7),"ПН","ВТ","СР","ЧТ","ПТ","СБ","ВС") -> СБ | S9: =CHOOSE(1+MOD($P$2+1-2,7),"ПН","ВТ","СР","ЧТ","ПТ","СБ","ВС") -> ВС | T9: =CHOOSE(1+MOD($P$2+2-2,7),"ПН","ВТ","СР","ЧТ","ПТ","СБ","ВС") -> ПН | U9: =CHOOSE(1+MOD($P$2+3-2,7),"ПН","ВТ","СР","ЧТ","ПТ","СБ","ВС") -> ВТ | V9: =CHOOSE(1+MOD($P$2+4-2,7),"ПН","ВТ","СР","ЧТ","ПТ","СБ","ВС") -> СР | W9: =CHOOSE(1+MOD($P$2+5-2,7),"ПН","ВТ","СР","ЧТ","ПТ","СБ","ВС") -> ЧТ | X9: =CHOOSE(1+MOD($P$2+6-2,7),"ПН","ВТ","СР","ЧТ","ПТ","СБ","ВС") -> ПТ | Y9: =CHOOSE(1+MOD($P$2+7-2,7),"ПН","ВТ","СР","ЧТ","ПТ","СБ","ВС") -> СБ
G10: 45658 | H10: 45659 | I10: 45660 | K10: 45689 | L10: 45690 | M10: 45691 | N10: 45692 | O10: 45693 | P10: 45694 | Q10: 45695 | S10: 45717 | T10: 45718 | U10: 45719 | V10: 45720 | W10: 45721 | X10: 45722 | Y10: 45723
C11: 45661 | D11: 45662 | E11: 45663 | F11: 45664 | G11: 45665 | H11: 45666 | I11: 45667 | K11: 45696 | L11: 45697 | M11: 45698 | N11: 45699 | O11: 45700 | P11: 45701 | Q11: 45702 | S11: 45724 | T11: 45725 | U11: 45726 | V11: 45727 | W11: 45728 | X11: 45729 | Y11: 45730
C12: 45668 | D12: 45669 | E12: 45670 | F12: 45671 | G12: 45672 | H12: 45673 | I12: 45674 | K12: 45703 | L12: 45704 | M12: 45705 | N12: 45706 | O12: 45707 | P12: 45708 | Q12: 45709 | S12: 45731 | T12: 45732 | U12: 45733 | V12: 45734 | W12: 45735 | X12: 45736 | Y12: 45737
C13: 45675 | D13: 45676 | E13: 45677 | F13: 45678 | G13: 45679 | H13: 45680 | I13: 45681 | K13: 45710 | L13: 45711 | M13: 45712 | N13: 45713 | O13: 45714 | P13: 45715 | Q13: 45716 | S13: 45738 | T13: 45739 | U13: 45740 | V13: 45741 | W13: 45742 | X13: 45743 | Y13: 45744
C14: 45682 | D14: 45683 | E14: 45684 | F14: 45685 | G14: 45686 | H14: 45687 | I14: 45688 | S14: 45745 | T14: 45746 | U14: 45747
C17: =DATE(YEAR(S8+42),MONTH(S8+42),1) -> 46113 | K17: =DATE(YEAR(C17+42),MONTH(C17+42),1) -> 46143 | S17: =DATE(YEAR(K17+42),MONTH(K17+42),1) -> 46174
C18: =CHOOSE(1+MOD($P$2+1-2,7),"ПН","ВТ","СР","ЧТ","ПТ","СБ","ВС") -> ВС | D18: =CHOOSE(1+MOD($P$2+2-2,7),"ПН","ВТ","СР","ЧТ","ПТ","СБ","ВС") -> ПН | E18: =CHOOSE(1+MOD($P$2+3-2,7),"ПН","ВТ","СР","ЧТ","ПТ","СБ","ВС") -> ВТ | F18: =CHOOSE(1+MOD($P$2+4-2,7),"ПН","ВТ","СР","ЧТ","ПТ","СБ","ВС") -> СР | G18: =CHOOSE(1+MOD($P$2+5-2,7),"ПН","ВТ","СР","ЧТ","ПТ","СБ","ВС") -> ЧТ | H18: =CHOOSE(1+MOD($P$2+6-2,7),"ПН","ВТ","СР","ЧТ","ПТ","СБ","ВС") -> ПТ | I18: =CHOOSE(1+MOD($P$2+7-2,7),"ПН","ВТ","СР","ЧТ","ПТ","СБ","ВС") -> СБ | K18: =CHOOSE(1+MOD($P$2+1-2,7),"ПН","ВТ","СР","ЧТ","ПТ","СБ","ВС") -> ВС | L18: =CHOOSE(1+MOD($P$2+2-2,7),"ПН","ВТ","СР","ЧТ","ПТ","СБ","ВС") -> ПН | M18: =CHOOSE(1+MOD($P$2+3-2,7),"ПН","ВТ","СР","ЧТ","ПТ","СБ","ВС") -> ВТ | N18: =CHOOSE(1+MOD($P$2+4-2,7),"ПН","ВТ","СР","ЧТ","ПТ","СБ","ВС") -> СР | O18: =CHOOSE(1+MOD($P$2+5-2,7),"ПН","ВТ","СР","ЧТ","ПТ","СБ","ВС") -> ЧТ | P18: =CHOOSE(1+MOD($P$2+6-2,7),"ПН","ВТ","СР","ЧТ","ПТ","СБ","ВС") -> ПТ | Q18: =CHOOSE(1+MOD($P$2+7-2,7),"ПН","ВТ","СР","ЧТ","ПТ","СБ","ВС") -> СБ | S18: =CHOOSE(1+MOD($P$2+1-2,7),"ПН","ВТ","СР","ЧТ","ПТ","СБ","ВС") -> ВС | T18: =CHOOSE(1+MOD($P$2+2-2,7),"ПН","ВТ","СР","ЧТ","ПТ","СБ","ВС") -> ПН | U18: =CHOOSE(1+MOD($P$2+3-2,7),"ПН","ВТ","СР","ЧТ","ПТ","СБ","ВС") -> ВТ | V18: =CHOOSE(1+MOD($P$2+4-2,7),"ПН","ВТ","СР","ЧТ","ПТ","СБ","ВС") -> СР | W18: =CHOOSE(1+MOD($P$2+5-2,7),"ПН","ВТ","СР","ЧТ","ПТ","СБ","ВС") -> ЧТ | X18: =CHOOSE(1+MOD($P$2+6-2,7),"ПН","ВТ","СР","ЧТ","ПТ","СБ","ВС") -> ПТ | Y18: =CHOOSE(1+MOD($P$2+7-2,7),"ПН","ВТ","СР","ЧТ","ПТ","СБ","ВС") -> СБ
C19: =IF(WEEKDAY(C17,1)=MOD($P$2-1,7)+1,C17,"") | D19: =IF(C19="",IF(WEEKDAY(C17,1)=MOD($P$2,7)+1,C17,""),C19+1) | E19: =IF(D19="",IF(WEEKDAY(C17,1)=MOD($P$2+1,7)+1,C17,""),D19+1) | F19: =IF(E19="",IF(WEEKDAY(C17,1)=MOD($P$2+2,7)+1,C17,""),E19+1) | G19: =IF(F19="",IF(WEEKDAY(C17,1)=MOD($P$2+3,7)+1,C17,""),F19+1) -> 46113 | H19: =IF(G19="",IF(WEEKDAY(C17,1)=MOD($P$2+4,7)+1,C17,""),G19+1) -> 46114 | I19: =IF(H19="",IF(WEEKDAY(C17,1)=MOD($P$2+5,7)+1,C17,""),H19+1) -> 46115 | K19: =IF(WEEKDAY(K17,1)=MOD($P$2-1,7)+1,K17,"") | L19: =IF(K19="",IF(WEEKDAY(K17,1)=MOD($P$2,7)+1,K17,""),K19+1) | M19: =IF(L19="",IF(WEEKDAY(K17,1)=MOD($P$2+1,7)+1,K17,""),L19+1) | N19: =IF(M19="",IF(WEEKDAY(K17,1)=MOD($P$2+2,7)+1,K17,""),M19+1) | O19: =IF(N19="",IF(WEEKDAY(K17,1)=MOD($P$2+3,7)+1,K17,""),N19+1) | P19: =IF(O19="",IF(WEEKDAY(K17,1)=MOD($P$2+4,7)+1,K17,""),O19+1) | Q19: =IF(P19="",IF(WEEKDAY(K17,1)=MOD($P$2+5,7)+1,K17,""),P19+1) -> 46143 | S19: =IF(WEEKDAY(S17,1)=MOD($P$2-1,7)+1,S17,"") | T19: =IF(S19="",IF(WEEKDAY(S17,1)=MOD($P$2,7)+1,S17,""),S19+1) | U19: =IF(T19="",IF(WEEKDAY(S17,1)=MOD($P$2+1,7)+1,S17,""),T19+1) -> 46174 | V19: =IF(U19="",IF(WEEKDAY(S17,1)=MOD($P$2+2,7)+1,S17,""),U19+1) -> 46175 | W19: =IF(V19="",IF(WEEKDAY(S17,1)=MOD($P$2+3,7)+1,S17,""),V19+1) -> 46176 | X19: =IF(W19="",IF(WEEKDAY(S17,1)=MOD($P$2+4,7)+1,S17,""),W19+1) -> 46177 | Y19: =IF(X19="",IF(WEEKDAY(S17,1)=MOD($P$2+5,7)+1,S17,""),X19+1) -> 46178
C20: =IF(I19="","",IF(MONTH(I19+1)<>MONTH(I19),"",I19+1)) -> 46116 | D20: =IF(C20="","",IF(MONTH(C20+1)<>MONTH(C20),"",C20+1)) -> 46117 | E20: =IF(D20="","",IF(MONTH(D20+1)<>MONTH(D20),"",D20+1)) -> 46118 | F20: =IF(E20="","",IF(MONTH(E20+1)<>MONTH(E20),"",E20+1)) -> 46119 | G20: =IF(F20="","",IF(MONTH(F20+1)<>MONTH(F20),"",F20+1)) -> 46120 | H20: =IF(G20="","",IF(MONTH(G20+1)<>MONTH(G20),"",G20+1)) -> 46121 | I20: =IF(H20="","",IF(MONTH(H20+1)<>MONTH(H20),"",H20+1)) -> 46122 | K20: =IF(Q19="","",IF(MONTH(Q19+1)<>MONTH(Q19),"",Q19+1)) -> 46144 | L20: =IF(K20="","",IF(MONTH(K20+1)<>MONTH(K20),"",K20+1)) -> 46145 | M20: =IF(L20="","",IF(MONTH(L20+1)<>MONTH(L20),"",L20+1)) -> 46146 | N20: =IF(M20="","",IF(MONTH(M20+1)<>MONTH(M20),"",M20+1)) -> 46147 | O20: =IF(N20="","",IF(MONTH(N20+1)<>MONTH(N20),"",N20+1)) -> 46148 | P20: =IF(O20="","",IF(MONTH(O20+1)<>MONTH(O20),"",O20+1)) -> 46149 | Q20: =IF(P20="","",IF(MONTH(P20+1)<>MONTH(P20),"",P20+1)) -> 46150 | S20: =IF(Y19="","",IF(MONTH(Y19+1)<>MONTH(Y19),"",Y19+1)) -> 46179 | T20: =IF(S20="","",IF(MONTH(S20+1)<>MONTH(S20),"",S20+1)) -> 46180 | U20: =IF(T20="","",IF(MONTH(T20+1)<>MONTH(T20),"",T20+1)) -> 46181 | V20: =IF(U20="","",IF(MONTH(U20+1)<>MONTH(U20),"",U20+1)) -> 46182 | W20: =IF(V20="","",IF(MONTH(V20+1)<>MONTH(V20),"",V20+1)) -> 46183 | X20: =IF(W20="","",IF(MONTH(W20+1)<>MONTH(W20),"",W20+1)) -> 46184 | Y20: =IF(X20="","",IF(MONTH(X20+1)<>MONTH(X20),"",X20+1)) -> 46185
C21: =IF(I20="","",IF(MONTH(I20+1)<>MONTH(I20),"",I20+1)) -> 46123 | D21: =IF(C21="","",IF(MONTH(C21+1)<>MONTH(C21),"",C21+1)) -> 46124 | E21: =IF(D21="","",IF(MONTH(D21+1)<>MONTH(D21),"",D21+1)) -> 46125 | F21: =IF(E21="","",IF(MONTH(E21+1)<>MONTH(E21),"",E21+1)) -> 46126 | G21: =IF(F21="","",IF(MONTH(F21+1)<>MONTH(F21),"",F21+1)) -> 46127 | H21: =IF(G21="","",IF(MONTH(G21+1)<>MONTH(G21),"",G21+1)) -> 46128 | I21: =IF(H21="","",IF(MONTH(H21+1)<>MONTH(H21),"",H21+1)) -> 46129 | K21: =IF(Q20="","",IF(MONTH(Q20+1)<>MONTH(Q20),"",Q20+1)) -> 46151 | L21: =IF(K21="","",IF(MONTH(K21+1)<>MONTH(K21),"",K21+1)) -> 46152 | M21: =IF(L21="","",IF(MONTH(L21+1)<>MONTH(L21),"",L21+1)) -> 46153 | N21: =IF(M21="","",IF(MONTH(M21+1)<>MONTH(M21),"",M21+1)) -> 46154 | O21: =IF(N21="","",IF(MONTH(N21+1)<>MONTH(N21),"",N21+1)) -> 46155 | P21: =IF(O21="","",IF(MONTH(O21+1)<>MONTH(O21),"",O21+1)) -> 46156 | Q21: =IF(P21="","",IF(MONTH(P21+1)<>MONTH(P21),"",P21+1)) -> 46157 | S21: =IF(Y20="","",IF(MONTH(Y20+1)<>MONTH(Y20),"",Y20+1)) -> 46186 | T21: =IF(S21="","",IF(MONTH(S21+1)<>MONTH(S21),"",S21+1)) -> 46187 | U21: =IF(T21="","",IF(MONTH(T21+1)<>MONTH(T21),"",T21+1)) -> 46188 | V21: =IF(U21="","",IF(MONTH(U21+1)<>MONTH(U21),"",U21+1)) -> 46189 | W21: =IF(V21="","",IF(MONTH(V21+1)<>MONTH(V21),"",V21+1)) -> 46190 | X21: =IF(W21="","",IF(MONTH(W21+1)<>MONTH(W21),"",W21+1)) -> 46191 | Y21: =IF(X21="","",IF(MONTH(X21+1)<>MONTH(X21),"",X21+1)) -> 46192
C22: =IF(I21="","",IF(MONTH(I21+1)<>MONTH(I21),"",I21+1)) -> 46130 | D22: =IF(C22="","",IF(MONTH(C22+1)<>MONTH(C22),"",C22+1)) -> 46131 | E22: =IF(D22="","",IF(MONTH(D22+1)<>MONTH(D22),"",D22+1)) -> 46132 | F22: =IF(E22="","",IF(MONTH(E22+1)<>MONTH(E22),"",E22+1)) -> 46133 | G22: =IF(F22="","",IF(MONTH(F22+1)<>MONTH(F22),"",F22+1)) -> 46134 | H22: =IF(G22="","",IF(MONTH(G22+1)<>MONTH(G22),"",G22+1)) -> 46135 | I22: =IF(H22="","",IF(MONTH(H22+1)<>MONTH(H22),"",H22+1)) -> 46136 | K22: =IF(Q21="","",IF(MONTH(Q21+1)<>MONTH(Q21),"",Q21+1)) -> 46158 | L22: =IF(K22="","",IF(MONTH(K22+1)<>MONTH(K22),"",K22+1)) -> 46159 | M22: =IF(L22="","",IF(MONTH(L22+1)<>MONTH(L22),"",L22+1)) -> 46160 | N22: =IF(M22="","",IF(MONTH(M22+1)<>MONTH(M22),"",M22+1)) -> 46161 | O22: =IF(N22="","",IF(MONTH(N22+1)<>MONTH(N22),"",N22+1)) -> 46162 | P22: =IF(O22="","",IF(MONTH(O22+1)<>MONTH(O22),"",O22+1)) -> 46163 | Q22: =IF(P22="","",IF(MONTH(P22+1)<>MONTH(P22),"",P22+1)) -> 46164 | S22: =IF(Y21="","",IF(MONTH(Y21+1)<>MONTH(Y21),"",Y21+1)) -> 46193 | T22: =IF(S22="","",IF(MONTH(S22+1)<>MONTH(S22),"",S22+1)) -> 46194 | U22: =IF(T22="","",IF(MONTH(T22+1)<>MONTH(T22),"",T22+1)) -> 46195 | V22: =IF(U22="","",IF(MONTH(U22+1)<>MONTH(U22),"",U22+1)) -> 46196 | W22: =IF(V22="","",IF(MONTH(V22+1)<>MONTH(V22),"",V22+1)) -> 46197 | X22: =IF(W22="","",IF(MONTH(W22+1)<>MONTH(W22),"",W22+1)) -> 46198 | Y22: =IF(X22="","",IF(MONTH(X22+1)<>MONTH(X22),"",X22+1)) -> 46199
C23: =IF(I22="","",IF(MONTH(I22+1)<>MONTH(I22),"",I22+1)) -> 46137 | D23: =IF(C23="","",IF(MONTH(C23+1)<>MONTH(C23),"",C23+1)) -> 46138 | E23: =IF(D23="","",IF(MONTH(D23+1)<>MONTH(D23),"",D23+1)) -> 46139 | F23: =IF(E23="","",IF(MONTH(E23+1)<>MONTH(E23),"",E23+1)) -> 46140 | G23: =IF(F23="","",IF(MONTH(F23+1)<>MONTH(F23),"",F23+1)) -> 46141 | H23: =IF(G23="","",IF(MONTH(G23+1)<>MONTH(G23),"",G23+1)) -> 46142 | I23: =IF(H23="","",IF(MONTH(H23+1)<>MONTH(H23),"",H23+1)) | K23: =IF(Q22="","",IF(MONTH(Q22+1)<>MONTH(Q22),"",Q22+1)) -> 46165 | L23: =IF(K23="","",IF(MONTH(K23+1)<>MONTH(K23),"",K23+1)) -> 46166 | M23: =IF(L23="","",IF(MONTH(L23+1)<>MONTH(L23),"",L23+1)) -> 46167 | N23: =IF(M23="","",IF(MONTH(M23+1)<>MONTH(M23),"",M23+1)) -> 46168 | O23: =IF(N23="","",IF(MONTH(N23+1)<>MONTH(N23),"",N23+1)) -> 46169 | P23: =IF(O23="","",IF(MONTH(O23+1)<>MONTH(O23),"",O23+1)) -> 46170 | Q23: =IF(P23="","",IF(MONTH(P23+1)<>MONTH(P23),"",P23+1)) -> 46171 | S23: =IF(Y22="","",IF(MONTH(Y22+1)<>MONTH(Y22),"",Y22+1)) -> 46200 | T23: =IF(S23="","",IF(MONTH(S23+1)<>MONTH(S23),"",S23+1)) -> 46201 | U23: =IF(T23="","",IF(MONTH(T23+1)<>MONTH(T23),"",T23+1)) -> 46202 | V23: =IF(U23="","",IF(MONTH(U23+1)<>MONTH(U23),"",U23+1)) -> 46203 | W23: =IF(V23="","",IF(MONTH(V23+1)<>MONTH(V23),"",V23+1)) | X23: =IF(W23="","",IF(MONTH(W23+1)<>MONTH(W23),"",W23+1)) | Y23: =IF(X23="","",IF(MONTH(X23+1)<>MONTH(X23),"",X23+1))
C24: =IF(I23="","",IF(MONTH(I23+1)<>MONTH(I23),"",I23+1)) | D24: =IF(C24="","",IF(MONTH(C24+1)<>MONTH(C24),"",C24+1)) | E24: =IF(D24="","",IF(MONTH(D24+1)<>MONTH(D24),"",D24+1)) | F24: =IF(E24="","",IF(MONTH(E24+1)<>MONTH(E24),"",E24+1)) | G24: =IF(F24="","",IF(MONTH(F24+1)<>MONTH(F24),"",F24+1)) | H24: =IF(G24="","",IF(MONTH(G24+1)<>MONTH(G24),"",G24+1)) | I24: =IF(H24="","",IF(MONTH(H24+1)<>MONTH(H24),"",H24+1)) | K24: =IF(Q23="","",IF(MONTH(Q23+1)<>MONTH(Q23),"",Q23+1)) -> 46172 | L24: =IF(K24="","",IF(MONTH(K24+1)<>MONTH(K24),"",K24+1)) -> 46173 | M24: =IF(L24="","",IF(MONTH(L24+1)<>MONTH(L24),"",L24+1)) | N24: =IF(M24="","",IF(MONTH(M24+1)<>MONTH(M24),"",M24+1)) | O24: =IF(N24="","",IF(MONTH(N24+1)<>MONTH(N24),"",N24+1)) | P24: =IF(O24="","",IF(MONTH(O24+1)<>MONTH(O24),"",O24+1)) | Q24: =IF(P24="","",IF(MONTH(P24+1)<>MONTH(P24),"",P24+1)) | S24: =IF(Y23="","",IF(MONTH(Y23+1)<>MONTH(Y23),"",Y23+1)) | T24: =IF(S24="","",IF(MONTH(S24+1)<>MONTH(S24),"",S24+1)) | U24: =IF(T24="","",IF(MONTH(T24+1)<>MONTH(T24),"",T24+1)) | V24: =IF(U24="","",IF(MONTH(U24+1)<>MONTH(U24),"",U24+1)) | W24: =IF(V24="","",IF(MONTH(V24+1)<>MONTH(V24),"",V24+1)) | X24: =IF(W24="","",IF(MONTH(W24+1)<>MONTH(W24),"",W24+1)) | Y24: =IF(X24="","",IF(MONTH(X24+1)<>MONTH(X24),"",X24+1))
C26: =DATE(YEAR(S17+42),MONTH(S17+42),1) -> 46204 | K26: =DATE(YEAR(C26+42),MONTH(C26+42),1) -> 46235 | S26: =DATE(YEAR(K26+42),MONTH(K26+42),1) -> 46266
C27: =CHOOSE(1+MOD($P$2+1-2,7),"ПН","ВТ","СР","ЧТ","ПТ","СБ","ВС") -> ВС | D27: =CHOOSE(1+MOD($P$2+2-2,7),"ПН","ВТ","СР","ЧТ","ПТ","СБ","ВС") -> ПН | E27: =CHOOSE(1+MOD($P$2+3-2,7),"ПН","ВТ","СР","ЧТ","ПТ","СБ","ВС") -> ВТ | F27: =CHOOSE(1+MOD($P$2+4-2,7),"ПН","ВТ","СР","ЧТ","ПТ","СБ","ВС") -> СР | G27: =CHOOSE(1+MOD($P$2+5-2,7),"ПН","ВТ","СР","ЧТ","ПТ","СБ","ВС") -> ЧТ | H27: =CHOOSE(1+MOD($P$2+6-2,7),"ПН","ВТ","СР","ЧТ","ПТ","СБ","ВС") -> ПТ | I27: =CHOOSE(1+MOD($P$2+7-2,7),"ПН","ВТ","СР","ЧТ","ПТ","СБ","ВС") -> СБ | K27: =CHOOSE(1+MOD($P$2+1-2,7),"ПН","ВТ","СР","ЧТ","ПТ","СБ","ВС") -> ВС | L27: =CHOOSE(1+MOD($P$2+2-2,7),"ПН","ВТ","СР","ЧТ","ПТ","СБ","ВС") -> ПН | M27: =CHOOSE(1+MOD($P$2+3-2,7),"ПН","ВТ","СР","ЧТ","ПТ","СБ","ВС") -> ВТ | N27: =CHOOSE(1+MOD($P$2+4-2,7),"ПН","ВТ","СР","ЧТ","ПТ","СБ","ВС") -> СР | O27: =CHOOSE(1+MOD($P$2+5-2,7),"ПН","ВТ","СР","ЧТ","ПТ","СБ","ВС") -> ЧТ | P27: =CHOOSE(1+MOD($P$2+6-2,7),"ПН","ВТ","СР","ЧТ","ПТ","СБ","ВС") -> ПТ | Q27: =CHOOSE(1+MOD($P$2+7-2,7),"ПН","ВТ","СР","ЧТ","ПТ","СБ","ВС") -> СБ | S27: =CHOOSE(1+MOD($P$2+1-2,7),"ПН","ВТ","СР","ЧТ","ПТ","СБ","ВС") -> ВС | T27: =CHOOSE(1+MOD($P$2+2-2,7),"ПН","ВТ","СР","ЧТ","ПТ","СБ","ВС") -> ПН | U27: =CHOOSE(1+MOD($P$2+3-2,7),"ПН","ВТ","СР","ЧТ","ПТ","СБ","ВС") -> ВТ | V27: =CHOOSE(1+MOD($P$2+4-2,7),"ПН","ВТ","СР","ЧТ","ПТ","СБ","ВС") -> СР | W27: =CHOOSE(1+MOD($P$2+5-2,7),"ПН","ВТ","СР","ЧТ","ПТ","СБ","ВС") -> ЧТ | X27: =CHOOSE(1+MOD($P$2+6-2,7),"ПН","ВТ","СР","ЧТ","ПТ","СБ","ВС") -> ПТ | Y27: =CHOOSE(1+MOD($P$2+7-2,7),"ПН","ВТ","СР","ЧТ","ПТ","СБ","ВС") -> СБ
C28: =IF(WEEKDAY(C26,1)=MOD($P$2-1,7)+1,C26,"") | D28: =IF(C28="",IF(WEEKDAY(C26,1)=MOD($P$2,7)+1,C26,""),C28+1) | E28: =IF(D28="",IF(WEEKDAY(C26,1)=MOD($P$2+1,7)+1,C26,""),D28+1) | F28: =IF(E28="",IF(WEEKDAY(C26,1)=MOD($P$2+2,7)+1,C26,""),E28+1) | G28: =IF(F28="",IF(WEEKDAY(C26,1)=MOD($P$2+3,7)+1,C26,""),F28+1) -> 46204 | H28: =IF(G28="",IF(WEEKDAY(C26,1)=MOD($P$2+4,7)+1,C26,""),G28+1) -> 46205 | I28: =IF(H28="",IF(WEEKDAY(C26,1)=MOD($P$2+5,7)+1,C26,""),H28+1) -> 46206 | K28: =IF(WEEKDAY(K26,1)=MOD($P$2-1,7)+1,K26,"") -> 46235 | L28: =IF(K28="",IF(WEEKDAY(K26,1)=MOD($P$2,7)+1,K26,""),K28+1) -> 46236 | M28: =IF(L28="",IF(WEEKDAY(K26,1)=MOD($P$2+1,7)+1,K26,""),L28+1) -> 46237 | N28: =IF(M28="",IF(WEEKDAY(K26,1)=MOD($P$2+2,7)+1,K26,""),M28+1) -> 46238 | O28: =IF(N28="",IF(WEEKDAY(K26,1)=MOD($P$2+3,7)+1,K26,""),N28+1) -> 46239 | P28: =IF(O28="",IF(WEEKDAY(K26,1)=MOD($P$2+4,7)+1,K26,""),O28+1) -> 46240 | Q28: =IF(P28="",IF(WEEKDAY(K26,1)=MOD($P$2+5,7)+1,K26,""),P28+1) -> 46241 | S28: =IF(WEEKDAY(S26,1)=MOD($P$2-1,7)+1,S26,"") | T28: =IF(S28="",IF(WEEKDAY(S26,1)=MOD($P$2,7)+1,S26,""),S28+1) | U28: =IF(T28="",IF(WEEKDAY(S26,1)=MOD($P$2+1,7)+1,S26,""),T28+1) | V28: =IF(U28="",IF(WEEKDAY(S26,1)=MOD($P$2+2,7)+1,S26,""),U28+1) -> 46266 | W28: =IF(V28="",IF(WEEKDAY(S26,1)=MOD($P$2+3,7)+1,S26,""),V28+1) -> 46267 | X28: =IF(W28="",IF(WEEKDAY(S26,1)=MOD($P$2+4,7)+1,S26,""),W28+1) -> 46268 | Y28: =IF(X28="",IF(WEEKDAY(S26,1)=MOD($P$2+5,7)+1,S26,""),X28+1) -> 46269
C29: =IF(I28="","",IF(MONTH(I28+1)<>MONTH(I28),"",I28+1)) -> 46207 | D29: =IF(C29="","",IF(MONTH(C29+1)<>MONTH(C29),"",C29+1)) -> 46208 | E29: =IF(D29="","",IF(MONTH(D29+1)<>MONTH(D29),"",D29+1)) -> 46209 | F29: =IF(E29="","",IF(MONTH(E29+1)<>MONTH(E29),"",E29+1)) -> 46210 | G29: =IF(F29="","",IF(MONTH(F29+1)<>MONTH(F29),"",F29+1)) -> 46211 | H29: =IF(G29="","",IF(MONTH(G29+1)<>MONTH(G29),"",G29+1)) -> 46212 | I29: =IF(H29="","",IF(MONTH(H29+1)<>MONTH(H29),"",H29+1)) -> 46213 | K29: =IF(Q28="","",IF(MONTH(Q28+1)<>MONTH(Q28),"",Q28+1)) -> 46242 | L29: =IF(K29="","",IF(MONTH(K29+1)<>MONTH(K29),"",K29+1)) -> 46243 | M29: =IF(L29="","",IF(MONTH(L29+1)<>MONTH(L29),"",L29+1)) -> 46244 | N29: =IF(M29="","",IF(MONTH(M29+1)<>MONTH(M29),"",M29+1)) -> 46245 | O29: =IF(N29="","",IF(MONTH(N29+1)<>MONTH(N29),"",N29+1)) -> 46246 | P29: =IF(O29="","",IF(MONTH(O29+1)<>MONTH(O29),"",O29+1)) -> 46247 | Q29: =IF(P29="","",IF(MONTH(P29+1)<>MONTH(P29),"",P29+1)) -> 46248 | S29: =IF(Y28="","",IF(MONTH(Y28+1)<>MONTH(Y28),"",Y28+1)) -> 46270 | T29: =IF(S29="","",IF(MONTH(S29+1)<>MONTH(S29),"",S29+1)) -> 46271 | U29: =IF(T29="","",IF(MONTH(T29+1)<>MONTH(T29),"",T29+1)) -> 46272 | V29: =IF(U29="","",IF(MONTH(U29+1)<>MONTH(U29),"",U29+1)) -> 46273 | W29: =IF(V29="","",IF(MONTH(V29+1)<>MONTH(V29),"",V29+1)) -> 46274 | X29: =IF(W29="","",IF(MONTH(W29+1)<>MONTH(W29),"",W29+1)) -> 46275 | Y29: =IF(X29="","",IF(MONTH(X29+1)<>MONTH(X29),"",X29+1)) -> 46276
C30: =IF(I29="","",IF(MONTH(I29+1)<>MONTH(I29),"",I29+1)) -> 46214 | D30: =IF(C30="","",IF(MONTH(C30+1)<>MONTH(C30),"",C30+1)) -> 46215 | E30: =IF(D30="","",IF(MONTH(D30+1)<>MONTH(D30),"",D30+1)) -> 46216 | F30: =IF(E30="","",IF(MONTH(E30+1)<>MONTH(E30),"",E30+1)) -> 46217 | G30: =IF(F30="","",IF(MONTH(F30+1)<>MONTH(F30),"",F30+1)) -> 46218 | H30: =IF(G30="","",IF(MONTH(G30+1)<>MONTH(G30),"",G30+1)) -> 46219 | I30: =IF(H30="","",IF(MONTH(H30+1)<>MONTH(H30),"",H30+1)) -> 46220 | K30: =IF(Q29="","",IF(MONTH(Q29+1)<>MONTH(Q29),"",Q29+1)) -> 46249 | L30: =IF(K30="","",IF(MONTH(K30+1)<>MONTH(K30),"",K30+1)) -> 46250 | M30: =IF(L30="","",IF(MONTH(L30+1)<>MONTH(L30),"",L30+1)) -> 46251 | N30: =IF(M30="","",IF(MONTH(M30+1)<>MONTH(M30),"",M30+1)) -> 46252 | O30: =IF(N30="","",IF(MONTH(N30+1)<>MONTH(N30),"",N30+1)) -> 46253 | P30: =IF(O30="","",IF(MONTH(O30+1)<>MONTH(O30),"",O30+1)) -> 46254 | Q30: =IF(P30="","",IF(MONTH(P30+1)<>MONTH(P30),"",P30+1)) -> 46255 | S30: =IF(Y29="","",IF(MONTH(Y29+1)<>MONTH(Y29),"",Y29+1)) -> 46277 | T30: =IF(S30="","",IF(MONTH(S30+1)<>MONTH(S30),"",S30+1)) -> 46278 | U30: =IF(T30="","",IF(MONTH(T30+1)<>MONTH(T30),"",T30+1)) -> 46279 | V30: =IF(U30="","",IF(MONTH(U30+1)<>MONTH(U30),"",U30+1)) -> 46280 | W30: =IF(V30="","",IF(MONTH(V30+1)<>MONTH(V30),"",V30+1)) -> 46281 | X30: =IF(W30="","",IF(MONTH(W30+1)<>MONTH(W30),"",W30+1)) -> 46282 | Y30: =IF(X30="","",IF(MONTH(X30+1)<>MONTH(X30),"",X30+1)) -> 46283
C31: =IF(I30="","",IF(MONTH(I30+1)<>MONTH(I30),"",I30+1)) -> 46221 | D31: =IF(C31="","",IF(MONTH(C31+1)<>MONTH(C31),"",C31+1)) -> 46222 | E31: =IF(D31="","",IF(MONTH(D31+1)<>MONTH(D31),"",D31+1)) -> 46223 | F31: =IF(E31="","",IF(MONTH(E31+1)<>MONTH(E31),"",E31+1)) -> 46224 | G31: =IF(F31="","",IF(MONTH(F31+1)<>MONTH(F31),"",F31+1)) -> 46225 | H31: =IF(G31="","",IF(MONTH(G31+1)<>MONTH(G31),"",G31+1)) -> 46226 | I31: =IF(H31="","",IF(MONTH(H31+1)<>MONTH(H31),"",H31+1)) -> 46227 | K31: =IF(Q30="","",IF(MONTH(Q30+1)<>MONTH(Q30),"",Q30+1)) -> 46256 | L31: =IF(K31="","",IF(MONTH(K31+1)<>MONTH(K31),"",K31+1)) -> 46257 | M31: =IF(L31="","",IF(MONTH(L31+1)<>MONTH(L31),"",L31+1)) -> 46258 | N31: =IF(M31="","",IF(MONTH(M31+1)<>MONTH(M31),"",M31+1)) -> 46259 | O31: =IF(N31="","",IF(MONTH(N31+1)<>MONTH(N31),"",N31+1)) -> 46260 | P31: =IF(O31="","",IF(MONTH(O31+1)<>MONTH(O31),"",O31+1)) -> 46261 | Q31: =IF(P31="","",IF(MONTH(P31+1)<>MONTH(P31),"",P31+1)) -> 46262 | S31: =IF(Y30="","",IF(MONTH(Y30+1)<>MONTH(Y30),"",Y30+1)) -> 46284 | T31: =IF(S31="","",IF(MONTH(S31+1)<>MONTH(S31),"",S31+1)) -> 46285 | U31: =IF(T31="","",IF(MONTH(T31+1)<>MONTH(T31),"",T31+1)) -> 46286 | V31: =IF(U31="","",IF(MONTH(U31+1)<>MONTH(U31),"",U31+1)) -> 46287 | W31: =IF(V31="","",IF(MONTH(V31+1)<>MONTH(V31),"",V31+1)) -> 46288 | X31: =IF(W31="","",IF(MONTH(W31+1)<>MONTH(W31),"",W31+1)) -> 46289 | Y31: =IF(X31="","",IF(MONTH(X31+1)<>MONTH(X31),"",X31+1)) -> 46290
C32: =IF(I31="","",IF(MONTH(I31+1)<>MONTH(I31),"",I31+1)) -> 46228 | D32: =IF(C32="","",IF(MONTH(C32+1)<>MONTH(C32),"",C32+1)) -> 46229 | E32: =IF(D32="","",IF(MONTH(D32+1)<>MONTH(D32),"",D32+1)) -> 46230 | F32: =IF(E32="","",IF(MONTH(E32+1)<>MONTH(E32),"",E32+1)) -> 46231 | G32: =IF(F32="","",IF(MONTH(F32+1)<>MONTH(F32),"",F32+1)) -> 46232 | H32: =IF(G32="","",IF(MONTH(G32+1)<>MONTH(G32),"",G32+1)) -> 46233 | I32: =IF(H32="","",IF(MONTH(H32+1)<>MONTH(H32),"",H32+1)) -> 46234 | K32: =IF(Q31="","",IF(MONTH(Q31+1)<>MONTH(Q31),"",Q31+1)) -> 46263 | L32: =IF(K32="","",IF(MONTH(K32+1)<>MONTH(K32),"",K32+1)) -> 46264 | M32: =IF(L32="","",IF(MONTH(L32+1)<>MONTH(L32),"",L32+1)) -> 46265 | N32: =IF(M32="","",IF(MONTH(M32+1)<>MONTH(M32),"",M32+1)) | O32: =IF(N32="","",IF(MONTH(N32+1)<>MONTH(N32),"",N32+1)) | P32: =IF(O32="","",IF(MONTH(O32+1)<>MONTH(O32),"",O32+1)) | Q32: =IF(P32="","",IF(MONTH(P32+1)<>MONTH(P32),"",P32+1)) | S32: =IF(Y31="","",IF(MONTH(Y31+1)<>MONTH(Y31),"",Y31+1)) -> 46291 | T32: =IF(S32="","",IF(MONTH(S32+1)<>MONTH(S32),"",S32+1)) -> 46292 | U32: =IF(T32="","",IF(MONTH(T32+1)<>MONTH(T32),"",T32+1)) -> 46293 | V32: =IF(U32="","",IF(MONTH(U32+1)<>MONTH(U32),"",U32+1)) -> 46294 | W32: =IF(V32="","",IF(MONTH(V32+1)<>MONTH(V32),"",V32+1)) -> 46295 | X32: =IF(W32="","",IF(MONTH(W32+1)<>MONTH(W32),"",W32+1)) | Y32: =IF(X32="","",IF(MONTH(X32+1)<>MONTH(X32),"",X32+1))
C33: =IF(I32="","",IF(MONTH(I32+1)<>MONTH(I32),"",I32+1)) | D33: =IF(C33="","",IF(MONTH(C33+1)<>MONTH(C33),"",C33+1)) | E33: =IF(D33="","",IF(MONTH(D33+1)<>MONTH(D33),"",D33+1)) | F33: =IF(E33="","",IF(MONTH(E33+1)<>MONTH(E33),"",E33+1)) | G33: =IF(F33="","",IF(MONTH(F33+1)<>MONTH(F33),"",F33+1)) | H33: =IF(G33="","",IF(MONTH(G33+1)<>MONTH(G33),"",G33+1)) | I33: =IF(H33="","",IF(MONTH(H33+1)<>MONTH(H33),"",H33+1)) | K33: =IF(Q32="","",IF(MONTH(Q32+1)<>MONTH(Q32),"",Q32+1)) | L33: =IF(K33="","",IF(MONTH(K33+1)<>MONTH(K33),"",K33+1)) | M33: =IF(L33="","",IF(MONTH(L33+1)<>MONTH(L33),"",L33+1)) | N33: =IF(M33="","",IF(MONTH(M33+1)<>MONTH(M33),"",M33+1)) | O33: =IF(N33="","",IF(MONTH(N33+1)<>MONTH(N33),"",N33+1)) | P33: =IF(O33="","",IF(MONTH(O33+1)<>MONTH(O33),"",O33+1)) | Q33: =IF(P33="","",IF(MONTH(P33+1)<>MONTH(P33),"",P33+1)) | S33: =IF(Y32="","",IF(MONTH(Y32+1)<>MONTH(Y32),"",Y32+1)) | T33: =IF(S33="","",IF(MONTH(S33+1)<>MONTH(S33),"",S33+1)) | U33: =IF(T33="","",IF(MONTH(T33+1)<>MONTH(T33),"",T33+1)) | V33: =IF(U33="","",IF(MONTH(U33+1)<>MONTH(U33),"",U33+1)) | W33: =IF(V33="","",IF(MONTH(V33+1)<>MONTH(V33),"",V33+1)) | X33: =IF(W33="","",IF(MONTH(W33+1)<>MONTH(W33),"",W33+1)) | Y33: =IF(X33="","",IF(MONTH(X33+1)<>MONTH(X33),"",X33+1))
C35: =DATE(YEAR(S26+42),MONTH(S26+42),1) -> 46296 | K35: =DATE(YEAR(C35+42),MONTH(C35+42),1) -> 46327 | S35: =DATE(YEAR(K35+42),MONTH(K35+42),1) -> 46357
C36: =CHOOSE(1+MOD($P$2+1-2,7),"ПН","ВТ","СР","ЧТ","ПТ","СБ","ВС") -> ВС | D36: =CHOOSE(1+MOD($P$2+2-2,7),"ПН","ВТ","СР","ЧТ","ПТ","СБ","ВС") -> ПН | E36: =CHOOSE(1+MOD($P$2+3-2,7),"ПН","ВТ","СР","ЧТ","ПТ","СБ","ВС") -> ВТ | F36: =CHOOSE(1+MOD($P$2+4-2,7),"ПН","ВТ","СР","ЧТ","ПТ","СБ","ВС") -> СР | G36: =CHOOSE(1+MOD($P$2+5-2,7),"ПН","ВТ","СР","ЧТ","ПТ","СБ","ВС") -> ЧТ | H36: =CHOOSE(1+MOD($P$2+6-2,7),"ПН","ВТ","СР","ЧТ","ПТ","СБ","ВС") -> ПТ | I36: =CHOOSE(1+MOD($P$2+7-2,7),"ПН","ВТ","СР","ЧТ","ПТ","СБ","ВС") -> СБ | K36: =CHOOSE(1+MOD($P$2+1-2,7),"ПН","ВТ","СР","ЧТ","ПТ","СБ","ВС") -> ВС | L36: =CHOOSE(1+MOD($P$2+2-2,7),"ПН","ВТ","СР","ЧТ","ПТ","СБ","ВС") -> ПН | M36: =CHOOSE(1+MOD($P$2+3-2,7),"ПН","ВТ","СР","ЧТ","ПТ","СБ","ВС") -> ВТ | N36: =CHOOSE(1+MOD($P$2+4-2,7),"ПН","ВТ","СР","ЧТ","ПТ","СБ","ВС") -> СР | O36: =CHOOSE(1+MOD($P$2+5-2,7),"ПН","ВТ","СР","ЧТ","ПТ","СБ","ВС") -> ЧТ | P36: =CHOOSE(1+MOD($P$2+6-2,7),"ПН","ВТ","СР","ЧТ","ПТ","СБ","ВС") -> ПТ | Q36: =CHOOSE(1+MOD($P$2+7-2,7),"ПН","ВТ","СР","ЧТ","ПТ","СБ","ВС") -> СБ | S36: =CHOOSE(1+MOD($P$2+1-2,7),"ПН","ВТ","СР","ЧТ","ПТ","СБ","ВС") -> ВС | T36: =CHOOSE(1+MOD($P$2+2-2,7),"ПН","ВТ","СР","ЧТ","ПТ","СБ","ВС") -> ПН | U36: =CHOOSE(1+MOD($P$2+3-2,7),"ПН","ВТ","СР","ЧТ","ПТ","СБ","ВС") -> ВТ | V36: =CHOOSE(1+MOD($P$2+4-2,7),"ПН","ВТ","СР","ЧТ","ПТ","СБ","ВС") -> СР | W36: =CHOOSE(1+MOD($P$2+5-2,7),"ПН","ВТ","СР","ЧТ","ПТ","СБ","ВС") -> ЧТ | X36: =CHOOSE(1+MOD($P$2+6-2,7),"ПН","ВТ","СР","ЧТ","ПТ","СБ","ВС") -> ПТ | Y36: =CHOOSE(1+MOD($P$2+7-2,7),"ПН","ВТ","СР","ЧТ","ПТ","СБ","ВС") -> СБ
C37: =IF(WEEKDAY(C35,1)=MOD($P$2-1,7)+1,C35,"") | D37: =IF(C37="",IF(WEEKDAY(C35,1)=MOD($P$2,7)+1,C35,""),C37+1) | E37: =IF(D37="",IF(WEEKDAY(C35,1)=MOD($P$2+1,7)+1,C35,""),D37+1) | F37: =IF(E37="",IF(WEEKDAY(C35,1)=MOD($P$2+2,7)+1,C35,""),E37+1) | G37: =IF(F37="",IF(WEEKDAY(C35,1)=MOD($P$2+3,7)+1,C35,""),F37+1) | H37: =IF(G37="",IF(WEEKDAY(C35,1)=MOD($P$2+4,7)+1,C35,""),G37+1) -> 46296 | I37: =IF(H37="",IF(WEEKDAY(C35,1)=MOD($P$2+5,7)+1,C35,""),H37+1) -> 46297 | K37: =IF(WEEKDAY(K35,1)=MOD($P$2-1,7)+1,K35,"") | L37: =IF(K37="",IF(WEEKDAY(K35,1)=MOD($P$2,7)+1,K35,""),K37+1) -> 46327 | M37: =IF(L37="",IF(WEEKDAY(K35,1)=MOD($P$2+1,7)+1,K35,""),L37+1) -> 46328 | N37: =IF(M37="",IF(WEEKDAY(K35,1)=MOD($P$2+2,7)+1,K35,""),M37+1) -> 46329 | O37: =IF(N37="",IF(WEEKDAY(K35,1)=MOD($P$2+3,7)+1,K35,""),N37+1) -> 46330 | P37: =IF(O37="",IF(WEEKDAY(K35,1)=MOD($P$2+4,7)+1,K35,""),O37+1) -> 46331 | Q37: =IF(P37="",IF(WEEKDAY(K35,1)=MOD($P$2+5,7)+1,K35,""),P37+1) -> 46332 | S37: =IF(WEEKDAY(S35,1)=MOD($P$2-1,7)+1,S35,"") | T37: =IF(S37="",IF(WEEKDAY(S35,1)=MOD($P$2,7)+1,S35,""),S37+1) | U37: =IF(T37="",IF(WEEKDAY(S35,1)=MOD($P$2+1,7)+1,S35,""),T37+1) | V37: =IF(U37="",IF(WEEKDAY(S35,1)=MOD($P$2+2,7)+1,S35,""),U37+1) -> 46357 | W37: =IF(V37="",IF(WEEKDAY(S35,1)=MOD($P$2+3,7)+1,S35,""),V37+1) -> 46358 | X37: =IF(W37="",IF(WEEKDAY(S35,1)=MOD($P$2+4,7)+1,S35,""),W37+1) -> 46359 | Y37: =IF(X37="",IF(WEEKDAY(S35,1)=MOD($P$2+5,7)+1,S35,""),X37+1) -> 46360
C38: =IF(I37="","",IF(MONTH(I37+1)<>MONTH(I37),"",I37+1)) -> 46298 | D38: =IF(C38="","",IF(MONTH(C38+1)<>MONTH(C38),"",C38+1)) -> 46299 | E38: =IF(D38="","",IF(MONTH(D38+1)<>MONTH(D38),"",D38+1)) -> 46300 | F38: =IF(E38="","",IF(MONTH(E38+1)<>MONTH(E38),"",E38+1)) -> 46301 | G38: =IF(F38="","",IF(MONTH(F38+1)<>MONTH(F38),"",F38+1)) -> 46302 | H38: =IF(G38="","",IF(MONTH(G38+1)<>MONTH(G38),"",G38+1)) -> 46303 | I38: =IF(H38="","",IF(MONTH(H38+1)<>MONTH(H38),"",H38+1)) -> 46304 | K38: =IF(Q37="","",IF(MONTH(Q37+1)<>MONTH(Q37),"",Q37+1)) -> 46333 | L38: =IF(K38="","",IF(MONTH(K38+1)<>MONTH(K38),"",K38+1)) -> 46334 | M38: =IF(L38="","",IF(MONTH(L38+1)<>MONTH(L38),"",L38+1)) -> 46335 | N38: =IF(M38="","",IF(MONTH(M38+1)<>MONTH(M38),"",M38+1)) -> 46336 | O38: =IF(N38="","",IF(MONTH(N38+1)<>MONTH(N38),"",N38+1)) -> 46337 | P38: =IF(O38="","",IF(MONTH(O38+1)<>MONTH(O38),"",O38+1)) -> 46338 | Q38: =IF(P38="","",IF(MONTH(P38+1)<>MONTH(P38),"",P38+1)) -> 46339 | S38: =IF(Y37="","",IF(MONTH(Y37+1)<>MONTH(Y37),"",Y37+1)) -> 46361 | T38: =IF(S38="","",IF(MONTH(S38+1)<>MONTH(S38),"",S38+1)) -> 46362 | U38: =IF(T38="","",IF(MONTH(T38+1)<>MONTH(T38),"",T38+1)) -> 46363 | V38: =IF(U38="","",IF(MONTH(U38+1)<>MONTH(U38),"",U38+1)) -> 46364 | W38: =IF(V38="","",IF(MONTH(V38+1)<>MONTH(V38),"",V38+1)) -> 46365 | X38: =IF(W38="","",IF(MONTH(W38+1)<>MONTH(W38),"",W38+1)) -> 46366 | Y38: =IF(X38="","",IF(MONTH(X38+1)<>MONTH(X38),"",X38+1)) -> 46367
C39: =IF(I38="","",IF(MONTH(I38+1)<>MONTH(I38),"",I38+1)) -> 46305 | D39: =IF(C39="","",IF(MONTH(C39+1)<>MONTH(C39),"",C39+1)) -> 46306 | E39: =IF(D39="","",IF(MONTH(D39+1)<>MONTH(D39),"",D39+1)) -> 46307 | F39: =IF(E39="","",IF(MONTH(E39+1)<>MONTH(E39),"",E39+1)) -> 46308 | G39: =IF(F39="","",IF(MONTH(F39+1)<>MONTH(F39),"",F39+1)) -> 46309 | H39: =IF(G39="","",IF(MONTH(G39+1)<>MONTH(G39),"",G39+1)) -> 46310 | I39: =IF(H39="","",IF(MONTH(H39+1)<>MONTH(H39),"",H39+1)) -> 46311 | K39: =IF(Q38="","",IF(MONTH(Q38+1)<>MONTH(Q38),"",Q38+1)) -> 46340 | L39: =IF(K39="","",IF(MONTH(K39+1)<>MONTH(K39),"",K39+1)) -> 46341 | M39: =IF(L39="","",IF(MONTH(L39+1)<>MONTH(L39),"",L39+1)) -> 46342 | N39: =IF(M39="","",IF(MONTH(M39+1)<>MONTH(M39),"",M39+1)) -> 46343 | O39: =IF(N39="","",IF(MONTH(N39+1)<>MONTH(N39),"",N39+1)) -> 46344 | P39: =IF(O39="","",IF(MONTH(O39+1)<>MONTH(O39),"",O39+1)) -> 46345 | Q39: =IF(P39="","",IF(MONTH(P39+1)<>MONTH(P39),"",P39+1)) -> 46346 | S39: =IF(Y38="","",IF(MONTH(Y38+1)<>MONTH(Y38),"",Y38+1)) -> 46368 | T39: =IF(S39="","",IF(MONTH(S39+1)<>MONTH(S39),"",S39+1)) -> 46369 | U39: =IF(T39="","",IF(MONTH(T39+1)<>MONTH(T39),"",T39+1)) -> 46370 | V39: =IF(U39="","",IF(MONTH(U39+1)<>MONTH(U39),"",U39+1)) -> 46371 | W39: =IF(V39="","",IF(MONTH(V39+1)<>MONTH(V39),"",V39+1)) -> 46372 | X39: =IF(W39="","",IF(MONTH(W39+1)<>MONTH(W39),"",W39+1)) -> 46373 | Y39: =IF(X39="","",IF(MONTH(X39+1)<>MONTH(X39),"",X39+1)) -> 46374
C40: =IF(I39="","",IF(MONTH(I39+1)<>MONTH(I39),"",I39+1)) -> 46312 | D40: =IF(C40="","",IF(MONTH(C40+1)<>MONTH(C40),"",C40+1)) -> 46313 | E40: =IF(D40="","",IF(MONTH(D40+1)<>MONTH(D40),"",D40+1)) -> 46314 | F40: =IF(E40="","",IF(MONTH(E40+1)<>MONTH(E40),"",E40+1)) -> 46315 | G40: =IF(F40="","",IF(MONTH(F40+1)<>MONTH(F40),"",F40+1)) -> 46316 | H40: =IF(G40="","",IF(MONTH(G40+1)<>MONTH(G40),"",G40+1)) -> 46317 | I40: =IF(H40="","",IF(MONTH(H40+1)<>MONTH(H40),"",H40+1)) -> 46318 | K40: =IF(Q39="","",IF(MONTH(Q39+1)<>MONTH(Q39),"",Q39+1)) -> 46347 | L40: =IF(K40="","",IF(MONTH(K40+1)<>MONTH(K40),"",K40+1)) -> 46348 | M40: =IF(L40="","",IF(MONTH(L40+1)<>MONTH(L40),"",L40+1)) -> 46349 | N40: =IF(M40="","",IF(MONTH(M40+1)<>MONTH(M40),"",M40+1)) -> 46350 | O40: =IF(N40="","",IF(MONTH(N40+1)<>MONTH(N40),"",N40+1)) -> 46351 | P40: =IF(O40="","",IF(MONTH(O40+1)<>MONTH(O40),"",O40+1)) -> 46352 | Q40: =IF(P40="","",IF(MONTH(P40+1)<>MONTH(P40),"",P40+1)) -> 46353 | S40: =IF(Y39="","",IF(MONTH(Y39+1)<>MONTH(Y39),"",Y39+1)) -> 46375 | T40: =IF(S40="","",IF(MONTH(S40+1)<>MONTH(S40),"",S40+1)) -> 46376 | U40: =IF(T40="","",IF(MONTH(T40+1)<>MONTH(T40),"",T40+1)) -> 46377 | V40: =IF(U40="","",IF(MONTH(U40+1)<>MONTH(U40),"",U40+1)) -> 46378 | W40: =IF(V40="","",IF(MONTH(V40+1)<>MONTH(V40),"",V40+1)) -> 46379 | X40: =IF(W40="","",IF(MONTH(W40+1)<>MONTH(W40),"",W40+1)) -> 46380 | Y40: =IF(X40="","",IF(MONTH(X40+1)<>MONTH(X40),"",X40+1)) -> 46381
C41: =IF(I40="","",IF(MONTH(I40+1)<>MONTH(I40),"",I40+1)) -> 46319 | D41: =IF(C41="","",IF(MONTH(C41+1)<>MONTH(C41),"",C41+1)) -> 46320 | E41: =IF(D41="","",IF(MONTH(D41+1)<>MONTH(D41),"",D41+1)) -> 46321 | F41: =IF(E41="","",IF(MONTH(E41+1)<>MONTH(E41),"",E41+1)) -> 46322 | G41: =IF(F41="","",IF(MONTH(F41+1)<>MONTH(F41),"",F41+1)) -> 46323 | H41: =IF(G41="","",IF(MONTH(G41+1)<>MONTH(G41),"",G41+1)) -> 46324 | I41: =IF(H41="","",IF(MONTH(H41+1)<>MONTH(H41),"",H41+1)) -> 46325 | K41: =IF(Q40="","",IF(MONTH(Q40+1)<>MONTH(Q40),"",Q40+1)) -> 46354 | L41: =IF(K41="","",IF(MONTH(K41+1)<>MONTH(K41),"",K41+1)) -> 46355 | M41: =IF(L41="","",IF(MONTH(L41+1)<>MONTH(L41),"",L41+1)) -> 46356 | N41: =IF(M41="","",IF(MONTH(M41+1)<>MONTH(M41),"",M41+1)) | O41: =IF(N41="","",IF(MONTH(N41+1)<>MONTH(N41),"",N41+1)) | P41: =IF(O41="","",IF(MONTH(O41+1)<>MONTH(O41),"",O41+1)) | Q41: =IF(P41="","",IF(MONTH(P41+1)<>MONTH(P41),"",P41+1)) | S41: =IF(Y40="","",IF(MONTH(Y40+1)<>MONTH(Y40),"",Y40+1)) -> 46382 | T41: =IF(S41="","",IF(MONTH(S41+1)<>MONTH(S41),"",S41+1)) -> 46383 | U41: =IF(T41="","",IF(MONTH(T41+1)<>MONTH(T41),"",T41+1)) -> 46384 | V41: =IF(U41="","",IF(MONTH(U41+1)<>MONTH(U41),"",U41+1)) -> 46385 | W41: =IF(V41="","",IF(MONTH(V41+1)<>MONTH(V41),"",V41+1)) -> 46386 | X41: =IF(W41="","",IF(MONTH(W41+1)<>MONTH(W41),"",W41+1)) -> 46387 | Y41: =IF(X41="","",IF(MONTH(X41+1)<>MONTH(X41),"",X41+1))
C42: =IF(I41="","",IF(MONTH(I41+1)<>MONTH(I41),"",I41+1)) -> 46326 | D42: =IF(C42="","",IF(MONTH(C42+1)<>MONTH(C42),"",C42+1)) | E42: =IF(D42="","",IF(MONTH(D42+1)<>MONTH(D42),"",D42+1)) | F42: =IF(E42="","",IF(MONTH(E42+1)<>MONTH(E42),"",E42+1)) | G42: =IF(F42="","",IF(MONTH(F42+1)<>MONTH(F42),"",F42+1)) | H42: =IF(G42="","",IF(MONTH(G42+1)<>MONTH(G42),"",G42+1)) | I42: =IF(H42="","",IF(MONTH(H42+1)<>MONTH(H42),"",H42+1)) | K42: =IF(Q41="","",IF(MONTH(Q41+1)<>MONTH(Q41),"",Q41+1)) | L42: =IF(K42="","",IF(MONTH(K42+1)<>MONTH(K42),"",K42+1)) | M42: =IF(L42="","",IF(MONTH(L42+1)<>MONTH(L42),"",L42+1)) | N42: =IF(M42="","",IF(MONTH(M42+1)<>MONTH(M42),"",M42+1)) | O42: =IF(N42="","",IF(MONTH(N42+1)<>MONTH(N42),"",N42+1)) | P42: =IF(O42="","",IF(MONTH(O42+1)<>MONTH(O42),"",O42+1)) | Q42: =IF(P42="","",IF(MONTH(P42+1)<>MONTH(P42),"",P42+1)) | S42: =IF(Y41="","",IF(MONTH(Y41+1)<>MONTH(Y41),"",Y41+1)) | T42: =IF(S42="","",IF(MONTH(S42+1)<>MONTH(S42),"",S42+1)) | U42: =IF(T42="","",IF(MONTH(T42+1)<>MONTH(T42),"",T42+1)) | V42: =IF(U42="","",IF(MONTH(U42+1)<>MONTH(U42),"",U42+1)) | W42: =IF(V42="","",IF(MONTH(V42+1)<>MONTH(V42),"",V42+1)) | X42: =IF(W42="","",IF(MONTH(W42+1)<>MONTH(W42),"",W42+1)) | Y42: =IF(X42="","",IF(MONTH(X42+1)<>MONTH(X42),"",X42+1))

Sheet Лист2
D2: Год | E2: =IF(MONTH(TODAY())=12,YEAR(TODAY())+1,YEAR(TODAY())) -> 2026 | J2: Месяц | K2: 1 | O2: День начала | P2: 7 | R2: 1:Вс, 2:Пн …
C5: 2025
C8: =DATE(E2,K2,1) -> 46023 | K8: =DATE(YEAR(C8+42),MONTH(C8+42),1) -> 46054 | S8: =DATE(YEAR(K8+42),MONTH(K8+42),1) -> 46082
C9: =CHOOSE(1+MOD($P$2+1-2,7),"ПН","ВТ","СР","ЧТ","ПТ","СБ","ВС") -> ВС | D9: =CHOOSE(1+MOD($P$2+2-2,7),"ПН","ВТ","СР","ЧТ","ПТ","СБ","ВС") -> ПН | E9: =CHOOSE(1+MOD($P$2+3-2,7),"ПН","ВТ","СР","ЧТ","ПТ","СБ","ВС") -> ВТ | F9: =CHOOSE(1+MOD($P$2+4-2,7),"ПН","ВТ","СР","ЧТ","ПТ","СБ","ВС") -> СР | G9: =CHOOSE(1+MOD($P$2+5-2,7),"ПН","ВТ","СР","ЧТ","ПТ","СБ","ВС") -> ЧТ | H9: =CHOOSE(1+MOD($P$2+6-2,7),"ПН","ВТ","СР","ЧТ","ПТ","СБ","ВС") -> ПТ | I9: =CHOOSE(1+MOD($P$2+7-2,7),"ПН","ВТ","СР","ЧТ","ПТ","СБ","ВС") -> СБ | K9: =CHOOSE(1+MOD($P$2+1-2,7),"ПН","ВТ","СР","ЧТ","ПТ","СБ","ВС") -> ВС | L9: =CHOOSE(1+MOD($P$2+2-2,7),"ПН","ВТ","СР","ЧТ","ПТ","СБ","ВС") -> ПН | M9: =CHOOSE(1+MOD($P$2+3-2,7),"ПН","ВТ","СР","ЧТ","ПТ","СБ","ВС") -> ВТ | N9: =CHOOSE(1+MOD($P$2+4-2,7),"ПН","ВТ","СР","ЧТ","ПТ","СБ","ВС") -> СР | O9: =CHOOSE(1+MOD($P$2+5-2,7),"ПН","ВТ","СР","ЧТ","ПТ","СБ","ВС") -> ЧТ | P9: =CHOOSE(1+MOD($P$2+6-2,7),"ПН","ВТ","СР","ЧТ","ПТ","СБ","ВС") -> ПТ | Q9: =CHOOSE(1+MOD($P$2+7-2,7),"ПН","ВТ","СР","ЧТ","ПТ","СБ","ВС") -> СБ | S9: =CHOOSE(1+MOD($P$2+1-2,7),"ПН","ВТ","СР","ЧТ","ПТ","СБ","ВС") -> ВС | T9: =CHOOSE(1+MOD($P$2+2-2,7),"ПН","ВТ","СР","ЧТ","ПТ","СБ","ВС") -> ПН | U9: =CHOOSE(1+MOD($P$2+3-2,7),"ПН","ВТ","СР","ЧТ","ПТ","СБ","ВС") -> ВТ | V9: =CHOOSE(1+MOD($P$2+4-2,7),"ПН","ВТ","СР","ЧТ","ПТ","СБ","ВС") -> СР | W9: =CHOOSE(1+MOD($P$2+5-2,7),"ПН","ВТ","СР","ЧТ","ПТ","СБ","ВС") -> ЧТ | X9: =CHOOSE(1+MOD($P$2+6-2,7),"ПН","ВТ","СР","ЧТ","ПТ","СБ","ВС") -> ПТ | Y9: =CHOOSE(1+MOD($P$2+7-2,7),"ПН","ВТ","СР","ЧТ","ПТ","СБ","ВС") -> СБ
G10: 45658 | H10: 45659 | I10: 45660 | K10: 1 | L10: 2 | M10: 3 | S10: 45717 | T10: 45718 | U10: 45719 | V10: 45720 | W10: 45721 | X10: 45722 | Y10: 45723
C11: 45661 | D11: 45662 | E11: 45663 | F11: 45664 | G11: 45665 | H11: 45666 | I11: 45667 | S11: 45724 | T11: 45725 | U11: 45726 | V11: 45727 | W11: 45728 | X11: 45729 | Y11: 45730
C12: 45668 | D12: 45669 | E12: 45670 | F12: 45671 | G12: 45672 | H12: 45673 | I12: 45674 | S12: 45731 | T12: 45732 | U12: 45733 | V12: 45734 | W12: 45735 | X12: 45736 | Y12: 45737
C13: 45675 | D13: 45676 | E13: 45677 | F13: 45678 | G13: 45679 | H13: 45680 | I13: 45681 | S13: 45738 | T13: 45739 | U13: 45740 | V13: 45741 | W13: 45742 | X13: 45743 | Y13: 45744
C14: 45682 | D14: 45683 | E14: 45684 | F14: 45685 | G14: 45686 | H14: 45687 | I14: 45688 | S14: 45745 | T14: 45746 | U14: 45747
C17: =DATE(YEAR(S8+42),MONTH(S8+42),1) -> 46113 | K17: =DATE(YEAR(C17+42),MONTH(C17+42),1) -> 46143 | S17: =DATE(YEAR(K17+42),MONTH(K17+42),1) -> 46174
C18: =CHOOSE(1+MOD($P$2+1-2,7),"ПН","ВТ","СР","ЧТ","ПТ","СБ","ВС") -> ВС | D18: =CHOOSE(1+MOD($P$2+2-2,7),"ПН","ВТ","СР","ЧТ","ПТ","СБ","ВС") -> ПН | E18: =CHOOSE(1+MOD($P$2+3-2,7),"ПН","ВТ","СР","ЧТ","ПТ","СБ","ВС") -> ВТ | F18: =CHOOSE(1+MOD($P$2+4-2,7),"ПН","ВТ","СР","ЧТ","ПТ","СБ","ВС") -> СР | G18: =CHOOSE(1+MOD($P$2+5-2,7),"ПН","ВТ","СР","ЧТ","ПТ","СБ","ВС") -> ЧТ | H18: =CHOOSE(1+MOD($P$2+6-2,7),"ПН","ВТ","СР","ЧТ","ПТ","СБ","ВС") -> ПТ | I18: =CHOOSE(1+MOD($P$2+7-2,7),"ПН","ВТ","СР","ЧТ","ПТ","СБ","ВС") -> СБ | K18: =CHOOSE(1+MOD($P$2+1-2,7),"ПН","ВТ","СР","ЧТ","ПТ","СБ","ВС") -> ВС | L18: =CHOOSE(1+MOD($P$2+2-2,7),"ПН","ВТ","СР","ЧТ","ПТ","СБ","ВС") -> ПН | M18: =CHOOSE(1+MOD($P$2+3-2,7),"ПН","ВТ","СР","ЧТ","ПТ","СБ","ВС") -> ВТ | N18: =CHOOSE(1+MOD($P$2+4-2,7),"ПН","ВТ","СР","ЧТ","ПТ","СБ","ВС") -> СР | O18: =CHOOSE(1+MOD($P$2+5-2,7),"ПН","ВТ","СР","ЧТ","ПТ","СБ","ВС") -> ЧТ | P18: =CHOOSE(1+MOD($P$2+6-2,7),"ПН","ВТ","СР","ЧТ","ПТ","СБ","ВС") -> ПТ | Q18: =CHOOSE(1+MOD($P$2+7-2,7),"ПН","ВТ","СР","ЧТ","ПТ","СБ","ВС") -> СБ | S18: =CHOOSE(1+MOD($P$2+1-2,7),"ПН","ВТ","СР","ЧТ","ПТ","СБ","ВС") -> ВС | T18: =CHOOSE(1+MOD($P$2+2-2,7),"ПН","ВТ","СР","ЧТ","ПТ","СБ","ВС") -> ПН | U18: =CHOOSE(1+MOD($P$2+3-2,7),"ПН","ВТ","СР","ЧТ","ПТ","СБ","ВС") -> ВТ | V18: =CHOOSE(1+MOD($P$2+4-2,7),"ПН","ВТ","СР","ЧТ","ПТ","СБ","ВС") -> СР | W18: =CHOOSE(1+MOD($P$2+5-2,7),"ПН","ВТ","СР","ЧТ","ПТ","СБ","ВС") -> ЧТ | X18: =CHOOSE(1+MOD($P$2+6-2,7),"ПН","ВТ","СР","ЧТ","ПТ","СБ","ВС") -> ПТ | Y18: =CHOOSE(1+MOD($P$2+7-2,7),"ПН","ВТ","СР","ЧТ","ПТ","СБ","ВС") -> СБ
C19: =IF(WEEKDAY(C17,1)=MOD($P$2-1,7)+1,C17,"") | D19: =IF(C19="",IF(WEEKDAY(C17,1)=MOD($P$2,7)+1,C17,""),C19+1) | E19: =IF(D19="",IF(WEEKDAY(C17,1)=MOD($P$2+1,7)+1,C17,""),D19+1) | F19: =IF(E19="",IF(WEEKDAY(C17,1)=MOD($P$2+2,7)+1,C17,""),E19+1) | G19: =IF(F19="",IF(WEEKDAY(C17,1)=MOD($P$2+3,7)+1,C17,""),F19+1) -> 46113 | H19: =IF(G19="",IF(WEEKDAY(C17,1)=MOD($P$2+4,7)+1,C17,""),G19+1) -> 46114 | I19: =IF(H19="",IF(WEEKDAY(C17,1)=MOD($P$2+5,7)+1,C17,""),H19+1) -> 46115 | K19: =IF(WEEKDAY(K17,1)=MOD($P$2-1,7)+1,K17,"") | L19: =IF(K19="",IF(WEEKDAY(K17,1)=MOD($P$2,7)+1,K17,""),K19+1) | M19: =IF(L19="",IF(WEEKDAY(K17,1)=MOD($P$2+1,7)+1,K17,""),L19+1) | N19: =IF(M19="",IF(WEEKDAY(K17,1)=MOD($P$2+2,7)+1,K17,""),M19+1) | O19: =IF(N19="",IF(WEEKDAY(K17,1)=MOD($P$2+3,7)+1,K17,""),N19+1) | P19: =IF(O19="",IF(WEEKDAY(K17,1)=MOD($P$2+4,7)+1,K17,""),O19+1) | Q19: =IF(P19="",IF(WEEKDAY(K17,1)=MOD($P$2+5,7)+1,K17,""),P19+1) -> 46143 | S19: =IF(WEEKDAY(S17,1)=MOD($P$2-1,7)+1,S17,"") | T19: =IF(S19="",IF(WEEKDAY(S17,1)=MOD($P$2,7)+1,S17,""),S19+1) | U19: =IF(T19="",IF(WEEKDAY(S17,1)=MOD($P$2+1,7)+1,S17,""),T19+1) -> 46174 | V19: =IF(U19="",IF(WEEKDAY(S17,1)=MOD($P$2+2,7)+1,S17,""),U19+1) -> 46175 | W19: =IF(V19="",IF(WEEKDAY(S17,1)=MOD($P$2+3,7)+1,S17,""),V19+1) -> 46176 | X19: =IF(W19="",IF(WEEKDAY(S17,1)=MOD($P$2+4,7)+1,S17,""),W19+1) -> 46177 | Y19: =IF(X19="",IF(WEEKDAY(S17,1)=MOD($P$2+5,7)+1,S17,""),X19+1) -> 46178
C20: =IF(I19="","",IF(MONTH(I19+1)<>MONTH(I19),"",I19+1)) -> 46116 | D20: =IF(C20="","",IF(MONTH(C20+1)<>MONTH(C20),"",C20+1)) -> 46117 | E20: =IF(D20="","",IF(MONTH(D20+1)<>MONTH(D20),"",D20+1)) -> 46118 | F20: =IF(E20="","",IF(MONTH(E20+1)<>MONTH(E20),"",E20+1)) -> 46119 | G20: =IF(F20="","",IF(MONTH(F20+1)<>MONTH(F20),"",F20+1)) -> 46120 | H20: =IF(G20="","",IF(MONTH(G20+1)<>MONTH(G20),"",G20+1)) -> 46121 | I20: =IF(H20="","",IF(MONTH(H20+1)<>MONTH(H20),"",H20+1)) -> 46122 | K20: =IF(Q19="","",IF(MONTH(Q19+1)<>MONTH(Q19),"",Q19+1)) -> 46144 | L20: =IF(K20="","",IF(MONTH(K20+1)<>MONTH(K20),"",K20+1)) -> 46145 | M20: =IF(L20="","",IF(MONTH(L20+1)<>MONTH(L20),"",L20+1)) -> 46146 | N20: =IF(M20="","",IF(MONTH(M20+1)<>MONTH(M20),"",M20+1)) -> 46147 | O20: =IF(N20="","",IF(MONTH(N20+1)<>MONTH(N20),"",N20+1)) -> 46148 | P20: =IF(O20="","",IF(MONTH(O20+1)<>MONTH(O20),"",O20+1)) -> 46149 | Q20: =IF(P20="","",IF(MONTH(P20+1)<>MONTH(P20),"",P20+1)) -> 46150 | S20: =IF(Y19="","",IF(MONTH(Y19+1)<>MONTH(Y19),"",Y19+1)) -> 46179 | T20: =IF(S20="","",IF(MONTH(S20+1)<>MONTH(S20),"",S20+1)) -> 46180 | U20: =IF(T20="","",IF(MONTH(T20+1)<>MONTH(T20),"",T20+1)) -> 46181 | V20: =IF(U20="","",IF(MONTH(U20+1)<>MONTH(U20),"",U20+1)) -> 46182 | W20: =IF(V20="","",IF(MONTH(V20+1)<>MONTH(V20),"",V20+1)) -> 46183 | X20: =IF(W20="","",IF(MONTH(W20+1)<>MONTH(W20),"",W20+1)) -> 46184 | Y20: =IF(X20="","",IF(MONTH(X20+1)<>MONTH(X20),"",X20+1)) -> 46185
C21: =IF(I20="","",IF(MONTH(I20+1)<>MONTH(I20),"",I20+1)) -> 46123 | D21: =IF(C21="","",IF(MONTH(C21+1)<>MONTH(C21),"",C21+1)) -> 46124 | E21: =IF(D21="","",IF(MONTH(D21+1)<>MONTH(D21),"",D21+1)) -> 46125 | F21: =IF(E21="","",IF(MONTH(E21+1)<>MONTH(E21),"",E21+1)) -> 46126 | G21: =IF(F21="","",IF(MONTH(F21+1)<>MONTH(F21),"",F21+1)) -> 46127 | H21: =IF(G21="","",IF(MONTH(G21+1)<>MONTH(G21),"",G21+1)) -> 46128 | I21: =IF(H21="","",IF(MONTH(H21+1)<>MONTH(H21),"",H21+1)) -> 46129 | K21: =IF(Q20="","",IF(MONTH(Q20+1)<>MONTH(Q20),"",Q20+1)) -> 46151 | L21: =IF(K21="","",IF(MONTH(K21+1)<>MONTH(K21),"",K21+1)) -> 46152 | M21: =IF(L21="","",IF(MONTH(L21+1)<>MONTH(L21),"",L21+1)) -> 46153 | N21: =IF(M21="","",IF(MONTH(M21+1)<>MONTH(M21),"",M21+1)) -> 46154 | O21: =IF(N21="","",IF(MONTH(N21+1)<>MONTH(N21),"",N21+1)) -> 46155 | P21: =IF(O21="","",IF(MONTH(O21+1)<>MONTH(O21),"",O21+1)) -> 46156 | Q21: =IF(P21="","",IF(MONTH(P21+1)<>MONTH(P21),"",P21+1)) -> 46157 | S21: =IF(Y20="","",IF(MONTH(Y20+1)<>MONTH(Y20),"",Y20+1)) -> 46186 | T21: =IF(S21="","",IF(MONTH(S21+1)<>MONTH(S21),"",S21+1)) -> 46187 | U21: =IF(T21="","",IF(MONTH(T21+1)<>MONTH(T21),"",T21+1)) -> 46188 | V21: =IF(U21="","",IF(MONTH(U21+1)<>MONTH(U21),"",U21+1)) -> 46189 | W21: =IF(V21="","",IF(MONTH(V21+1)<>MONTH(V21),"",V21+1)) -> 46190 | X21: =IF(W21="","",IF(MONTH(W21+1)<>MONTH(W21),"",W21+1)) -> 46191 | Y21: =IF(X21="","",IF(MONTH(X21+1)<>MONTH(X21),"",X21+1)) -> 46192
C22: =IF(I21="","",IF(MONTH(I21+1)<>MONTH(I21),"",I21+1)) -> 46130 | D22: =IF(C22="","",IF(MONTH(C22+1)<>MONTH(C22),"",C22+1)) -> 46131 | E22: =IF(D22="","",IF(MONTH(D22+1)<>MONTH(D22),"",D22+1)) -> 46132 | F22: =IF(E22="","",IF(MONTH(E22+1)<>MONTH(E22),"",E22+1)) -> 46133 | G22: =IF(F22="","",IF(MONTH(F22+1)<>MONTH(F22),"",F22+1)) -> 46134 | H22: =IF(G22="","",IF(MONTH(G22+1)<>MONTH(G22),"",G22+1)) -> 46135 | I22: =IF(H22="","",IF(MONTH(H22+1)<>MONTH(H22),"",H22+1)) -> 46136 | K22: =IF(Q21="","",IF(MONTH(Q21+1)<>MONTH(Q21),"",Q21+1)) -> 46158 | L22: =IF(K22="","",IF(MONTH(K22+1)<>MONTH(K22),"",K22+1)) -> 46159 | M22: =IF(L22="","",IF(MONTH(L22+1)<>MONTH(L22),"",L22+1)) -> 46160 | N22: =IF(M22="","",IF(MONTH(M22+1)<>MONTH(M22),"",M22+1)) -> 46161 | O22: =IF(N22="","",IF(MONTH(N22+1)<>MONTH(N22),"",N22+1)) -> 46162 | P22: =IF(O22="","",IF(MONTH(O22+1)<>MONTH(O22),"",O22+1)) -> 46163 | Q22: =IF(P22="","",IF(MONTH(P22+1)<>MONTH(P22),"",P22+1)) -> 46164 | S22: =IF(Y21="","",IF(MONTH(Y21+1)<>MONTH(Y21),"",Y21+1)) -> 46193 | T22: =IF(S22="","",IF(MONTH(S22+1)<>MONTH(S22),"",S22+1)) -> 46194 | U22: =IF(T22="","",IF(MONTH(T22+1)<>MONTH(T22),"",T22+1)) -> 46195 | V22: =IF(U22="","",IF(MONTH(U22+1)<>MONTH(U22),"",U22+1)) -> 46196 | W22: =IF(V22="","",IF(MONTH(V22+1)<>MONTH(V22),"",V22+1)) -> 46197 | X22: =IF(W22="","",IF(MONTH(W22+1)<>MONTH(W22),"",W22+1)) -> 46198 | Y22: =IF(X22="","",IF(MONTH(X22+1)<>MONTH(X22),"",X22+1)) -> 46199
C23: =IF(I22="","",IF(MONTH(I22+1)<>MONTH(I22),"",I22+1)) -> 46137 | D23: =IF(C23="","",IF(MONTH(C23+1)<>MONTH(C23),"",C23+1)) -> 46138 | E23: =IF(D23="","",IF(MONTH(D23+1)<>MONTH(D23),"",D23+1)) -> 46139 | F23: =IF(E23="","",IF(MONTH(E23+1)<>MONTH(E23),"",E23+1)) -> 46140 | G23: =IF(F23="","",IF(MONTH(F23+1)<>MONTH(F23),"",F23+1)) -> 46141 | H23: =IF(G23="","",IF(MONTH(G23+1)<>MONTH(G23),"",G23+1)) -> 46142 | I23: =IF(H23="","",IF(MONTH(H23+1)<>MONTH(H23),"",H23+1)) | K23: =IF(Q22="","",IF(MONTH(Q22+1)<>MONTH(Q22),"",Q22+1)) -> 46165 | L23: =IF(K23="","",IF(MONTH(K23+1)<>MONTH(K23),"",K23+1)) -> 46166 | M23: =IF(L23="","",IF(MONTH(L23+1)<>MONTH(L23),"",L23+1)) -> 46167 | N23: =IF(M23="","",IF(MONTH(M23+1)<>MONTH(M23),"",M23+1)) -> 46168 | O23: =IF(N23="","",IF(MONTH(N23+1)<>MONTH(N23),"",N23+1)) -> 46169 | P23: =IF(O23="","",IF(MONTH(O23+1)<>MONTH(O23),"",O23+1)) -> 46170 | Q23: =IF(P23="","",IF(MONTH(P23+1)<>MONTH(P23),"",P23+1)) -> 46171 | S23: =IF(Y22="","",IF(MONTH(Y22+1)<>MONTH(Y22),"",Y22+1)) -> 46200 | T23: =IF(S23="","",IF(MONTH(S23+1)<>MONTH(S23),"",S23+1)) -> 46201 | U23: =IF(T23="","",IF(MONTH(T23+1)<>MONTH(T23),"",T23+1)) -> 46202 | V23: =IF(U23="","",IF(MONTH(U23+1)<>MONTH(U23),"",U23+1)) -> 46203 | W23: =IF(V23="","",IF(MONTH(V23+1)<>MONTH(V23),"",V23+1)) | X23: =IF(W23="","",IF(MONTH(W23+1)<>MONTH(W23),"",W23+1)) | Y23: =IF(X23="","",IF(MONTH(X23+1)<>MONTH(X23),"",X23+1))
C24: =IF(I23="","",IF(MONTH(I23+1)<>MONTH(I23),"",I23+1)) | D24: =IF(C24="","",IF(MONTH(C24+1)<>MONTH(C24),"",C24+1)) | E24: =IF(D24="","",IF(MONTH(D24+1)<>MONTH(D24),"",D24+1)) | F24: =IF(E24="","",IF(MONTH(E24+1)<>MONTH(E24),"",E24+1)) | G24: =IF(F24="","",IF(MONTH(F24+1)<>MONTH(F24),"",F24+1)) | H24: =IF(G24="","",IF(MONTH(G24+1)<>MONTH(G24),"",G24+1)) | I24: =IF(H24="","",IF(MONTH(H24+1)<>MONTH(H24),"",H24+1)) | K24: =IF(Q23="","",IF(MONTH(Q23+1)<>MONTH(Q23),"",Q23+1)) -> 46172 | L24: =IF(K24="","",IF(MONTH(K24+1)<>MONTH(K24),"",K24+1)) -> 46173 | M24: =IF(L24="","",IF(MONTH(L24+1)<>MONTH(L24),"",L24+1)) | N24: =IF(M24="","",IF(MONTH(M24+1)<>MONTH(M24),"",M24+1)) | O24: =IF(N24="","",IF(MONTH(N24+1)<>MONTH(N24),"",N24+1)) | P24: =IF(O24="","",IF(MONTH(O24+1)<>MONTH(O24),"",O24+1)) | Q24: =IF(P24="","",IF(MONTH(P24+1)<>MONTH(P24),"",P24+1)) | S24: =IF(Y23="","",IF(MONTH(Y23+1)<>MONTH(Y23),"",Y23+1)) | T24: =IF(S24="","",IF(MONTH(S24+1)<>MONTH(S24),"",S24+1)) | U24: =IF(T24="","",IF(MONTH(T24+1)<>MONTH(T24),"",T24+1)) | V24: =IF(U24="","",IF(MONTH(U24+1)<>MONTH(U24),"",U24+1)) | W24: =IF(V24="","",IF(MONTH(V24+1)<>MONTH(V24),"",V24+1)) | X24: =IF(W24="","",IF(MONTH(W24+1)<>MONTH(W24),"",W24+1)) | Y24: =IF(X24="","",IF(MONTH(X24+1)<>MONTH(X24),"",X24+1))
C26: =DATE(YEAR(S17+42),MONTH(S17+42),1) -> 46204 | K26: =DATE(YEAR(C26+42),MONTH(C26+42),1) -> 46235 | S26: =DATE(YEAR(K26+42),MONTH(K26+42),1) -> 46266
C27: =CHOOSE(1+MOD($P$2+1-2,7),"ПН","ВТ","СР","ЧТ","ПТ","СБ","ВС") -> ВС | D27: =CHOOSE(1+MOD($P$2+2-2,7),"ПН","ВТ","СР","ЧТ","ПТ","СБ","ВС") -> ПН | E27: =CHOOSE(1+MOD($P$2+3-2,7),"ПН","ВТ","СР","ЧТ","ПТ","СБ","ВС") -> ВТ | F27: =CHOOSE(1+MOD($P$2+4-2,7),"ПН","ВТ","СР","ЧТ","ПТ","СБ","ВС") -> СР | G27: =CHOOSE(1+MOD($P$2+5-2,7),"ПН","ВТ","СР","ЧТ","ПТ","СБ","ВС") -> ЧТ | H27: =CHOOSE(1+MOD($P$2+6-2,7),"ПН","ВТ","СР","ЧТ","ПТ","СБ","ВС") -> ПТ | I27: =CHOOSE(1+MOD($P$2+7-2,7),"ПН","ВТ","СР","ЧТ","ПТ","СБ","ВС") -> СБ | K27: =CHOOSE(1+MOD($P$2+1-2,7),"ПН","ВТ","СР","ЧТ","ПТ","СБ","ВС") -> ВС | L27: =CHOOSE(1+MOD($P$2+2-2,7),"ПН","ВТ","СР","ЧТ","ПТ","СБ","ВС") -> ПН | M27: =CHOOSE(1+MOD($P$2+3-2,7),"ПН","ВТ","СР","ЧТ","ПТ","СБ","ВС") -> ВТ | N27: =CHOOSE(1+MOD($P$2+4-2,7),"ПН","ВТ","СР","ЧТ","ПТ","СБ","ВС") -> СР | O27: =CHOOSE(1+MOD($P$2+5-2,7),"ПН","ВТ","СР","ЧТ","ПТ","СБ","ВС") -> ЧТ | P27: =CHOOSE(1+MOD($P$2+6-2,7),"ПН","ВТ","СР","ЧТ","ПТ","СБ","ВС") -> ПТ | Q27: =CHOOSE(1+MOD($P$2+7-2,7),"ПН","ВТ","СР","ЧТ","ПТ","СБ","ВС") -> СБ | S27: =CHOOSE(1+MOD($P$2+1-2,7),"ПН","ВТ","СР","ЧТ","ПТ","СБ","ВС") -> ВС | T27: =CHOOSE(1+MOD($P$2+2-2,7),"ПН","ВТ","СР","ЧТ","ПТ","СБ","ВС") -> ПН | U27: =CHOOSE(1+MOD($P$2+3-2,7),"ПН","ВТ","СР","ЧТ","ПТ","СБ","ВС") -> ВТ | V27: =CHOOSE(1+MOD($P$2+4-2,7),"ПН","ВТ","СР","ЧТ","ПТ","СБ","ВС") -> СР | W27: =CHOOSE(1+MOD($P$2+5-2,7),"ПН","ВТ","СР","ЧТ","ПТ","СБ","ВС") -> ЧТ | X27: =CHOOSE(1+MOD($P$2+6-2,7),"ПН","ВТ","СР","ЧТ","ПТ","СБ","ВС") -> ПТ | Y27: =CHOOSE(1+MOD($P$2+7-2,7),"ПН","ВТ","СР","ЧТ","ПТ","СБ","ВС") -> СБ
C28: =IF(WEEKDAY(C26,1)=MOD($P$2-1,7)+1,C26,"") | D28: =IF(C28="",IF(WEEKDAY(C26,1)=MOD($P$2,7)+1,C26,""),C28+1) | E28: =IF(D28="",IF(WEEKDAY(C26,1)=MOD($P$2+1,7)+1,C26,""),D28+1) | F28: =IF(E28="",IF(WEEKDAY(C26,1)=MOD($P$2+2,7)+1,C26,""),E28+1) | G28: =IF(F28="",IF(WEEKDAY(C26,1)=MOD($P$2+3,7)+1,C26,""),F28+1) -> 46204 | H28: =IF(G28="",IF(WEEKDAY(C26,1)=MOD($P$2+4,7)+1,C26,""),G28+1) -> 46205 | I28: =IF(H28="",IF(WEEKDAY(C26,1)=MOD($P$2+5,7)+1,C26,""),H28+1) -> 46206 | K28: =IF(WEEKDAY(K26,1)=MOD($P$2-1,7)+1,K26,"") -> 46235 | L28: =IF(K28="",IF(WEEKDAY(K26,1)=MOD($P$2,7)+1,K26,""),K28+1) -> 46236 | M28: =IF(L28="",IF(WEEKDAY(K26,1)=MOD($P$2+1,7)+1,K26,""),L28+1) -> 46237 | N28: =IF(M28="",IF(WEEKDAY(K26,1)=MOD($P$2+2,7)+1,K26,""),M28+1) -> 46238 | O28: =IF(N28="",IF(WEEKDAY(K26,1)=MOD($P$2+3,7)+1,K26,""),N28+1) -> 46239 | P28: =IF(O28="",IF(WEEKDAY(K26,1)=MOD($P$2+4,7)+1,K26,""),O28+1) -> 46240 | Q28: =IF(P28="",IF(WEEKDAY(K26,1)=MOD($P$2+5,7)+1,K26,""),P28+1) -> 46241 | S28: =IF(WEEKDAY(S26,1)=MOD($P$2-1,7)+1,S26,"") | T28: =IF(S28="",IF(WEEKDAY(S26,1)=MOD($P$2,7)+1,S26,""),S28+1) | U28: =IF(T28="",IF(WEEKDAY(S26,1)=MOD($P$2+1,7)+1,S26,""),T28+1) | V28: =IF(U28="",IF(WEEKDAY(S26,1)=MOD($P$2+2,7)+1,S26,""),U28+1) -> 46266 | W28: =IF(V28="",IF(WEEKDAY(S26,1)=MOD($P$2+3,7)+1,S26,""),V28+1) -> 46267 | X28: =IF(W28="",IF(WEEKDAY(S26,1)=MOD($P$2+4,7)+1,S26,""),W28+1) -> 46268 | Y28: =IF(X28="",IF(WEEKDAY(S26,1)=MOD($P$2+5,7)+1,S26,""),X28+1) -> 46269
C29: =IF(I28="","",IF(MONTH(I28+1)<>MONTH(I28),"",I28+1)) -> 46207 | D29: =IF(C29="","",IF(MONTH(C29+1)<>MONTH(C29),"",C29+1)) -> 46208 | E29: =IF(D29="","",IF(MONTH(D29+1)<>MONTH(D29),"",D29+1)) -> 46209 | F29: =IF(E29="","",IF(MONTH(E29+1)<>MONTH(E29),"",E29+1)) -> 46210 | G29: =IF(F29="","",IF(MONTH(F29+1)<>MONTH(F29),"",F29+1)) -> 46211 | H29: =IF(G29="","",IF(MONTH(G29+1)<>MONTH(G29),"",G29+1)) -> 46212 | I29: =IF(H29="","",IF(MONTH(H29+1)<>MONTH(H29),"",H29+1)) -> 46213 | K29: =IF(Q28="","",IF(MONTH(Q28+1)<>MONTH(Q28),"",Q28+1)) -> 46242 | L29: =IF(K29="","",IF(MONTH(K29+1)<>MONTH(K29),"",K29+1)) -> 46243 | M29: =IF(L29="","",IF(MONTH(L29+1)<>MONTH(L29),"",L29+1)) -> 46244 | N29: =IF(M29="","",IF(MONTH(M29+1)<>MONTH(M29),"",M29+1)) -> 46245 | O29: =IF(N29="","",IF(MONTH(N29+1)<>MONTH(N29),"",N29+1)) -> 46246 | P29: =IF(O29="","",IF(MONTH(O29+1)<>MONTH(O29),"",O29+1)) -> 46247 | Q29: =IF(P29="","",IF(MONTH(P29+1)<>MONTH(P29),"",P29+1)) -> 46248 | S29: =IF(Y28="","",IF(MONTH(Y28+1)<>MONTH(Y28),"",Y28+1)) -> 46270 | T29: =IF(S29="","",IF(MONTH(S29+1)<>MONTH(S29),"",S29+1)) -> 46271 | U29: =IF(T29="","",IF(MONTH(T29+1)<>MONTH(T29),"",T29+1)) -> 46272 | V29: =IF(U29="","",IF(MONTH(U29+1)<>MONTH(U29),"",U29+1)) -> 46273 | W29: =IF(V29="","",IF(MONTH(V29+1)<>MONTH(V29),"",V29+1)) -> 46274 | X29: =IF(W29="","",IF(MONTH(W29+1)<>MONTH(W29),"",W29+1)) -> 46275 | Y29: =IF(X29="","",IF(MONTH(X29+1)<>MONTH(X29),"",X29+1)) -> 46276
C30: =IF(I29="","",IF(MONTH(I29+1)<>MONTH(I29),"",I29+1)) -> 46214 | D30: =IF(C30="","",IF(MONTH(C30+1)<>MONTH(C30),"",C30+1)) -> 46215 | E30: =IF(D30="","",IF(MONTH(D30+1)<>MONTH(D30),"",D30+1)) -> 46216 | F30: =IF(E30="","",IF(MONTH(E30+1)<>MONTH(E30),"",E30+1)) -> 46217 | G30: =IF(F30="","",IF(MONTH(F30+1)<>MONTH(F30),"",F30+1)) -> 46218 | H30: =IF(G30="","",IF(MONTH(G30+1)<>MONTH(G30),"",G30+1)) -> 46219 | I30: =IF(H30="","",IF(MONTH(H30+1)<>MONTH(H30),"",H30+1)) -> 46220 | K30: =IF(Q29="","",IF(MONTH(Q29+1)<>MONTH(Q29),"",Q29+1)) -> 46249 | L30: =IF(K30="","",IF(MONTH(K30+1)<>MONTH(K30),"",K30+1)) -> 46250 | M30: =IF(L30="","",IF(MONTH(L30+1)<>MONTH(L30),"",L30+1)) -> 46251 | N30: =IF(M30="","",IF(MONTH(M30+1)<>MONTH(M30),"",M30+1)) -> 46252 | O30: =IF(N30="","",IF(MONTH(N30+1)<>MONTH(N30),"",N30+1)) -> 46253 | P30: =IF(O30="","",IF(MONTH(O30+1)<>MONTH(O30),"",O30+1)) -> 46254 | Q30: =IF(P30="","",IF(MONTH(P30+1)<>MONTH(P30),"",P30+1)) -> 46255 | S30: =IF(Y29="","",IF(MONTH(Y29+1)<>MONTH(Y29),"",Y29+1)) -> 46277 | T30: =IF(S30="","",IF(MONTH(S30+1)<>MONTH(S30),"",S30+1)) -> 46278 | U30: =IF(T30="","",IF(MONTH(T30+1)<>MONTH(T30),"",T30+1)) -> 46279 | V30: =IF(U30="","",IF(MONTH(U30+1)<>MONTH(U30),"",U30+1)) -> 46280 | W30: =IF(V30="","",IF(MONTH(V30+1)<>MONTH(V30),"",V30+1)) -> 46281 | X30: =IF(W30="","",IF(MONTH(W30+1)<>MONTH(W30),"",W30+1)) -> 46282 | Y30: =IF(X30="","",IF(MONTH(X30+1)<>MONTH(X30),"",X30+1)) -> 46283
C31: =IF(I30="","",IF(MONTH(I30+1)<>MONTH(I30),"",I30+1)) -> 46221 | D31: =IF(C31="","",IF(MONTH(C31+1)<>MONTH(C31),"",C31+1)) -> 46222 | E31: =IF(D31="","",IF(MONTH(D31+1)<>MONTH(D31),"",D31+1)) -> 46223 | F31: =IF(E31="","",IF(MONTH(E31+1)<>MONTH(E31),"",E31+1)) -> 46224 | G31: =IF(F31="","",IF(MONTH(F31+1)<>MONTH(F31),"",F31+1)) -> 46225 | H31: =IF(G31="","",IF(MONTH(G31+1)<>MONTH(G31),"",G31+1)) -> 46226 | I31: =IF(H31="","",IF(MONTH(H31+1)<>MONTH(H31),"",H31+1)) -> 46227 | K31: =IF(Q30="","",IF(MONTH(Q30+1)<>MONTH(Q30),"",Q30+1)) -> 46256 | L31: =IF(K31="","",IF(MONTH(K31+1)<>MONTH(K31),"",K31+1)) -> 46257 | M31: =IF(L31="","",IF(MONTH(L31+1)<>MONTH(L31),"",L31+1)) -> 46258 | N31: =IF(M31="","",IF(MONTH(M31+1)<>MONTH(M31),"",M31+1)) -> 46259 | O31: =IF(N31="","",IF(MONTH(N31+1)<>MONTH(N31),"",N31+1)) -> 46260 | P31: =IF(O31="","",IF(MONTH(O31+1)<>MONTH(O31),"",O31+1)) -> 46261 | Q31: =IF(P31="","",IF(MONTH(P31+1)<>MONTH(P31),"",P31+1)) -> 46262 | S31: =IF(Y30="","",IF(MONTH(Y30+1)<>MONTH(Y30),"",Y30+1)) -> 46284 | T31: =IF(S31="","",IF(MONTH(S31+1)<>MONTH(S31),"",S31+1)) -> 46285 | U31: =IF(T31="","",IF(MONTH(T31+1)<>MONTH(T31),"",T31+1)) -> 46286 | V31: =IF(U31="","",IF(MONTH(U31+1)<>MONTH(U31),"",U31+1)) -> 46287 | W31: =IF(V31="","",IF(MONTH(V31+1)<>MONTH(V31),"",V31+1)) -> 46288 | X31: =IF(W31="","",IF(MONTH(W31+1)<>MONTH(W31),"",W31+1)) -> 46289 | Y31: =IF(X31="","",IF(MONTH(X31+1)<>MONTH(X31),"",X31+1)) -> 46290
C32: =IF(I31="","",IF(MONTH(I31+1)<>MONTH(I31),"",I31+1)) -> 46228 | D32: =IF(C32="","",IF(MONTH(C32+1)<>MONTH(C32),"",C32+1)) -> 46229 | E32: =IF(D32="","",IF(MONTH(D32+1)<>MONTH(D32),"",D32+1)) -> 46230 | F32: =IF(E32="","",IF(MONTH(E32+1)<>MONTH(E32),"",E32+1)) -> 46231 | G32: =IF(F32="","",IF(MONTH(F32+1)<>MONTH(F32),"",F32+1)) -> 46232 | H32: =IF(G32="","",IF(MONTH(G32+1)<>MONTH(G32),"",G32+1)) -> 46233 | I32: =IF(H32="","",IF(MONTH(H32+1)<>MONTH(H32),"",H32+1)) -> 46234 | K32: =IF(Q31="","",IF(MONTH(Q31+1)<>MONTH(Q31),"",Q31+1)) -> 46263 | L32: =IF(K32="","",IF(MONTH(K32+1)<>MONTH(K32),"",K32+1)) -> 46264 | M32: =IF(L32="","",IF(MONTH(L32+1)<>MONTH(L32),"",L32+1)) -> 46265 | N32: =IF(M32="","",IF(MONTH(M32+1)<>MONTH(M32),"",M32+1)) | O32: =IF(N32="","",IF(MONTH(N32+1)<>MONTH(N32),"",N32+1)) | P32: =IF(O32="","",IF(MONTH(O32+1)<>MONTH(O32),"",O32+1)) | Q32: =IF(P32="","",IF(MONTH(P32+1)<>MONTH(P32),"",P32+1)) | S32: =IF(Y31="","",IF(MONTH(Y31+1)<>MONTH(Y31),"",Y31+1)) -> 46291 | T32: =IF(S32="","",IF(MONTH(S32+1)<>MONTH(S32),"",S32+1)) -> 46292 | U32: =IF(T32="","",IF(MONTH(T32+1)<>MONTH(T32),"",T32+1)) -> 46293 | V32: =IF(U32="","",IF(MONTH(U32+1)<>MONTH(U32),"",U32+1)) -> 46294 | W32: =IF(V32="","",IF(MONTH(V32+1)<>MONTH(V32),"",V32+1)) -> 46295 | X32: =IF(W32="","",IF(MONTH(W32+1)<>MONTH(W32),"",W32+1)) | Y32: =IF(X32="","",IF(MONTH(X32+1)<>MONTH(X32),"",X32+1))
C33: =IF(I32="","",IF(MONTH(I32+1)<>MONTH(I32),"",I32+1)) | D33: =IF(C33="","",IF(MONTH(C33+1)<>MONTH(C33),"",C33+1)) | E33: =IF(D33="","",IF(MONTH(D33+1)<>MONTH(D33),"",D33+1)) | F33: =IF(E33="","",IF(MONTH(E33+1)<>MONTH(E33),"",E33+1)) | G33: =IF(F33="","",IF(MONTH(F33+1)<>MONTH(F33),"",F33+1)) | H33: =IF(G33="","",IF(MONTH(G33+1)<>MONTH(G33),"",G33+1)) | I33: =IF(H33="","",IF(MONTH(H33+1)<>MONTH(H33),"",H33+1)) | K33: =IF(Q32="","",IF(MONTH(Q32+1)<>MONTH(Q32),"",Q32+1)) | L33: =IF(K33="","",IF(MONTH(K33+1)<>MONTH(K33),"",K33+1)) | M33: =IF(L33="","",IF(MONTH(L33+1)<>MONTH(L33),"",L33+1)) | N33: =IF(M33="","",IF(MONTH(M33+1)<>MONTH(M33),"",M33+1)) | O33: =IF(N33="","",IF(MONTH(N33+1)<>MONTH(N33),"",N33+1)) | P33: =IF(O33="","",IF(MONTH(O33+1)<>MONTH(O33),"",O33+1)) | Q33: =IF(P33="","",IF(MONTH(P33+1)<>MONTH(P33),"",P33+1)) | S33: =IF(Y32="","",IF(MONTH(Y32+1)<>MONTH(Y32),"",Y32+1)) | T33: =IF(S33="","",IF(MONTH(S33+1)<>MONTH(S33),"",S33+1)) | U33: =IF(T33="","",IF(MONTH(T33+1)<>MONTH(T33),"",T33+1)) | V33: =IF(U33="","",IF(MONTH(U33+1)<>MONTH(U33),"",U33+1)) | W33: =IF(V33="","",IF(MONTH(V33+1)<>MONTH(V33),"",V33+1)) | X33: =IF(W33="","",IF(MONTH(W33+1)<>MONTH(W33),"",W33+1)) | Y33: =IF(X33="","",IF(MONTH(X33+1)<>MONTH(X33),"",X33+1))
C35: =DATE(YEAR(S26+42),MONTH(S26+42),1) -> 46296 | K35: =DATE(YEAR(C35+42),MONTH(C35+42),1) -> 46327 | S35: =DATE(YEAR(K35+42),MONTH(K35+42),1) -> 46357
C36: =CHOOSE(1+MOD($P$2+1-2,7),"ПН","ВТ","СР","ЧТ","ПТ","СБ","ВС") -> ВС | D36: =CHOOSE(1+MOD($P$2+2-2,7),"ПН","ВТ","СР","ЧТ","ПТ","СБ","ВС") -> ПН | E36: =CHOOSE(1+MOD($P$2+3-2,7),"ПН","ВТ","СР","ЧТ","ПТ","СБ","ВС") -> ВТ | F36: =CHOOSE(1+MOD($P$2+4-2,7),"ПН","ВТ","СР","ЧТ","ПТ","СБ","ВС") -> СР | G36: =CHOOSE(1+MOD($P$2+5-2,7),"ПН","ВТ","СР","ЧТ","ПТ","СБ","ВС") -> ЧТ | H36: =CHOOSE(1+MOD($P$2+6-2,7),"ПН","ВТ","СР","ЧТ","ПТ","СБ","ВС") -> ПТ | I36: =CHOOSE(1+MOD($P$2+7-2,7),"ПН","ВТ","СР","ЧТ","ПТ","СБ","ВС") -> СБ | K36: =CHOOSE(1+MOD($P$2+1-2,7),"ПН","ВТ","СР","ЧТ","ПТ","СБ","ВС") -> ВС | L36: =CHOOSE(1+MOD($P$2+2-2,7),"ПН","ВТ","СР","ЧТ","ПТ","СБ","ВС") -> ПН | M36: =CHOOSE(1+MOD($P$2+3-2,7),"ПН","ВТ","СР","ЧТ","ПТ","СБ","ВС") -> ВТ | N36: =CHOOSE(1+MOD($P$2+4-2,7),"ПН","ВТ","СР","ЧТ","ПТ","СБ","ВС") -> СР | O36: =CHOOSE(1+MOD($P$2+5-2,7),"ПН","ВТ","СР","ЧТ","ПТ","СБ","ВС") -> ЧТ | P36: =CHOOSE(1+MOD($P$2+6-2,7),"ПН","ВТ","СР","ЧТ","ПТ","СБ","ВС") -> ПТ | Q36: =CHOOSE(1+MOD($P$2+7-2,7),"ПН","ВТ","СР","ЧТ","ПТ","СБ","ВС") -> СБ | S36: =CHOOSE(1+MOD($P$2+1-2,7),"ПН","ВТ","СР","ЧТ","ПТ","СБ","ВС") -> ВС | T36: =CHOOSE(1+MOD($P$2+2-2,7),"ПН","ВТ","СР","ЧТ","ПТ","СБ","ВС") -> ПН | U36: =CHOOSE(1+MOD($P$2+3-2,7),"ПН","ВТ","СР","ЧТ","ПТ","СБ","ВС") -> ВТ | V36: =CHOOSE(1+MOD($P$2+4-2,7),"ПН","ВТ","СР","ЧТ","ПТ","СБ","ВС") -> СР | W36: =CHOOSE(1+MOD($P$2+5-2,7),"ПН","ВТ","СР","ЧТ","ПТ","СБ","ВС") -> ЧТ | X36: =CHOOSE(1+MOD($P$2+6-2,7),"ПН","ВТ","СР","ЧТ","ПТ","СБ","ВС") -> ПТ | Y36: =CHOOSE(1+MOD($P$2+7-2,7),"ПН","ВТ","СР","ЧТ","ПТ","СБ","ВС") -> СБ
C37: =IF(WEEKDAY(C35,1)=MOD($P$2-1,7)+1,C35,"") | D37: =IF(C37="",IF(WEEKDAY(C35,1)=MOD($P$2,7)+1,C35,""),C37+1) | E37: =IF(D37="",IF(WEEKDAY(C35,1)=MOD($P$2+1,7)+1,C35,""),D37+1) | F37: =IF(E37="",IF(WEEKDAY(C35,1)=MOD($P$2+2,7)+1,C35,""),E37+1) | G37: =IF(F37="",IF(WEEKDAY(C35,1)=MOD($P$2+3,7)+1,C35,""),F37+1) | H37: =IF(G37="",IF(WEEKDAY(C35,1)=MOD($P$2+4,7)+1,C35,""),G37+1) -> 46296 | I37: =IF(H37="",IF(WEEKDAY(C35,1)=MOD($P$2+5,7)+1,C35,""),H37+1) -> 46297 | K37: =IF(WEEKDAY(K35,1)=MOD($P$2-1,7)+1,K35,"") | L37: =IF(K37="",IF(WEEKDAY(K35,1)=MOD($P$2,7)+1,K35,""),K37+1) -> 46327 | M37: =IF(L37="",IF(WEEKDAY(K35,1)=MOD($P$2+1,7)+1,K35,""),L37+1) -> 46328 | N37: =IF(M37="",IF(WEEKDAY(K35,1)=MOD($P$2+2,7)+1,K35,""),M37+1) -> 46329 | O37: =IF(N37="",IF(WEEKDAY(K35,1)=MOD($P$2+3,7)+1,K35,""),N37+1) -> 46330 | P37: =IF(O37="",IF(WEEKDAY(K35,1)=MOD($P$2+4,7)+1,K35,""),O37+1) -> 46331 | Q37: =IF(P37="",IF(WEEKDAY(K35,1)=MOD($P$2+5,7)+1,K35,""),P37+1) -> 46332 | S37: =IF(WEEKDAY(S35,1)=MOD($P$2-1,7)+1,S35,"") | T37: =IF(S37="",IF(WEEKDAY(S35,1)=MOD($P$2,7)+1,S35,""),S37+1) | U37: =IF(T37="",IF(WEEKDAY(S35,1)=MOD($P$2+1,7)+1,S35,""),T37+1) | V37: =IF(U37="",IF(WEEKDAY(S35,1)=MOD($P$2+2,7)+1,S35,""),U37+1) -> 46357 | W37: =IF(V37="",IF(WEEKDAY(S35,1)=MOD($P$2+3,7)+1,S35,""),V37+1) -> 46358 | X37: =IF(W37="",IF(WEEKDAY(S35,1)=MOD($P$2+4,7)+1,S35,""),W37+1) -> 46359 | Y37: =IF(X37="",IF(WEEKDAY(S35,1)=MOD($P$2+5,7)+1,S35,""),X37+1) -> 46360
C38: =IF(I37="","",IF(MONTH(I37+1)<>MONTH(I37),"",I37+1)) -> 46298 | D38: =IF(C38="","",IF(MONTH(C38+1)<>MONTH(C38),"",C38+1)) -> 46299 | E38: =IF(D38="","",IF(MONTH(D38+1)<>MONTH(D38),"",D38+1)) -> 46300 | F38: =IF(E38="","",IF(MONTH(E38+1)<>MONTH(E38),"",E38+1)) -> 46301 | G38: =IF(F38="","",IF(MONTH(F38+1)<>MONTH(F38),"",F38+1)) -> 46302 | H38: =IF(G38="","",IF(MONTH(G38+1)<>MONTH(G38),"",G38+1)) -> 46303 | I38: =IF(H38="","",IF(MONTH(H38+1)<>MONTH(H38),"",H38+1)) -> 46304 | K38: =IF(Q37="","",IF(MONTH(Q37+1)<>MONTH(Q37),"",Q37+1)) -> 46333 | L38: =IF(K38="","",IF(MONTH(K38+1)<>MONTH(K38),"",K38+1)) -> 46334 | M38: =IF(L38="","",IF(MONTH(L38+1)<>MONTH(L38),"",L38+1)) -> 46335 | N38: =IF(M38="","",IF(MONTH(M38+1)<>MONTH(M38),"",M38+1)) -> 46336 | O38: =IF(N38="","",IF(MONTH(N38+1)<>MONTH(N38),"",N38+1)) -> 46337 | P38: =IF(O38="","",IF(MONTH(O38+1)<>MONTH(O38),"",O38+1)) -> 46338 | Q38: =IF(P38="","",IF(MONTH(P38+1)<>MONTH(P38),"",P38+1)) -> 46339 | S38: =IF(Y37="","",IF(MONTH(Y37+1)<>MONTH(Y37),"",Y37+1)) -> 46361 | T38: =IF(S38="","",IF(MONTH(S38+1)<>MONTH(S38),"",S38+1)) -> 46362 | U38: =IF(T38="","",IF(MONTH(T38+1)<>MONTH(T38),"",T38+1)) -> 46363 | V38: =IF(U38="","",IF(MONTH(U38+1)<>MONTH(U38),"",U38+1)) -> 46364 | W38: =IF(V38="","",IF(MONTH(V38+1)<>MONTH(V38),"",V38+1)) -> 46365 | X38: =IF(W38="","",IF(MONTH(W38+1)<>MONTH(W38),"",W38+1)) -> 46366 | Y38: =IF(X38="","",IF(MONTH(X38+1)<>MONTH(X38),"",X38+1)) -> 46367
C39: =IF(I38="","",IF(MONTH(I38+1)<>MONTH(I38),"",I38+1)) -> 46305 | D39: =IF(C39="","",IF(MONTH(C39+1)<>MONTH(C39),"",C39+1)) -> 46306 | E39: =IF(D39="","",IF(MONTH(D39+1)<>MONTH(D39),"",D39+1)) -> 46307 | F39: =IF(E39="","",IF(MONTH(E39+1)<>MONTH(E39),"",E39+1)) -> 46308 | G39: =IF(F39="","",IF(MONTH(F39+1)<>MONTH(F39),"",F39+1)) -> 46309 | H39: =IF(G39="","",IF(MONTH(G39+1)<>MONTH(G39),"",G39+1)) -> 46310 | I39: =IF(H39="","",IF(MONTH(H39+1)<>MONTH(H39),"",H39+1)) -> 46311 | K39: =IF(Q38="","",IF(MONTH(Q38+1)<>MONTH(Q38),"",Q38+1)) -> 46340 | L39: =IF(K39="","",IF(MONTH(K39+1)<>MONTH(K39),"",K39+1)) -> 46341 | M39: =IF(L39="","",IF(MONTH(L39+1)<>MONTH(L39),"",L39+1)) -> 46342 | N39: =IF(M39="","",IF(MONTH(M39+1)<>MONTH(M39),"",M39+1)) -> 46343 | O39: =IF(N39="","",IF(MONTH(N39+1)<>MONTH(N39),"",N39+1)) -> 46344 | P39: =IF(O39="","",IF(MONTH(O39+1)<>MONTH(O39),"",O39+1)) -> 46345 | Q39: =IF(P39="","",IF(MONTH(P39+1)<>MONTH(P39),"",P39+1)) -> 46346 | S39: =IF(Y38="","",IF(MONTH(Y38+1)<>MONTH(Y38),"",Y38+1)) -> 46368 | T39: =IF(S39="","",IF(MONTH(S39+1)<>MONTH(S39),"",S39+1)) -> 46369 | U39: =IF(T39="","",IF(MONTH(T39+1)<>MONTH(T39),"",T39+1)) -> 46370 | V39: =IF(U39="","",IF(MONTH(U39+1)<>MONTH(U39),"",U39+1)) -> 46371 | W39: =IF(V39="","",IF(MONTH(V39+1)<>MONTH(V39),"",V39+1)) -> 46372 | X39: =IF(W39="","",IF(MONTH(W39+1)<>MONTH(W39),"",W39+1)) -> 46373 | Y39: =IF(X39="","",IF(MONTH(X39+1)<>MONTH(X39),"",X39+1)) -> 46374
C40: =IF(I39="","",IF(MONTH(I39+1)<>MONTH(I39),"",I39+1)) -> 46312 | D40: =IF(C40="","",IF(MONTH(C40+1)<>MONTH(C40),"",C40+1)) -> 46313 | E40: =IF(D40="","",IF(MONTH(D40+1)<>MONTH(D40),"",D40+1)) -> 46314 | F40: =IF(E40="","",IF(MONTH(E40+1)<>MONTH(E40),"",E40+1)) -> 46315 | G40: =IF(F40="","",IF(MONTH(F40+1)<>MONTH(F40),"",F40+1)) -> 46316 | H40: =IF(G40="","",IF(MONTH(G40+1)<>MONTH(G40),"",G40+1)) -> 46317 | I40: =IF(H40="","",IF(MONTH(H40+1)<>MONTH(H40),"",H40+1)) -> 46318 | K40: =IF(Q39="","",IF(MONTH(Q39+1)<>MONTH(Q39),"",Q39+1)) -> 46347 | L40: =IF(K40="","",IF(MONTH(K40+1)<>MONTH(K40),"",K40+1)) -> 46348 | M40: =IF(L40="","",IF(MONTH(L40+1)<>MONTH(L40),"",L40+1)) -> 46349 | N40: =IF(M40="","",IF(MONTH(M40+1)<>MONTH(M40),"",M40+1)) -> 46350 | O40: =IF(N40="","",IF(MONTH(N40+1)<>MONTH(N40),"",N40+1)) -> 46351 | P40: =IF(O40="","",IF(MONTH(O40+1)<>MONTH(O40),"",O40+1)) -> 46352 | Q40: =IF(P40="","",IF(MONTH(P40+1)<>MONTH(P40),"",P40+1)) -> 46353 | S40: =IF(Y39="","",IF(MONTH(Y39+1)<>MONTH(Y39),"",Y39+1)) -> 46375 | T40: =IF(S40="","",IF(MONTH(S40+1)<>MONTH(S40),"",S40+1)) -> 46376 | U40: =IF(T40="","",IF(MONTH(T40+1)<>MONTH(T40),"",T40+1)) -> 46377 | V40: =IF(U40="","",IF(MONTH(U40+1)<>MONTH(U40),"",U40+1)) -> 46378 | W40: =IF(V40="","",IF(MONTH(V40+1)<>MONTH(V40),"",V40+1)) -> 46379 | X40: =IF(W40="","",IF(MONTH(W40+1)<>MONTH(W40),"",W40+1)) -> 46380 | Y40: =IF(X40="","",IF(MONTH(X40+1)<>MONTH(X40),"",X40+1)) -> 46381
C41: =IF(I40="","",IF(MONTH(I40+1)<>MONTH(I40),"",I40+1)) -> 46319 | D41: =IF(C41="","",IF(MONTH(C41+1)<>MONTH(C41),"",C41+1)) -> 46320 | E41: =IF(D41="","",IF(MONTH(D41+1)<>MONTH(D41),"",D41+1)) -> 46321 | F41: =IF(E41="","",IF(MONTH(E41+1)<>MONTH(E41),"",E41+1)) -> 46322 | G41: =IF(F41="","",IF(MONTH(F41+1)<>MONTH(F41),"",F41+1)) -> 46323 | H41: =IF(G41="","",IF(MONTH(G41+1)<>MONTH(G41),"",G41+1)) -> 46324 | I41: =IF(H41="","",IF(MONTH(H41+1)<>MONTH(H41),"",H41+1)) -> 46325 | K41: =IF(Q40="","",IF(MONTH(Q40+1)<>MONTH(Q40),"",Q40+1)) -> 46354 | L41: =IF(K41="","",IF(MONTH(K41+1)<>MONTH(K41),"",K41+1)) -> 46355 | M41: =IF(L41="","",IF(MONTH(L41+1)<>MONTH(L41),"",L41+1)) -> 46356 | N41: =IF(M41="","",IF(MONTH(M41+1)<>MONTH(M41),"",M41+1)) | O41: =IF(N41="","",IF(MONTH(N41+1)<>MONTH(N41),"",N41+1)) | P41: =IF(O41="","",IF(MONTH(O41+1)<>MONTH(O41),"",O41+1)) | Q41: =IF(P41="","",IF(MONTH(P41+1)<>MONTH(P41),"",P41+1)) | S41: =IF(Y40="","",IF(MONTH(Y40+1)<>MONTH(Y40),"",Y40+1)) -> 46382 | T41: =IF(S41="","",IF(MONTH(S41+1)<>MONTH(S41),"",S41+1)) -> 46383 | U41: =IF(T41="","",IF(MONTH(T41+1)<>MONTH(T41),"",T41+1)) -> 46384 | V41: =IF(U41="","",IF(MONTH(U41+1)<>MONTH(U41),"",U41+1)) -> 46385 | W41: =IF(V41="","",IF(MONTH(V41+1)<>MONTH(V41),"",V41+1)) -> 46386 | X41: =IF(W41="","",IF(MONTH(W41+1)<>MONTH(W41),"",W41+1)) -> 46387 | Y41: =IF(X41="","",IF(MONTH(X41+1)<>MONTH(X41),"",X41+1))
C42: =IF(I41="","",IF(MONTH(I41+1)<>MONTH(I41),"",I41+1)) -> 46326 | D42: =IF(C42="","",IF(MONTH(C42+1)<>MONTH(C42),"",C42+1)) | E42: =IF(D42="","",IF(MONTH(D42+1)<>MONTH(D42),"",D42+1)) | F42: =IF(E42="","",IF(MONTH(E42+1)<>MONTH(E42),"",E42+1)) | G42: =IF(F42="","",IF(MONTH(F42+1)<>MONTH(F42),"",F42+1)) | H42: =IF(G42="","",IF(MONTH(G42+1)<>MONTH(G42),"",G42+1)) | I42: =IF(H42="","",IF(MONTH(H42+1)<>MONTH(H42),"",H42+1)) | K42: =IF(Q41="","",IF(MONTH(Q41+1)<>MONTH(Q41),"",Q41+1)) | L42: =IF(K42="","",IF(MONTH(K42+1)<>MONTH(K42),"",K42+1)) | M42: =IF(L42="","",IF(MONTH(L42+1)<>MONTH(L42),"",L42+1)) | N42: =IF(M42="","",IF(MONTH(M42+1)<>MONTH(M42),"",M42+1)) | O42: =IF(N42="","",IF(MONTH(N42+1)<>MONTH(N42),"",N42+1)) | P42: =IF(O42="","",IF(MONTH(O42+1)<>MONTH(O42),"",O42+1)) | Q42: =IF(P42="","",IF(MONTH(P42+1)<>MONTH(P42),"",P42+1)) | S42: =IF(Y41="","",IF(MONTH(Y41+1)<>MONTH(Y41),"",Y41+1)) | T42: =IF(S42="","",IF(MONTH(S42+1)<>MONTH(S42),"",S42+1)) | U42: =IF(T42="","",IF(MONTH(T42+1)<>MONTH(T42),"",T42+1)) | V42: =IF(U42="","",IF(MONTH(U42+1)<>MONTH(U42),"",U42+1)) | W42: =IF(V42="","",IF(MONTH(V42+1)<>MONTH(V42),"",V42+1)) | X42: =IF(W42="","",IF(MONTH(W42+1)<>MONTH(W42),"",W42+1)) | Y42: =IF(X42="","",IF(MONTH(X42+1)<>MONTH(X42),"",X42+1))

Sheet Лист3
D2: Год | E2: =IF(MONTH(TODAY())=12,YEAR(TODAY())+1,YEAR(TODAY())) -> 2026 | J2: Месяц | K2: 1 | Q2: День начала | R2: 2 | U2: 1:Вск 2:Пнд...
C5: =E2 -> 2026 | Q5: Обзор года
C7: =DATE(E2,K2,1) -> 46023 | K7: =DATE(YEAR(C7+42),MONTH(C7+42),1) -> 46054 | S7: =DATE(YEAR(K7+42),MONTH(K7+42),1) -> 46082 | AA7: =DATE(YEAR(S7+42),MONTH(S7+42),1) -> 46113
C8: =CHOOSE(1+MOD($R$2+1-2,7),"ПН","ВТ","СР","ЧТ","ПТ","СБ","ВС") -> ВТ | D8: =CHOOSE(1+MOD($R$2+2-2,7),"ПН","ВТ","СР","ЧТ","ПТ","СБ","ВС") -> СР | E8: =CHOOSE(1+MOD($R$2+3-2,7),"ПН","ВТ","СР","ЧТ","ПТ","СБ","ВС") -> ЧТ | F8: =CHOOSE(1+MOD($R$2+4-2,7),"ПН","ВТ","СР","ЧТ","ПТ","СБ","ВС") -> ПТ | G8: =CHOOSE(1+MOD($R$2+5-2,7),"ПН","ВТ","СР","ЧТ","ПТ","СБ","ВС") -> СБ | H8: =CHOOSE(1+MOD($R$2+6-2,7),"ПН","ВТ","СР","ЧТ","ПТ","СБ","ВС") -> ВС | I8: =CHOOSE(1+MOD($R$2+7-2,7),"ПН","ВТ","СР","ЧТ","ПТ","СБ","ВС") -> ПН | K8: =CHOOSE(1+MOD($R$2+1-2,7),"ПН","ВТ","СР","ЧТ","ПТ","СБ","ВС") -> ВТ | L8: =CHOOSE(1+MOD($R$2+2-2,7),"ПН","ВТ","СР","ЧТ","ПТ","СБ","ВС") -> СР | M8: =CHOOSE(1+MOD($R$2+3-2,7),"ПН","ВТ","СР","ЧТ","ПТ","СБ","ВС") -> ЧТ | N8: =CHOOSE(1+MOD($R$2+4-2,7),"ПН","ВТ","СР","ЧТ","ПТ","СБ","ВС") -> ПТ | O8: =CHOOSE(1+MOD($R$2+5-2,7),"ПН","ВТ","СР","ЧТ","ПТ","СБ","ВС") -> СБ | P8: =CHOOSE(1+MOD($R$2+6-2,7),"ПН","ВТ","СР","ЧТ","ПТ","СБ","ВС") -> ВС | Q8: =CHOOSE(1+MOD($R$2+7-2,7),"ПН","ВТ","СР","ЧТ","ПТ","СБ","ВС") -> ПН | S8: =CHOOSE(1+MOD($R$2+1-2,7),"ПН","ВТ","СР","ЧТ","ПТ","СБ","ВС") -> ВТ | T8: =CHOOSE(1+MOD($R$2+2-2,7),"ПН","ВТ","СР","ЧТ","ПТ","СБ","ВС") -> СР | U8: =CHOOSE(1+MOD($R$2+3-2,7),"ПН","ВТ","СР","ЧТ","ПТ","СБ","ВС") -> ЧТ | V8: =CHOOSE(1+MOD($R$2+4-2,7),"ПН","ВТ","СР","ЧТ","ПТ","СБ","ВС") -> ПТ | W8: =CHOOSE(1+MOD($R$2+5-2,7),"ПН","ВТ","СР","ЧТ","ПТ","СБ","ВС") -> СБ | X8: =CHOOSE(1+MOD($R$2+6-2,7),"ПН","ВТ","СР","ЧТ","ПТ","СБ","ВС") -> ВС | Y8: =CHOOSE(1+MOD($R$2+7-2,7),"ПН","ВТ","СР","ЧТ","ПТ","СБ","ВС") -> ПН | AA8: =CHOOSE(1+MOD($R$2+1-2,7),"ПН","ВТ","СР","ЧТ","ПТ","СБ","ВС") -> ВТ | AB8: =CHOOSE(1+MOD($R$2+2-2,7),"ПН","ВТ","СР","ЧТ","ПТ","СБ","ВС") -> СР | AC8: =CHOOSE(1+MOD($R$2+3-2,7),"ПН","ВТ","СР","ЧТ","ПТ","СБ","ВС") -> ЧТ | AD8: =CHOOSE(1+MOD($R$2+4-2,7),"ПН","ВТ","СР","ЧТ","ПТ","СБ","ВС") -> ПТ | AE8: =CHOOSE(1+MOD($R$2+5-2,7),"ПН","ВТ","СР","ЧТ","ПТ","СБ","ВС") -> СБ | AF8: =CHOOSE(1+MOD($R$2+6-2,7),"ПН","ВТ","СР","ЧТ","ПТ","СБ","ВС") -> ВС | AG8: =CHOOSE(1+MOD($R$2+7-2,7),"ПН","ВТ","СР","ЧТ","ПТ","СБ","ВС") -> ПН
C9: =IF(WEEKDAY(C7,1)=MOD($R$2-1,7)+1,C7,"") | D9: =IF(C9="",IF(WEEKDAY(C7,1)=MOD($R$2,7)+1,C7,""),C9+1) | E9: =IF(D9="",IF(WEEKDAY(C7,1)=MOD($R$2+1,7)+1,C7,""),D9+1) | F9: =IF(E9="",IF(WEEKDAY(C7,1)=MOD($R$2+2,7)+1,C7,""),E9+1) -> 46023 | G9: =IF(F9="",IF(WEEKDAY(C7,1)=MOD($R$2+3,7)+1,C7,""),F9+1) -> 46024 | H9: =IF(G9="",IF(WEEKDAY(C7,1)=MOD($R$2+4,7)+1,C7,""),G9+1) -> 46025 | I9: =IF(H9="",IF(WEEKDAY(C7,1)=MOD($R$2+5,7)+1,C7,""),H9+1) -> 46026 | K9: =IF(WEEKDAY(K7,1)=MOD($R$2-1,7)+1,K7,"") | L9: =IF(K9="",IF(WEEKDAY(K7,1)=MOD($R$2,7)+1,K7,""),K9+1) | M9: =IF(L9="",IF(WEEKDAY(K7,1)=MOD($R$2+1,7)+1,K7,""),L9+1) | N9: =IF(M9="",IF(WEEKDAY(K7,1)=MOD($R$2+2,7)+1,K7,""),M9+1) | O9: =IF(N9="",IF(WEEKDAY(K7,1)=MOD($R$2+3,7)+1,K7,""),N9+1) | P9: =IF(O9="",IF(WEEKDAY(K7,1)=MOD($R$2+4,7)+1,K7,""),O9+1) | Q9: =IF(P9="",IF(WEEKDAY(K7,1)=MOD($R$2+5,7)+1,K7,""),P9+1) -> 46054 | S9: =IF(WEEKDAY(S7,1)=MOD($R$2-1,7)+1,S7,"") | T9: =IF(S9="",IF(WEEKDAY(S7,1)=MOD($R$2,7)+1,S7,""),S9+1) | U9: =IF(T9="",IF(WEEKDAY(S7,1)=MOD($R$2+1,7)+1,S7,""),T9+1) | V9: =IF(U9="",IF(WEEKDAY(S7,1)=MOD($R$2+2,7)+1,S7,""),U9+1) | W9: =IF(V9="",IF(WEEKDAY(S7,1)=MOD($R$2+3,7)+1,S7,""),V9+1) | X9: =IF(W9="",IF(WEEKDAY(S7,1)=MOD($R$2+4,7)+1,S7,""),W9+1) | Y9: =IF(X9="",IF(WEEKDAY(S7,1)=MOD($R$2+5,7)+1,S7,""),X9+1) -> 46082 | AA9: =IF(WEEKDAY(AA7,1)=MOD($R$2-1,7)+1,AA7,"") | AB9: =IF(AA9="",IF(WEEKDAY(AA7,1)=MOD($R$2,7)+1,AA7,""),AA9+1) | AC9: =IF(AB9="",IF(WEEKDAY(AA7,1)=MOD($R$2+1,7)+1,AA7,""),AB9+1) -> 46113 | AD9: =IF(AC9="",IF(WEEKDAY(AA7,1)=MOD($R$2+2,7)+1,AA7,""),AC9+1) -> 46114 | AE9: =IF(AD9="",IF(WEEKDAY(AA7,1)=MOD($R$2+3,7)+1,AA7,""),AD9+1) -> 46115 | AF9: =IF(AE9="",IF(WEEKDAY(AA7,1)=MOD($R$2+4,7)+1,AA7,""),AE9+1) -> 46116 | AG9: =IF(AF9="",IF(WEEKDAY(AA7,1)=MOD($R$2+5,7)+1,AA7,""),AF9+1) -> 46117
C10: =IF(I9="","",IF(MONTH(I9+1)<>MONTH(I9),"",I9+1)) -> 46027 | D10: =IF(C10="","",IF(MONTH(C10+1)<>MONTH(C10),"",C10+1)) -> 46028 | E10: =IF(D10="","",IF(MONTH(D10+1)<>MONTH(D10),"",D10+1)) -> 46029 | F10: =IF(E10="","",IF(MONTH(E10+1)<>MONTH(E10),"",E10+1)) -> 46030 | G10: =IF(F10="","",IF(MONTH(F10+1)<>MONTH(F10),"",F10+1)) -> 46031 | H10: =IF(G10="","",IF(MONTH(G10+1)<>MONTH(G10),"",G10+1)) -> 46032 | I10: =IF(H10="","",IF(MONTH(H10+1)<>MONTH(H10),"",H10+1)) -> 46033 | K10: =IF(Q9="","",IF(MONTH(Q9+1)<>MONTH(Q9),"",Q9+1)) -> 46055 | L10: =IF(K10="","",IF(MONTH(K10+1)<>MONTH(K10),"",K10+1)) -> 46056 | M10: =IF(L10="","",IF(MONTH(L10+1)<>MONTH(L10),"",L10+1)) -> 46057 | N10: =IF(M10="","",IF(MONTH(M10+1)<>MONTH(M10),"",M10+1)) -> 46058 | O10: =IF(N10="","",IF(MONTH(N10+1)<>MONTH(N10),"",N10+1)) -> 46059 | P10: =IF(O10="","",IF(MONTH(O10+1)<>MONTH(O10),"",O10+1)) -> 46060 | Q10: =IF(P10="","",IF(MONTH(P10+1)<>MONTH(P10),"",P10+1)) -> 46061 | S10: =IF(Y9="","",IF(MONTH(Y9+1)<>MONTH(Y9),"",Y9+1)) -> 46083 | T10: =IF(S10="","",IF(MONTH(S10+1)<>MONTH(S10),"",S10+1)) -> 46084 | U10: =IF(T10="","",IF(MONTH(T10+1)<>MONTH(T10),"",T10+1)) -> 46085 | V10: =IF(U10="","",IF(MONTH(U10+1)<>MONTH(U10),"",U10+1)) -> 46086 | W10: =IF(V10="","",IF(MONTH(V10+1)<>MONTH(V10),"",V10+1)) -> 46087 | X10: =IF(W10="","",IF(MONTH(W10+1)<>MONTH(W10),"",W10+1)) -> 46088 | Y10: =IF(X10="","",IF(MONTH(X10+1)<>MONTH(X10),"",X10+1)) -> 46089 | AA10: =IF(AG9="","",IF(MONTH(AG9+1)<>MONTH(AG9),"",AG9+1)) -> 46118 | AB10: =IF(AA10="","",IF(MONTH(AA10+1)<>MONTH(AA10),"",AA10+1)) -> 46119 | AC10: =IF(AB10="","",IF(MONTH(AB10+1)<>MONTH(AB10),"",AB10+1)) -> 46120 | AD10: =IF(AC10="","",IF(MONTH(AC10+1)<>MONTH(AC10),"",AC10+1)) -> 46121 | AE10: =IF(AD10="","",IF(MONTH(AD10+1)<>MONTH(AD10),"",AD10+1)) -> 46122 | AF10: =IF(AE10="","",IF(MONTH(AE10+1)<>MONTH(AE10),"",AE10+1)) -> 46123 | AG10: =IF(AF10="","",IF(MONTH(AF10+1)<>MONTH(AF10),"",AF10+1)) -> 46124
C11: =IF(I10="","",IF(MONTH(I10+1)<>MONTH(I10),"",I10+1)) -> 46034 | D11: =IF(C11="","",IF(MONTH(C11+1)<>MONTH(C11),"",C11+1)) -> 46035 | E11: =IF(D11="","",IF(MONTH(D11+1)<>MONTH(D11),"",D11+1)) -> 46036 | F11: =IF(E11="","",IF(MONTH(E11+1)<>MONTH(E11),"",E11+1)) -> 46037 | G11: =IF(F11="","",IF(MONTH(F11+1)<>MONTH(F11),"",F11+1)) -> 46038 | H11: =IF(G11="","",IF(MONTH(G11+1)<>MONTH(G11),"",G11+1)) -> 46039 | I11: =IF(H11="","",IF(MONTH(H11+1)<>MONTH(H11),"",H11+1)) -> 46040 | K11: =IF(Q10="","",IF(MONTH(Q10+1)<>MONTH(Q10),"",Q10+1)) -> 46062 | L11: =IF(K11="","",IF(MONTH(K11+1)<>MONTH(K11),"",K11+1)) -> 46063 | M11: =IF(L11="","",IF(MONTH(L11+1)<>MONTH(L11),"",L11+1)) -> 46064 | N11: =IF(M11="","",IF(MONTH(M11+1)<>MONTH(M11),"",M11+1)) -> 46065 | O11: =IF(N11="","",IF(MONTH(N11+1)<>MONTH(N11),"",N11+1)) -> 46066 | P11: =IF(O11="","",IF(MONTH(O11+1)<>MONTH(O11),"",O11+1)) -> 46067 | Q11: =IF(P11="","",IF(MONTH(P11+1)<>MONTH(P11),"",P11+1)) -> 46068 | S11: =IF(Y10="","",IF(MONTH(Y10+1)<>MONTH(Y10),"",Y10+1)) -> 46090 | T11: =IF(S11="","",IF(MONTH(S11+1)<>MONTH(S11),"",S11+1)) -> 46091 | U11: =IF(T11="","",IF(MONTH(T11+1)<>MONTH(T11),"",T11+1)) -> 46092 | V11: =IF(U11="","",IF(MONTH(U11+1)<>MONTH(U11),"",U11+1)) -> 46093 | W11: =IF(V11="","",IF(MONTH(V11+1)<>MONTH(V11),"",V11+1)) -> 46094 | X11: =IF(W11="","",IF(MONTH(W11+1)<>MONTH(W11),"",W11+1)) -> 46095 | Y11: =IF(X11="","",IF(MONTH(X11+1)<>MONTH(X11),"",X11+1)) -> 46096 | AA11: =IF(AG10="","",IF(MONTH(AG10+1)<>MONTH(AG10),"",AG10+1)) -> 46125 | AB11: =IF(AA11="","",IF(MONTH(AA11+1)<>MONTH(AA11),"",AA11+1)) -> 46126 | AC11: =IF(AB11="","",IF(MONTH(AB11+1)<>MONTH(AB11),"",AB11+1)) -> 46127 | AD11: =IF(AC11="","",IF(MONTH(AC11+1)<>MONTH(AC11),"",AC11+1)) -> 46128 | AE11: =IF(AD11="","",IF(MONTH(AD11+1)<>MONTH(AD11),"",AD11+1)) -> 46129 | AF11: =IF(AE11="","",IF(MONTH(AE11+1)<>MONTH(AE11),"",AE11+1)) -> 46130 | AG11: =IF(AF11="","",IF(MONTH(AF11+1)<>MONTH(AF11),"",AF11+1)) -> 46131
C12: =IF(I11="","",IF(MONTH(I11+1)<>MONTH(I11),"",I11+1)) -> 46041 | D12: =IF(C12="","",IF(MONTH(C12+1)<>MONTH(C12),"",C12+1)) -> 46042 | E12: =IF(D12="","",IF(MONTH(D12+1)<>MONTH(D12),"",D12+1)) -> 46043 | F12: =IF(E12="","",IF(MONTH(E12+1)<>MONTH(E12),"",E12+1)) -> 46044 | G12: =IF(F12="","",IF(MONTH(F12+1)<>MONTH(F12),"",F12+1)) -> 46045 | H12: =IF(G12="","",IF(MONTH(G12+1)<>MONTH(G12),"",G12+1)) -> 46046 | I12: =IF(H12="","",IF(MONTH(H12+1)<>MONTH(H12),"",H12+1)) -> 46047 | K12: =IF(Q11="","",IF(MONTH(Q11+1)<>MONTH(Q11),"",Q11+1)) -> 46069 | L12: =IF(K12="","",IF(MONTH(K12+1)<>MONTH(K12),"",K12+1)) -> 46070 | M12: =IF(L12="","",IF(MONTH(L12+1)<>MONTH(L12),"",L12+1)) -> 46071 | N12: =IF(M12="","",IF(MONTH(M12+1)<>MONTH(M12),"",M12+1)) -> 46072 | O12: =IF(N12="","",IF(MONTH(N12+1)<>MONTH(N12),"",N12+1)) -> 46073 | P12: =IF(O12="","",IF(MONTH(O12+1)<>MONTH(O12),"",O12+1)) -> 46074 | Q12: =IF(P12="","",IF(MONTH(P12+1)<>MONTH(P12),"",P12+1)) -> 46075 | S12: =IF(Y11="","",IF(MONTH(Y11+1)<>MONTH(Y11),"",Y11+1)) -> 46097 | T12: =IF(S12="","",IF(MONTH(S12+1)<>MONTH(S12),"",S12+1)) -> 46098 | U12: =IF(T12="","",IF(MONTH(T12+1)<>MONTH(T12),"",T12+1)) -> 46099 | V12: =IF(U12="","",IF(MONTH(U12+1)<>MONTH(U12),"",U12+1)) -> 46100 | W12: =IF(V12="","",IF(MONTH(V12+1)<>MONTH(V12),"",V12+1)) -> 46101 | X12: =IF(W12="","",IF(MONTH(W12+1)<>MONTH(W12),"",W12+1)) -> 46102 | Y12: =IF(X12="","",IF(MONTH(X12+1)<>MONTH(X12),"",X12+1)) -> 46103 | AA12: =IF(AG11="","",IF(MONTH(AG11+1)<>MONTH(AG11),"",AG11+1)) -> 46132 | AB12: =IF(AA12="","",IF(MONTH(AA12+1)<>MONTH(AA12),"",AA12+1)) -> 46133 | AC12: =IF(AB12="","",IF(MONTH(AB12+1)<>MONTH(AB12),"",AB12+1)) -> 46134 | AD12: =IF(AC12="","",IF(MONTH(AC12+1)<>MONTH(AC12),"",AC12+1)) -> 46135 | AE12: =IF(AD12="","",IF(MONTH(AD12+1)<>MONTH(AD12),"",AD12+1)) -> 46136 | AF12: =IF(AE12="","",IF(MONTH(AE12+1)<>MONTH(AE12),"",AE12+1)) -> 46137 | AG12: =IF(AF12="","",IF(MONTH(AF12+1)<>MONTH(AF12),"",AF12+1)) -> 46138
C13: =IF(I12="","",IF(MONTH(I12+1)<>MONTH(I12),"",I12+1)) -> 46048 | D13: =IF(C13="","",IF(MONTH(C13+1)<>MONTH(C13),"",C13+1)) -> 46049 | E13: =IF(D13="","",IF(MONTH(D13+1)<>MONTH(D13),"",D13+1)) -> 46050 | F13: =IF(E13="","",IF(MONTH(E13+1)<>MONTH(E13),"",E13+1)) -> 46051 | G13: =IF(F13="","",IF(MONTH(F13+1)<>MONTH(F13),"",F13+1)) -> 46052 | H13: =IF(G13="","",IF(MONTH(G13+1)<>MONTH(G13),"",G13+1)) -> 46053 | I13: =IF(H13="","",IF(MONTH(H13+1)<>MONTH(H13),"",H13+1)) | K13: =IF(Q12="","",IF(MONTH(Q12+1)<>MONTH(Q12),"",Q12+1)) -> 46076 | L13: =IF(K13="","",IF(MONTH(K13+1)<>MONTH(K13),"",K13+1)) -> 46077 | M13: =IF(L13="","",IF(MONTH(L13+1)<>MONTH(L13),"",L13+1)) -> 46078 | N13: =IF(M13="","",IF(MONTH(M13+1)<>MONTH(M13),"",M13+1)) -> 46079 | O13: =IF(N13="","",IF(MONTH(N13+1)<>MONTH(N13),"",N13+1)) -> 46080 | P13: =IF(O13="","",IF(MONTH(O13+1)<>MONTH(O13),"",O13+1)) -> 46081 | Q13: =IF(P13="","",IF(MONTH(P13+1)<>MONTH(P13),"",P13+1)) | S13: =IF(Y12="","",IF(MONTH(Y12+1)<>MONTH(Y12),"",Y12+1)) -> 46104 | T13: =IF(S13="","",IF(MONTH(S13+1)<>MONTH(S13),"",S13+1)) -> 46105 | U13: =IF(T13="","",IF(MONTH(T13+1)<>MONTH(T13),"",T13+1)) -> 46106 | V13: =IF(U13="","",IF(MONTH(U13+1)<>MONTH(U13),"",U13+1)) -> 46107 | W13: =IF(V13="","",IF(MONTH(V13+1)<>MONTH(V13),"",V13+1)) -> 46108 | X13: =IF(W13="","",IF(MONTH(W13+1)<>MONTH(W13),"",W13+1)) -> 46109 | Y13: =IF(X13="","",IF(MONTH(X13+1)<>MONTH(X13),"",X13+1)) -> 46110 | AA13: =IF(AG12="","",IF(MONTH(AG12+1)<>MONTH(AG12),"",AG12+1)) -> 46139 | AB13: =IF(AA13="","",IF(MONTH(AA13+1)<>MONTH(AA13),"",AA13+1)) -> 46140 | AC13: =IF(AB13="","",IF(MONTH(AB13+1)<>MONTH(AB13),"",AB13+1)) -> 46141 | AD13: =IF(AC13="","",IF(MONTH(AC13+1)<>MONTH(AC13),"",AC13+1)) -> 46142 | AE13: =IF(AD13="","",IF(MONTH(AD13+1)<>MONTH(AD13),"",AD13+1)) | AF13: =IF(AE13="","",IF(MONTH(AE13+1)<>MONTH(AE13),"",AE13+1)) | AG13: =IF(AF13="","",IF(MONTH(AF13+1)<>MONTH(AF13),"",AF13+1))
C14: =IF(I13="","",IF(MONTH(I13+1)<>MONTH(I13),"",I13+1)) | D14: =IF(C14="","",IF(MONTH(C14+1)<>MONTH(C14),"",C14+1)) | E14: =IF(D14="","",IF(MONTH(D14+1)<>MONTH(D14),"",D14+1)) | F14: =IF(E14="","",IF(MONTH(E14+1)<>MONTH(E14),"",E14+1)) | G14: =IF(F14="","",IF(MONTH(F14+1)<>MONTH(F14),"",F14+1)) | H14: =IF(G14="","",IF(MONTH(G14+1)<>MONTH(G14),"",G14+1)) | I14: =IF(H14="","",IF(MONTH(H14+1)<>MONTH(H14),"",H14+1)) | K14: =IF(Q13="","",IF(MONTH(Q13+1)<>MONTH(Q13),"",Q13+1)) | L14: =IF(K14="","",IF(MONTH(K14+1)<>MONTH(K14),"",K14+1)) | M14: =IF(L14="","",IF(MONTH(L14+1)<>MONTH(L14),"",L14+1)) | N14: =IF(M14="","",IF(MONTH(M14+1)<>MONTH(M14),"",M14+1)) | O14: =IF(N14="","",IF(MONTH(N14+1)<>MONTH(N14),"",N14+1)) | P14: =IF(O14="","",IF(MONTH(O14+1)<>MONTH(O14),"",O14+1)) | Q14: =IF(P14="","",IF(MONTH(P14+1)<>MONTH(P14),"",P14+1)) | S14: =IF(Y13="","",IF(MONTH(Y13+1)<>MONTH(Y13),"",Y13+1)) -> 46111 | T14: =IF(S14="","",IF(MONTH(S14+1)<>MONTH(S14),"",S14+1)) -> 46112 | U14: =IF(T14="","",IF(MONTH(T14+1)<>MONTH(T14),"",T14+1)) | V14: =IF(U14="","",IF(MONTH(U14+1)<>MONTH(U14),"",U14+1)) | W14: =IF(V14="","",IF(MONTH(V14+1)<>MONTH(V14),"",V14+1)) | X14: =IF(W14="","",IF(MONTH(W14+1)<>MONTH(W14),"",W14+1)) | Y14: =IF(X14="","",IF(MONTH(X14+1)<>MONTH(X14),"",X14+1)) | AA14: =IF(AG13="","",IF(MONTH(AG13+1)<>MONTH(AG13),"",AG13+1)) | AB14: =IF(AA14="","",IF(MONTH(AA14+1)<>MONTH(AA14),"",AA14+1)) | AC14: =IF(AB14="","",IF(MONTH(AB14+1)<>MONTH(AB14),"",AB14+1)) | AD14: =IF(AC14="","",IF(MONTH(AC14+1)<>MONTH(AC14),"",AC14+1)) | AE14: =IF(AD14="","",IF(MONTH(AD14+1)<>MONTH(AD14),"",AD14+1)) | AF14: =IF(AE14="","",IF(MONTH(AE14+1)<>MONTH(AE14),"",AE14+1)) | AG14: =IF(AF14="","",IF(MONTH(AF14+1)<>MONTH(AF14),"",AF14+1))
C16: =DATE(YEAR(AA7+42),MONTH(AA7+42),1) -> 46143 | K16: =DATE(YEAR(C16+42),MONTH(C16+42),1) -> 46174 | S16: =DATE(YEAR(K16+42),MONTH(K16+42),1) -> 46204 | AA16: =DATE(YEAR(S16+42),MONTH(S16+42),1) -> 46235
C17: =CHOOSE(1+MOD($R$2+1-2,7),"ПН","ВТ","СР","ЧТ","ПТ","СБ","ВС") -> ВТ | D17: =CHOOSE(1+MOD($R$2+2-2,7),"ПН","ВТ","СР","ЧТ","ПТ","СБ","ВС") -> СР | E17: =CHOOSE(1+MOD($R$2+3-2,7),"ПН","ВТ","СР","ЧТ","ПТ","СБ","ВС") -> ЧТ | F17: =CHOOSE(1+MOD($R$2+4-2,7),"ПН","ВТ","СР","ЧТ","ПТ","СБ","ВС") -> ПТ | G17: =CHOOSE(1+MOD($R$2+5-2,7),"ПН","ВТ","СР","ЧТ","ПТ","СБ","ВС") -> СБ | H17: =CHOOSE(1+MOD($R$2+6-2,7),"ПН","ВТ","СР","ЧТ","ПТ","СБ","ВС") -> ВС | I17: =CHOOSE(1+MOD($R$2+7-2,7),"ПН","ВТ","СР","ЧТ","ПТ","СБ","ВС") -> ПН | K17: =CHOOSE(1+MOD($R$2+1-2,7),"ПН","ВТ","СР","ЧТ","ПТ","СБ","ВС") -> ВТ | L17: =CHOOSE(1+MOD($R$2+2-2,7),"ПН","ВТ","СР","ЧТ","ПТ","СБ","ВС") -> СР | M17: =CHOOSE(1+MOD($R$2+3-2,7),"ПН","ВТ","СР","ЧТ","ПТ","СБ","ВС") -> ЧТ | N17: =CHOOSE(1+MOD($R$2+4-2,7),"ПН","ВТ","СР","ЧТ","ПТ","СБ","ВС") -> ПТ | O17: =CHOOSE(1+MOD($R$2+5-2,7),"ПН","ВТ","СР","ЧТ","ПТ","СБ","ВС") -> СБ | P17: =CHOOSE(1+MOD($R$2+6-2,7),"ПН","ВТ","СР","ЧТ","ПТ","СБ","ВС") -> ВС | Q17: =CHOOSE(1+MOD($R$2+7-2,7),"ПН","ВТ","СР","ЧТ","ПТ","СБ","ВС") -> ПН | S17: =CHOOSE(1+MOD($R$2+1-2,7),"ПН","ВТ","СР","ЧТ","ПТ","СБ","ВС") -> ВТ | T17: =CHOOSE(1+MOD($R$2+2-2,7),"ПН","ВТ","СР","ЧТ","ПТ","СБ","ВС") -> СР | U17: =CHOOSE(1+MOD($R$2+3-2,7),"ПН","ВТ","СР","ЧТ","ПТ","СБ","ВС") -> ЧТ | V17: =CHOOSE(1+MOD($R$2+4-2,7),"ПН","ВТ","СР","ЧТ","ПТ","СБ","ВС") -> ПТ | W17: =CHOOSE(1+MOD($R$2+5-2,7),"ПН","ВТ","СР","ЧТ","ПТ","СБ","ВС") -> СБ | X17: =CHOOSE(1+MOD($R$2+6-2,7),"ПН","ВТ","СР","ЧТ","ПТ","СБ","ВС") -> ВС | Y17: =CHOOSE(1+MOD($R$2+7-2,7),"ПН","ВТ","СР","ЧТ","ПТ","СБ","ВС") -> ПН | AA17: =CHOOSE(1+MOD($R$2+1-2,7),"ПН","ВТ","СР","ЧТ","ПТ","СБ","ВС") -> ВТ | AB17: =CHOOSE(1+MOD($R$2+2-2,7),"ПН","ВТ","СР","ЧТ","ПТ","СБ","ВС") -> СР | AC17: =CHOOSE(1+MOD($R$2+3-2,7),"ПН","ВТ","СР","ЧТ","ПТ","СБ","ВС") -> ЧТ | AD17: =CHOOSE(1+MOD($R$2+4-2,7),"ПН","ВТ","СР","ЧТ","ПТ","СБ","ВС") -> ПТ | AE17: =CHOOSE(1+MOD($R$2+5-2,7),"ПН","ВТ","СР","ЧТ","ПТ","СБ","ВС") -> СБ | AF17: =CHOOSE(1+MOD($R$2+6-2,7),"ПН","ВТ","СР","ЧТ","ПТ","СБ","ВС") -> ВС | AG17: =CHOOSE(1+MOD($R$2+7-2,7),"ПН","ВТ","СР","ЧТ","ПТ","СБ","ВС") -> ПН
C18: =IF(WEEKDAY(C16,1)=MOD($R$2-1,7)+1,C16,"") | D18: =IF(C18="",IF(WEEKDAY(C16,1)=MOD($R$2,7)+1,C16,""),C18+1) | E18: =IF(D18="",IF(WEEKDAY(C16,1)=MOD($R$2+1,7)+1,C16,""),D18+1) | F18: =IF(E18="",IF(WEEKDAY(C16,1)=MOD($R$2+2,7)+1,C16,""),E18+1) | G18: =IF(F18="",IF(WEEKDAY(C16,1)=MOD($R$2+3,7)+1,C16,""),F18+1) -> 46143 | H18: =IF(G18="",IF(WEEKDAY(C16,1)=MOD($R$2+4,7)+1,C16,""),G18+1) -> 46144 | I18: =IF(H18="",IF(WEEKDAY(C16,1)=MOD($R$2+5,7)+1,C16,""),H18+1) -> 46145 | K18: =IF(WEEKDAY(K16,1)=MOD($R$2-1,7)+1,K16,"") -> 46174 | L18: =IF(K18="",IF(WEEKDAY(K16,1)=MOD($R$2,7)+1,K16,""),K18+1) -> 46175 | M18: =IF(L18="",IF(WEEKDAY(K16,1)=MOD($R$2+1,7)+1,K16,""),L18+1) -> 46176 | N18: =IF(M18="",IF(WEEKDAY(K16,1)=MOD($R$2+2,7)+1,K16,""),M18+1) -> 46177 | O18: =IF(N18="",IF(WEEKDAY(K16,1)=MOD($R$2+3,7)+1,K16,""),N18+1) -> 46178 | P18: =IF(O18="",IF(WEEKDAY(K16,1)=MOD($R$2+4,7)+1,K16,""),O18+1) -> 46179 | Q18: =IF(P18="",IF(WEEKDAY(K16,1)=MOD($R$2+5,7)+1,K16,""),P18+1) -> 46180 | S18: =IF(WEEKDAY(S16,1)=MOD($R$2-1,7)+1,S16,"") | T18: =IF(S18="",IF(WEEKDAY(S16,1)=MOD($R$2,7)+1,S16,""),S18+1) | U18: =IF(T18="",IF(WEEKDAY(S16,1)=MOD($R$2+1,7)+1,S16,""),T18+1) -> 46204 | V18: =IF(U18="",IF(WEEKDAY(S16,1)=MOD($R$2+2,7)+1,S16,""),U18+1) -> 46205 | W18: =IF(V18="",IF(WEEKDAY(S16,1)=MOD($R$2+3,7)+1,S16,""),V18+1) -> 46206 | X18: =IF(W18="",IF(WEEKDAY(S16,1)=MOD($R$2+4,7)+1,S16,""),W18+1) -> 46207 | Y18: =IF(X18="",IF(WEEKDAY(S16,1)=MOD($R$2+5,7)+1,S16,""),X18+1) -> 46208 | AA18: =IF(WEEKDAY(AA16,1)=MOD($R$2-1,7)+1,AA16,"") | AB18: =IF(AA18="",IF(WEEKDAY(AA16,1)=MOD($R$2,7)+1,AA16,""),AA18+1) | AC18: =IF(AB18="",IF(WEEKDAY(AA16,1)=MOD($R$2+1,7)+1,AA16,""),AB18+1) | AD18: =IF(AC18="",IF(WEEKDAY(AA16,1)=MOD($R$2+2,7)+1,AA16,""),AC18+1) | AE18: =IF(AD18="",IF(WEEKDAY(AA16,1)=MOD($R$2+3,7)+1,AA16,""),AD18+1) | AF18: =IF(AE18="",IF(WEEKDAY(AA16,1)=MOD($R$2+4,7)+1,AA16,""),AE18+1) -> 46235 | AG18: =IF(AF18="",IF(WEEKDAY(AA16,1)=MOD($R$2+5,7)+1,AA16,""),AF18+1) -> 46236
C19: =IF(I18="","",IF(MONTH(I18+1)<>MONTH(I18),"",I18+1)) -> 46146 | D19: =IF(C19="","",IF(MONTH(C19+1)<>MONTH(C19),"",C19+1)) -> 46147 | E19: =IF(D19="","",IF(MONTH(D19+1)<>MONTH(D19),"",D19+1)) -> 46148 | F19: =IF(E19="","",IF(MONTH(E19+1)<>MONTH(E19),"",E19+1)) -> 46149 | G19: =IF(F19="","",IF(MONTH(F19+1)<>MONTH(F19),"",F19+1)) -> 46150 | H19: =IF(G19="","",IF(MONTH(G19+1)<>MONTH(G19),"",G19+1)) -> 46151 | I19: =IF(H19="","",IF(MONTH(H19+1)<>MONTH(H19),"",H19+1)) -> 46152 | K19: =IF(Q18="","",IF(MONTH(Q18+1)<>MONTH(Q18),"",Q18+1)) -> 46181 | L19: =IF(K19="","",IF(MONTH(K19+1)<>MONTH(K19),"",K19+1)) -> 46182 | M19: =IF(L19="","",IF(MONTH(L19+1)<>MONTH(L19),"",L19+1)) -> 46183 | N19: =IF(M19="","",IF(MONTH(M19+1)<>MONTH(M19),"",M19+1)) -> 46184 | O19: =IF(N19="","",IF(MONTH(N19+1)<>MONTH(N19),"",N19+1)) -> 46185 | P19: =IF(O19="","",IF(MONTH(O19+1)<>MONTH(O19),"",O19+1)) -> 46186 | Q19: =IF(P19="","",IF(MONTH(P19+1)<>MONTH(P19),"",P19+1)) -> 46187 | S19: =IF(Y18="","",IF(MONTH(Y18+1)<>MONTH(Y18),"",Y18+1)) -> 46209 | T19: =IF(S19="","",IF(MONTH(S19+1)<>MONTH(S19),"",S19+1)) -> 46210 | U19: =IF(T19="","",IF(MONTH(T19+1)<>MONTH(T19),"",T19+1)) -> 46211 | V19: =IF(U19="","",IF(MONTH(U19+1)<>MONTH(U19),"",U19+1)) -> 46212 | W19: =IF(V19="","",IF(MONTH(V19+1)<>MONTH(V19),"",V19+1)) -> 46213 | X19: =IF(W19="","",IF(MONTH(W19+1)<>MONTH(W19),"",W19+1)) -> 46214 | Y19: =IF(X19="","",IF(MONTH(X19+1)<>MONTH(X19),"",X19+1)) -> 46215 | AA19: =IF(AG18="","",IF(MONTH(AG18+1)<>MONTH(AG18),"",AG18+1)) -> 46237 | AB19: =IF(AA19="","",IF(MONTH(AA19+1)<>MONTH(AA19),"",AA19+1)) -> 46238 | AC19: =IF(AB19="","",IF(MONTH(AB19+1)<>MONTH(AB19),"",AB19+1)) -> 46239 | AD19: =IF(AC19="","",IF(MONTH(AC19+1)<>MONTH(AC19),"",AC19+1)) -> 46240 | AE19: =IF(AD19="","",IF(MONTH(AD19+1)<>MONTH(AD19),"",AD19+1)) -> 46241 | AF19: =IF(AE19="","",IF(MONTH(AE19+1)<>MONTH(AE19),"",AE19+1)) -> 46242 | AG19: =IF(AF19="","",IF(MONTH(AF19+1)<>MONTH(AF19),"",AF19+1)) -> 46243
C20: =IF(I19="","",IF(MONTH(I19+1)<>MONTH(I19),"",I19+1)) -> 46153 | D20: =IF(C20="","",IF(MONTH(C20+1)<>MONTH(C20),"",C20+1)) -> 46154 | E20: =IF(D20="","",IF(MONTH(D20+1)<>MONTH(D20),"",D20+1)) -> 46155 | F20: =IF(E20="","",IF(MONTH(E20+1)<>MONTH(E20),"",E20+1)) -> 46156 | G20: =IF(F20="","",IF(MONTH(F20+1)<>MONTH(F20),"",F20+1)) -> 46157 | H20: =IF(G20="","",IF(MONTH(G20+1)<>MONTH(G20),"",G20+1)) -> 46158 | I20: =IF(H20="","",IF(MONTH(H20+1)<>MONTH(H20),"",H20+1)) -> 46159 | K20: =IF(Q19="","",IF(MONTH(Q19+1)<>MONTH(Q19),"",Q19+1)) -> 46188 | L20: =IF(K20="","",IF(MONTH(K20+1)<>MONTH(K20),"",K20+1)) -> 46189 | M20: =IF(L20="","",IF(MONTH(L20+1)<>MONTH(L20),"",L20+1)) -> 46190 | N20: =IF(M20="","",IF(MONTH(M20+1)<>MONTH(M20),"",M20+1)) -> 46191 | O20: =IF(N20="","",IF(MONTH(N20+1)<>MONTH(N20),"",N20+1)) -> 46192 | P20: =IF(O20="","",IF(MONTH(O20+1)<>MONTH(O20),"",O20+1)) -> 46193 | Q20: =IF(P20="","",IF(MONTH(P20+1)<>MONTH(P20),"",P20+1)) -> 46194 | S20: =IF(Y19="","",IF(MONTH(Y19+1)<>MONTH(Y19),"",Y19+1)) -> 46216 | T20: =IF(S20="","",IF(MONTH(S20+1)<>MONTH(S20),"",S20+1)) -> 46217 | U20: =IF(T20="","",IF(MONTH(T20+1)<>MONTH(T20),"",T20+1)) -> 46218 | V20: =IF(U20="","",IF(MONTH(U20+1)<>MONTH(U20),"",U20+1)) -> 46219 | W20: =IF(V20="","",IF(MONTH(V20+1)<>MONTH(V20),"",V20+1)) -> 46220 | X20: =IF(W20="","",IF(MONTH(W20+1)<>MONTH(W20),"",W20+1)) -> 46221 | Y20: =IF(X20="","",IF(MONTH(X20+1)<>MONTH(X20),"",X20+1)) -> 46222 | AA20: =IF(AG19="","",IF(MONTH(AG19+1)<>MONTH(AG19),"",AG19+1)) -> 46244 | AB20: =IF(AA20="","",IF(MONTH(AA20+1)<>MONTH(AA20),"",AA20+1)) -> 46245 | AC20: =IF(AB20="","",IF(MONTH(AB20+1)<>MONTH(AB20),"",AB20+1)) -> 46246 | AD20: =IF(AC20="","",IF(MONTH(AC20+1)<>MONTH(AC20),"",AC20+1)) -> 46247 | AE20: =IF(AD20="","",IF(MONTH(AD20+1)<>MONTH(AD20),"",AD20+1)) -> 46248 | AF20: =IF(AE20="","",IF(MONTH(AE20+1)<>MONTH(AE20),"",AE20+1)) -> 46249 | AG20: =IF(AF20="","",IF(MONTH(AF20+1)<>MONTH(AF20),"",AF20+1)) -> 46250
C21: =IF(I20="","",IF(MONTH(I20+1)<>MONTH(I20),"",I20+1)) -> 46160 | D21: =IF(C21="","",IF(MONTH(C21+1)<>MONTH(C21),"",C21+1)) -> 46161 | E21: =IF(D21="","",IF(MONTH(D21+1)<>MONTH(D21),"",D21+1)) -> 46162 | F21: =IF(E21="","",IF(MONTH(E21+1)<>MONTH(E21),"",E21+1)) -> 46163 | G21: =IF(F21="","",IF(MONTH(F21+1)<>MONTH(F21),"",F21+1)) -> 46164 | H21: =IF(G21="","",IF(MONTH(G21+1)<>MONTH(G21),"",G21+1)) -> 46165 | I21: =IF(H21="","",IF(MONTH(H21+1)<>MONTH(H21),"",H21+1)) -> 46166 | K21: =IF(Q20="","",IF(MONTH(Q20+1)<>MONTH(Q20),"",Q20+1)) -> 46195 | L21: =IF(K21="","",IF(MONTH(K21+1)<>MONTH(K21),"",K21+1)) -> 46196 | M21: =IF(L21="","",IF(MONTH(L21+1)<>MONTH(L21),"",L21+1)) -> 46197 | N21: =IF(M21="","",IF(MONTH(M21+1)<>MONTH(M21),"",M21+1)) -> 46198 | O21: =IF(N21="","",IF(MONTH(N21+1)<>MONTH(N21),"",N21+1)) -> 46199 | P21: =IF(O21="","",IF(MONTH(O21+1)<>MONTH(O21),"",O21+1)) -> 46200 | Q21: =IF(P21="","",IF(MONTH(P21+1)<>MONTH(P21),"",P21+1)) -> 46201 | S21: =IF(Y20="","",IF(MONTH(Y20+1)<>MONTH(Y20),"",Y20+1)) -> 46223 | T21: =IF(S21="","",IF(MONTH(S21+1)<>MONTH(S21),"",S21+1)) -> 46224 | U21: =IF(T21="","",IF(MONTH(T21+1)<>MONTH(T21),"",T21+1)) -> 46225 | V21: =IF(U21="","",IF(MONTH(U21+1)<>MONTH(U21),"",U21+1)) -> 46226 | W21: =IF(V21="","",IF(MONTH(V21+1)<>MONTH(V21),"",V21+1)) -> 46227 | X21: =IF(W21="","",IF(MONTH(W21+1)<>MONTH(W21),"",W21+1)) -> 46228 | Y21: =IF(X21="","",IF(MONTH(X21+1)<>MONTH(X21),"",X21+1)) -> 46229 | AA21: =IF(AG20="","",IF(MONTH(AG20+1)<>MONTH(AG20),"",AG20+1)) -> 46251 | AB21: =IF(AA21="","",IF(MONTH(AA21+1)<>MONTH(AA21),"",AA21+1)) -> 46252 | AC21: =IF(AB21="","",IF(MONTH(AB21+1)<>MONTH(AB21),"",AB21+1)) -> 46253 | AD21: =IF(AC21="","",IF(MONTH(AC21+1)<>MONTH(AC21),"",AC21+1)) -> 46254 | AE21: =IF(AD21="","",IF(MONTH(AD21+1)<>MONTH(AD21),"",AD21+1)) -> 46255 | AF21: =IF(AE21="","",IF(MONTH(AE21+1)<>MONTH(AE21),"",AE21+1)) -> 46256 | AG21: =IF(AF21="","",IF(MONTH(AF21+1)<>MONTH(AF21),"",AF21+1)) -> 46257
C22: =IF(I21="","",IF(MONTH(I21+1)<>MONTH(I21),"",I21+1)) -> 46167 | D22: =IF(C22="","",IF(MONTH(C22+1)<>MONTH(C22),"",C22+1)) -> 46168 | E22: =IF(D22="","",IF(MONTH(D22+1)<>MONTH(D22),"",D22+1)) -> 46169 | F22: =IF(E22="","",IF(MONTH(E22+1)<>MONTH(E22),"",E22+1)) -> 46170 | G22: =IF(F22="","",IF(MONTH(F22+1)<>MONTH(F22),"",F22+1)) -> 46171 | H22: =IF(G22="","",IF(MONTH(G22+1)<>MONTH(G22),"",G22+1)) -> 46172 | I22: =IF(H22="","",IF(MONTH(H22+1)<>MONTH(H22),"",H22+1)) -> 46173 | K22: =IF(Q21="","",IF(MONTH(Q21+1)<>MONTH(Q21),"",Q21+1)) -> 46202 | L22: =IF(K22="","",IF(MONTH(K22+1)<>MONTH(K22),"",K22+1)) -> 46203 | M22: =IF(L22="","",IF(MONTH(L22+1)<>MONTH(L22),"",L22+1)) | N22: =IF(M22="","",IF(MONTH(M22+1)<>MONTH(M22),"",M22+1)) | O22: =IF(N22="","",IF(MONTH(N22+1)<>MONTH(N22),"",N22+1)) | P22: =IF(O22="","",IF(MONTH(O22+1)<>MONTH(O22),"",O22+1)) | Q22: =IF(P22="","",IF(MONTH(P22+1)<>MONTH(P22),"",P22+1)) | S22: =IF(Y21="","",IF(MONTH(Y21+1)<>MONTH(Y21),"",Y21+1)) -> 46230 | T22: =IF(S22="","",IF(MONTH(S22+1)<>MONTH(S22),"",S22+1)) -> 46231 | U22: =IF(T22="","",IF(MONTH(T22+1)<>MONTH(T22),"",T22+1)) -> 46232 | V22: =IF(U22="","",IF(MONTH(U22+1)<>MONTH(U22),"",U22+1)) -> 46233 | W22: =IF(V22="","",IF(MONTH(V22+1)<>MONTH(V22),"",V22+1)) -> 46234 | X22: =IF(W22="","",IF(MONTH(W22+1)<>MONTH(W22),"",W22+1)) | Y22: =IF(X22="","",IF(MONTH(X22+1)<>MONTH(X22),"",X22+1)) | AA22: =IF(AG21="","",IF(MONTH(AG21+1)<>MONTH(AG21),"",AG21+1)) -> 46258 | AB22: =IF(AA22="","",IF(MONTH(AA22+1)<>MONTH(AA22),"",AA22+1)) -> 46259 | AC22: =IF(AB22="","",IF(MONTH(AB22+1)<>MONTH(AB22),"",AB22+1)) -> 46260 | AD22: =IF(AC22="","",IF(MONTH(AC22+1)<>MONTH(AC22),"",AC22+1)) -> 46261 | AE22: =IF(AD22="","",IF(MONTH(AD22+1)<>MONTH(AD22),"",AD22+1)) -> 46262 | AF22: =IF(AE22="","",IF(MONTH(AE22+1)<>MONTH(AE22),"",AE22+1)) -> 46263 | AG22: =IF(AF22="","",IF(MONTH(AF22+1)<>MONTH(AF22),"",AF22+1)) -> 46264
C23: =IF(I22="","",IF(MONTH(I22+1)<>MONTH(I22),"",I22+1)) | D23: =IF(C23="","",IF(MONTH(C23+1)<>MONTH(C23),"",C23+1)) | E23: =IF(D23="","",IF(MONTH(D23+1)<>MONTH(D23),"",D23+1)) | F23: =IF(E23="","",IF(MONTH(E23+1)<>MONTH(E23),"",E23+1)) | G23: =IF(F23="","",IF(MONTH(F23+1)<>MONTH(F23),"",F23+1)) | H23: =IF(G23="","",IF(MONTH(G23+1)<>MONTH(G23),"",G23+1)) | I23: =IF(H23="","",IF(MONTH(H23+1)<>MONTH(H23),"",H23+1)) | K23: =IF(Q22="","",IF(MONTH(Q22+1)<>MONTH(Q22),"",Q22+1)) | L23: =IF(K23="","",IF(MONTH(K23+1)<>MONTH(K23),"",K23+1)) | M23: =IF(L23="","",IF(MONTH(L23+1)<>MONTH(L23),"",L23+1)) | N23: =IF(M23="","",IF(MONTH(M23+1)<>MONTH(M23),"",M23+1)) | O23: =IF(N23="","",IF(MONTH(N23+1)<>MONTH(N23),"",N23+1)) | P23: =IF(O23="","",IF(MONTH(O23+1)<>MONTH(O23),"",O23+1)) | Q23: =IF(P23="","",IF(MONTH(P23+1)<>MONTH(P23),"",P23+1)) | S23: =IF(Y22="","",IF(MONTH(Y22+1)<>MONTH(Y22),"",Y22+1)) | T23: =IF(S23="","",IF(MONTH(S23+1)<>MONTH(S23),"",S23+1)) | U23: =IF(T23="","",IF(MONTH(T23+1)<>MONTH(T23),"",T23+1)) | V23: =IF(U23="","",IF(MONTH(U23+1)<>MONTH(U23),"",U23+1)) | W23: =IF(V23="","",IF(MONTH(V23+1)<>MONTH(V23),"",V23+1)) | X23: =IF(W23="","",IF(MONTH(W23+1)<>MONTH(W23),"",W23+1)) | Y23: =IF(X23="","",IF(MONTH(X23+1)<>MONTH(X23),"",X23+1)) | AA23: =IF(AG22="","",IF(MONTH(AG22+1)<>MONTH(AG22),"",AG22+1)) -> 46265 | AB23: =IF(AA23="","",IF(MONTH(AA23+1)<>MONTH(AA23),"",AA23+1)) | AC23: =IF(AB23="","",IF(MONTH(AB23+1)<>MONTH(AB23),"",AB23+1)) | AD23: =IF(AC23="","",IF(MONTH(AC23+1)<>MONTH(AC23),"",AC23+1)) | AE23: =IF(AD23="","",IF(MONTH(AD23+1)<>MONTH(AD23),"",AD23+1)) | AF23: =IF(AE23="","",IF(MONTH(AE23+1)<>MONTH(AE23),"",AE23+1)) | AG23: =IF(AF23="","",IF(MONTH(AF23+1)<>MONTH(AF23),"",AF23+1))
C25: =DATE(YEAR(AA16+42),MONTH(AA16+42),1) -> 46266 | K25: =DATE(YEAR(C25+42),MONTH(C25+42),1) -> 46296 | S25: =DATE(YEAR(K25+42),MONTH(K25+42),1) -> 46327 | AA25: =DATE(YEAR(S25+42),MONTH(S25+42),1) -> 46357
C26: =CHOOSE(1+MOD($R$2+1-2,7),"ПН","ВТ","СР","ЧТ","ПТ","СБ","ВС") -> ВТ | D26: =CHOOSE(1+MOD($R$2+2-2,7),"ПН","ВТ","СР","ЧТ","ПТ","СБ","ВС") -> СР | E26: =CHOOSE(1+MOD($R$2+3-2,7),"ПН","ВТ","СР","ЧТ","ПТ","СБ","ВС") -> ЧТ | F26: =CHOOSE(1+MOD($R$2+4-2,7),"ПН","ВТ","СР","ЧТ","ПТ","СБ","ВС") -> ПТ | G26: =CHOOSE(1+MOD($R$2+5-2,7),"ПН","ВТ","СР","ЧТ","ПТ","СБ","ВС") -> СБ | H26: =CHOOSE(1+MOD($R$2+6-2,7),"ПН","ВТ","СР","ЧТ","ПТ","СБ","ВС") -> ВС | I26: =CHOOSE(1+MOD($R$2+7-2,7),"ПН","ВТ","СР","ЧТ","ПТ","СБ","ВС") -> ПН | K26: =CHOOSE(1+MOD($R$2+1-2,7),"ПН","ВТ","СР","ЧТ","ПТ","СБ","ВС") -> ВТ | L26: =CHOOSE(1+MOD($R$2+2-2,7),"ПН","ВТ","СР","ЧТ","ПТ","СБ","ВС") -> СР | M26: =CHOOSE(1+MOD($R$2+3-2,7),"ПН","ВТ","СР","ЧТ","ПТ","СБ","ВС") -> ЧТ | N26: =CHOOSE(1+MOD($R$2+4-2,7),"ПН","ВТ","СР","ЧТ","ПТ","СБ","ВС") -> ПТ | O26: =CHOOSE(1+MOD($R$2+5-2,7),"ПН","ВТ","СР","ЧТ","ПТ","СБ","ВС") -> СБ | P26: =CHOOSE(1+MOD($R$2+6-2,7),"ПН","ВТ","СР","ЧТ","ПТ","СБ","ВС") -> ВС | Q26: =CHOOSE(1+MOD($R$2+7-2,7),"ПН","ВТ","СР","ЧТ","ПТ","СБ","ВС") -> ПН | S26: =CHOOSE(1+MOD($R$2+1-2,7),"ПН","ВТ","СР","ЧТ","ПТ","СБ","ВС") -> ВТ | T26: =CHOOSE(1+MOD($R$2+2-2,7),"ПН","ВТ","СР","ЧТ","ПТ","СБ","ВС") -> СР | U26: =CHOOSE(1+MOD($R$2+3-2,7),"ПН","ВТ","СР","ЧТ","ПТ","СБ","ВС") -> ЧТ | V26: =CHOOSE(1+MOD($R$2+4-2,7),"ПН","ВТ","СР","ЧТ","ПТ","СБ","ВС") -> ПТ | W26: =CHOOSE(1+MOD($R$2+5-2,7),"ПН","ВТ","СР","ЧТ","ПТ","СБ","ВС") -> СБ | X26: =CHOOSE(1+MOD($R$2+6-2,7),"ПН","ВТ","СР","ЧТ","ПТ","СБ","ВС") -> ВС | Y26: =CHOOSE(1+MOD($R$2+7-2,7),"ПН","ВТ","СР","ЧТ","ПТ","СБ","ВС") -> ПН | AA26: =CHOOSE(1+MOD($R$2+1-2,7),"ПН","ВТ","СР","ЧТ","ПТ","СБ","ВС") -> ВТ | AB26: =CHOOSE(1+MOD($R$2+2-2,7),"ПН","ВТ","СР","ЧТ","ПТ","СБ","ВС") -> СР | AC26: =CHOOSE(1+MOD($R$2+3-2,7),"ПН","ВТ","СР","ЧТ","ПТ","СБ","ВС") -> ЧТ | AD26: =CHOOSE(1+MOD($R$2+4-2,7),"ПН","ВТ","СР","ЧТ","ПТ","СБ","ВС") -> ПТ | AE26: =CHOOSE(1+MOD($R$2+5-2,7),"ПН","ВТ","СР","ЧТ","ПТ","СБ","ВС") -> СБ | AF26: =CHOOSE(1+MOD($R$2+6-2,7),"ПН","ВТ","СР","ЧТ","ПТ","СБ","ВС") -> ВС | AG26: =CHOOSE(1+MOD($R$2+7-2,7),"ПН","ВТ","СР","ЧТ","ПТ","СБ","ВС") -> ПН
C27: =IF(WEEKDAY(C25,1)=MOD($R$2-1,7)+1,C25,"") | D27: =IF(C27="",IF(WEEKDAY(C25,1)=MOD($R$2,7)+1,C25,""),C27+1) -> 46266 | E27: =IF(D27="",IF(WEEKDAY(C25,1)=MOD($R$2+1,7)+1,C25,""),D27+1) -> 46267 | F27: =IF(E27="",IF(WEEKDAY(C25,1)=MOD($R$2+2,7)+1,C25,""),E27+1) -> 46268 | G27: =IF(F27="",IF(WEEKDAY(C25,1)=MOD($R$2+3,7)+1,C25,""),F27+1) -> 46269 | H27: =IF(G27="",IF(WEEKDAY(C25,1)=MOD($R$2+4,7)+1,C25,""),G27+1) -> 46270 | I27: =IF(H27="",IF(WEEKDAY(C25,1)=MOD($R$2+5,7)+1,C25,""),H27+1) -> 46271 | K27: =IF(WEEKDAY(K25,1)=MOD($R$2-1,7)+1,K25,"") | L27: =IF(K27="",IF(WEEKDAY(K25,1)=MOD($R$2,7)+1,K25,""),K27+1) | M27: =IF(L27="",IF(WEEKDAY(K25,1)=MOD($R$2+1,7)+1,K25,""),L27+1) | N27: =IF(M27="",IF(WEEKDAY(K25,1)=MOD($R$2+2,7)+1,K25,""),M27+1) -> 46296 | O27: =IF(N27="",IF(WEEKDAY(K25,1)=MOD($R$2+3,7)+1,K25,""),N27+1) -> 46297 | P27: =IF(O27="",IF(WEEKDAY(K25,1)=MOD($R$2+4,7)+1,K25,""),O27+1) -> 46298 | Q27: =IF(P27="",IF(WEEKDAY(K25,1)=MOD($R$2+5,7)+1,K25,""),P27+1) -> 46299 | S27: =IF(WEEKDAY(S25,1)=MOD($R$2-1,7)+1,S25,"") | T27: =IF(S27="",IF(WEEKDAY(S25,1)=MOD($R$2,7)+1,S25,""),S27+1) | U27: =IF(T27="",IF(WEEKDAY(S25,1)=MOD($R$2+1,7)+1,S25,""),T27+1) | V27: =IF(U27="",IF(WEEKDAY(S25,1)=MOD($R$2+2,7)+1,S25,""),U27+1) | W27: =IF(V27="",IF(WEEKDAY(S25,1)=MOD($R$2+3,7)+1,S25,""),V27+1) | X27: =IF(W27="",IF(WEEKDAY(S25,1)=MOD($R$2+4,7)+1,S25,""),W27+1) | Y27: =IF(X27="",IF(WEEKDAY(S25,1)=MOD($R$2+5,7)+1,S25,""),X27+1) -> 46327 | AA27: =IF(WEEKDAY(AA25,1)=MOD($R$2-1,7)+1,AA25,"") | AB27: =IF(AA27="",IF(WEEKDAY(AA25,1)=MOD($R$2,7)+1,AA25,""),AA27+1) -> 46357 | AC27: =IF(AB27="",IF(WEEKDAY(AA25,1)=MOD($R$2+1,7)+1,AA25,""),AB27+1) -> 46358 | AD27: =IF(AC27="",IF(WEEKDAY(AA25,1)=MOD($R$2+2,7)+1,AA25,""),AC27+1) -> 46359 | AE27: =IF(AD27="",IF(WEEKDAY(AA25,1)=MOD($R$2+3,7)+1,AA25,""),AD27+1) -> 46360 | AF27: =IF(AE27="",IF(WEEKDAY(AA25,1)=MOD($R$2+4,7)+1,AA25,""),AE27+1) -> 46361 | AG27: =IF(AF27="",IF(WEEKDAY(AA25,1)=MOD($R$2+5,7)+1,AA25,""),AF27+1) -> 46362
C28: =IF(I27="","",IF(MONTH(I27+1)<>MONTH(I27),"",I27+1)) -> 46272 | D28: =IF(C28="","",IF(MONTH(C28+1)<>MONTH(C28),"",C28+1)) -> 46273 | E28: =IF(D28="","",IF(MONTH(D28+1)<>MONTH(D28),"",D28+1)) -> 46274 | F28: =IF(E28="","",IF(MONTH(E28+1)<>MONTH(E28),"",E28+1)) -> 46275 | G28: =IF(F28="","",IF(MONTH(F28+1)<>MONTH(F28),"",F28+1)) -> 46276 | H28: =IF(G28="","",IF(MONTH(G28+1)<>MONTH(G28),"",G28+1)) -> 46277 | I28: =IF(H28="","",IF(MONTH(H28+1)<>MONTH(H28),"",H28+1)) -> 46278 | K28: =IF(Q27="","",IF(MONTH(Q27+1)<>MONTH(Q27),"",Q27+1)) -> 46300 | L28: =IF(K28="","",IF(MONTH(K28+1)<>MONTH(K28),"",K28+1)) -> 46301 | M28: =IF(L28="","",IF(MONTH(L28+1)<>MONTH(L28),"",L28+1)) -> 46302 | N28: =IF(M28="","",IF(MONTH(M28+1)<>MONTH(M28),"",M28+1)) -> 46303 | O28: =IF(N28="","",IF(MONTH(N28+1)<>MONTH(N28),"",N28+1)) -> 46304 | P28: =IF(O28="","",IF(MONTH(O28+1)<>MONTH(O28),"",O28+1)) -> 46305 | Q28: =IF(P28="","",IF(MONTH(P28+1)<>MONTH(P28),"",P28+1)) -> 46306 | S28: =IF(Y27="","",IF(MONTH(Y27+1)<>MONTH(Y27),"",Y27+1)) -> 46328 | T28: =IF(S28="","",IF(MONTH(S28+1)<>MONTH(S28),"",S28+1)) -> 46329 | U28: =IF(T28="","",IF(MONTH(T28+1)<>MONTH(T28),"",T28+1)) -> 46330 | V28: =IF(U28="","",IF(MONTH(U28+1)<>MONTH(U28),"",U28+1)) -> 46331 | W28: =IF(V28="","",IF(MONTH(V28+1)<>MONTH(V28),"",V28+1)) -> 46332 | X28: =IF(W28="","",IF(MONTH(W28+1)<>MONTH(W28),"",W28+1)) -> 46333 | Y28: =IF(X28="","",IF(MONTH(X28+1)<>MONTH(X28),"",X28+1)) -> 46334 | AA28: =IF(AG27="","",IF(MONTH(AG27+1)<>MONTH(AG27),"",AG27+1)) -> 46363 | AB28: =IF(AA28="","",IF(MONTH(AA28+1)<>MONTH(AA28),"",AA28+1)) -> 46364 | AC28: =IF(AB28="","",IF(MONTH(AB28+1)<>MONTH(AB28),"",AB28+1)) -> 46365 | AD28: =IF(AC28="","",IF(MONTH(AC28+1)<>MONTH(AC28),"",AC28+1)) -> 46366 | AE28: =IF(AD28="","",IF(MONTH(AD28+1)<>MONTH(AD28),"",AD28+1)) -> 46367 | AF28: =IF(AE28="","",IF(MONTH(AE28+1)<>MONTH(AE28),"",AE28+1)) -> 46368 | AG28: =IF(AF28="","",IF(MONTH(AF28+1)<>MONTH(AF28),"",AF28+1)) -> 46369
C29: =IF(I28="","",IF(MONTH(I28+1)<>MONTH(I28),"",I28+1)) -> 46279 | D29: =IF(C29="","",IF(MONTH(C29+1)<>MONTH(C29),"",C29+1)) -> 46280 | E29: =IF(D29="","",IF(MONTH(D29+1)<>MONTH(D29),"",D29+1)) -> 46281 | F29: =IF(E29="","",IF(MONTH(E29+1)<>MONTH(E29),"",E29+1)) -> 46282 | G29: =IF(F29="","",IF(MONTH(F29+1)<>MONTH(F29),"",F29+1)) -> 46283 | H29: =IF(G29="","",IF(MONTH(G29+1)<>MONTH(G29),"",G29+1)) -> 46284 | I29: =IF(H29="","",IF(MONTH(H29+1)<>MONTH(H29),"",H29+1)) -> 46285 | K29: =IF(Q28="","",IF(MONTH(Q28+1)<>MONTH(Q28),"",Q28+1)) -> 46307 | L29: =IF(K29="","",IF(MONTH(K29+1)<>MONTH(K29),"",K29+1)) -> 46308 | M29: =IF(L29="","",IF(MONTH(L29+1)<>MONTH(L29),"",L29+1)) -> 46309 | N29: =IF(M29="","",IF(MONTH(M29+1)<>MONTH(M29),"",M29+1)) -> 46310 | O29: =IF(N29="","",IF(MONTH(N29+1)<>MONTH(N29),"",N29+1)) -> 46311 | P29: =IF(O29="","",IF(MONTH(O29+1)<>MONTH(O29),"",O29+1)) -> 46312 | Q29: =IF(P29="","",IF(MONTH(P29+1)<>MONTH(P29),"",P29+1)) -> 46313 | S29: =IF(Y28="","",IF(MONTH(Y28+1)<>MONTH(Y28),"",Y28+1)) -> 46335 | T29: =IF(S29="","",IF(MONTH(S29+1)<>MONTH(S29),"",S29+1)) -> 46336 | U29: =IF(T29="","",IF(MONTH(T29+1)<>MONTH(T29),"",T29+1)) -> 46337 | V29: =IF(U29="","",IF(MONTH(U29+1)<>MONTH(U29),"",U29+1)) -> 46338 | W29: =IF(V29="","",IF(MONTH(V29+1)<>MONTH(V29),"",V29+1)) -> 46339 | X29: =IF(W29="","",IF(MONTH(W29+1)<>MONTH(W29),"",W29+1)) -> 46340 | Y29: =IF(X29="","",IF(MONTH(X29+1)<>MONTH(X29),"",X29+1)) -> 46341 | AA29: =IF(AG28="","",IF(MONTH(AG28+1)<>MONTH(AG28),"",AG28+1)) -> 46370 | AB29: =IF(AA29="","",IF(MONTH(AA29+1)<>MONTH(AA29),"",AA29+1)) -> 46371 | AC29: =IF(AB29="","",IF(MONTH(AB29+1)<>MONTH(AB29),"",AB29+1)) -> 46372 | AD29: =IF(AC29="","",IF(MONTH(AC29+1)<>MONTH(AC29),"",AC29+1)) -> 46373 | AE29: =IF(AD29="","",IF(MONTH(AD29+1)<>MONTH(AD29),"",AD29+1)) -> 46374 | AF29: =IF(AE29="","",IF(MONTH(AE29+1)<>MONTH(AE29),"",AE29+1)) -> 46375 | AG29: =IF(AF29="","",IF(MONTH(AF29+1)<>MONTH(AF29),"",AF29+1)) -> 46376
C30: =IF(I29="","",IF(MONTH(I29+1)<>MONTH(I29),"",I29+1)) -> 46286 | D30: =IF(C30="","",IF(MONTH(C30+1)<>MONTH(C30),"",C30+1)) -> 46287 | E30: =IF(D30="","",IF(MONTH(D30+1)<>MONTH(D30),"",D30+1)) -> 46288 | F30: =IF(E30="","",IF(MONTH(E30+1)<>MONTH(E30),"",E30+1)) -> 46289 | G30: =IF(F30="","",IF(MONTH(F30+1)<>MONTH(F30),"",F30+1)) -> 46290 | H30: =IF(G30="","",IF(MONTH(G30+1)<>MONTH(G30),"",G30+1)) -> 46291 | I30: =IF(H30="","",IF(MONTH(H30+1)<>MONTH(H30),"",H30+1)) -> 46292 | K30: =IF(Q29="","",IF(MONTH(Q29+1)<>MONTH(Q29),"",Q29+1)) -> 46314 | L30: =IF(K30="","",IF(MONTH(K30+1)<>MONTH(K30),"",K30+1)) -> 46315 | M30: =IF(L30="","",IF(MONTH(L30+1)<>MONTH(L30),"",L30+1)) -> 46316 | N30: =IF(M30="","",IF(MONTH(M30+1)<>MONTH(M30),"",M30+1)) -> 46317 | O30: =IF(N30="","",IF(MONTH(N30+1)<>MONTH(N30),"",N30+1)) -> 46318 | P30: =IF(O30="","",IF(MONTH(O30+1)<>MONTH(O30),"",O30+1)) -> 46319 | Q30: =IF(P30="","",IF(MONTH(P30+1)<>MONTH(P30),"",P30+1)) -> 46320 | S30: =IF(Y29="","",IF(MONTH(Y29+1)<>MONTH(Y29),"",Y29+1)) -> 46342 | T30: =IF(S30="","",IF(MONTH(S30+1)<>MONTH(S30),"",S30+1)) -> 46343 | U30: =IF(T30="","",IF(MONTH(T30+1)<>MONTH(T30),"",T30+1)) -> 46344 | V30: =IF(U30="","",IF(MONTH(U30+1)<>MONTH(U30),"",U30+1)) -> 46345 | W30: =IF(V30="","",IF(MONTH(V30+1)<>MONTH(V30),"",V30+1)) -> 46346 | X30: =IF(W30="","",IF(MONTH(W30+1)<>MONTH(W30),"",W30+1)) -> 46347 | Y30: =IF(X30="","",IF(MONTH(X30+1)<>MONTH(X30),"",X30+1)) -> 46348 | AA30: =IF(AG29="","",IF(MONTH(AG29+1)<>MONTH(AG29),"",AG29+1)) -> 46377 | AB30: =IF(AA30="","",IF(MONTH(AA30+1)<>MONTH(AA30),"",AA30+1)) -> 46378 | AC30: =IF(AB30="","",IF(MONTH(AB30+1)<>MONTH(AB30),"",AB30+1)) -> 46379 | AD30: =IF(AC30="","",IF(MONTH(AC30+1)<>MONTH(AC30),"",AC30+1)) -> 46380 | AE30: =IF(AD30="","",IF(MONTH(AD30+1)<>MONTH(AD30),"",AD30+1)) -> 46381 | AF30: =IF(AE30="","",IF(MONTH(AE30+1)<>MONTH(AE30),"",AE30+1)) -> 46382 | AG30: =IF(AF30="","",IF(MONTH(AF30+1)<>MONTH(AF30),"",AF30+1)) -> 46383
C31: =IF(I30="","",IF(MONTH(I30+1)<>MONTH(I30),"",I30+1)) -> 46293 | D31: =IF(C31="","",IF(MONTH(C31+1)<>MONTH(C31),"",C31+1)) -> 46294 | E31: =IF(D31="","",IF(MONTH(D31+1)<>MONTH(D31),"",D31+1)) -> 46295 | F31: =IF(E31="","",IF(MONTH(E31+1)<>MONTH(E31),"",E31+1)) | G31: =IF(F31="","",IF(MONTH(F31+1)<>MONTH(F31),"",F31+1)) | H31: =IF(G31="","",IF(MONTH(G31+1)<>MONTH(G31),"",G31+1)) | I31: =IF(H31="","",IF(MONTH(H31+1)<>MONTH(H31),"",H31+1)) | K31: =IF(Q30="","",IF(MONTH(Q30+1)<>MONTH(Q30),"",Q30+1)) -> 46321 | L31: =IF(K31="","",IF(MONTH(K31+1)<>MONTH(K31),"",K31+1)) -> 46322 | M31: =IF(L31="","",IF(MONTH(L31+1)<>MONTH(L31),"",L31+1)) -> 46323 | N31: =IF(M31="","",IF(MONTH(M31+1)<>MONTH(M31),"",M31+1)) -> 46324 | O31: =IF(N31="","",IF(MONTH(N31+1)<>MONTH(N31),"",N31+1)) -> 46325 | P31: =IF(O31="","",IF(MONTH(O31+1)<>MONTH(O31),"",O31+1)) -> 46326 | Q31: =IF(P31="","",IF(MONTH(P31+1)<>MONTH(P31),"",P31+1)) | S31: =IF(Y30="","",IF(MONTH(Y30+1)<>MONTH(Y30),"",Y30+1)) -> 46349 | T31: =IF(S31="","",IF(MONTH(S31+1)<>MONTH(S31),"",S31+1)) -> 46350 | U31: =IF(T31="","",IF(MONTH(T31+1)<>MONTH(T31),"",T31+1)) -> 46351 | V31: =IF(U31="","",IF(MONTH(U31+1)<>MONTH(U31),"",U31+1)) -> 46352 | W31: =IF(V31="","",IF(MONTH(V31+1)<>MONTH(V31),"",V31+1)) -> 46353 | X31: =IF(W31="","",IF(MONTH(W31+1)<>MONTH(W31),"",W31+1)) -> 46354 | Y31: =IF(X31="","",IF(MONTH(X31+1)<>MONTH(X31),"",X31+1)) -> 46355 | AA31: =IF(AG30="","",IF(MONTH(AG30+1)<>MONTH(AG30),"",AG30+1)) -> 46384 | AB31: =IF(AA31="","",IF(MONTH(AA31+1)<>MONTH(AA31),"",AA31+1)) -> 46385 | AC31: =IF(AB31="","",IF(MONTH(AB31+1)<>MONTH(AB31),"",AB31+1)) -> 46386 | AD31: =IF(AC31="","",IF(MONTH(AC31+1)<>MONTH(AC31),"",AC31+1)) -> 46387 | AE31: =IF(AD31="","",IF(MONTH(AD31+1)<>MONTH(AD31),"",AD31+1)) | AF31: =IF(AE31="","",IF(MONTH(AE31+1)<>MONTH(AE31),"",AE31+1)) | AG31: =IF(AF31="","",IF(MONTH(AF31+1)<>MONTH(AF31),"",AF31+1))
C32: =IF(I31="","",IF(MONTH(I31+1)<>MONTH(I31),"",I31+1)) | D32: =IF(C32="","",IF(MONTH(C32+1)<>MONTH(C32),"",C32+1)) | E32: =IF(D32="","",IF(MONTH(D32+1)<>MONTH(D32),"",D32+1)) | F32: =IF(E32="","",IF(MONTH(E32+1)<>MONTH(E32),"",E32+1)) | G32: =IF(F32="","",IF(MONTH(F32+1)<>MONTH(F32),"",F32+1)) | H32: =IF(G32="","",IF(MONTH(G32+1)<>MONTH(G32),"",G32+1)) | I32: =IF(H32="","",IF(MONTH(H32+1)<>MONTH(H32),"",H32+1)) | K32: =IF(Q31="","",IF(MONTH(Q31+1)<>MONTH(Q31),"",Q31+1)) | L32: =IF(K32="","",IF(MONTH(K32+1)<>MONTH(K32),"",K32+1)) | M32: =IF(L32="","",IF(MONTH(L32+1)<>MONTH(L32),"",L32+1)) | N32: =IF(M32="","",IF(MONTH(M32+1)<>MONTH(M32),"",M32+1)) | O32: =IF(N32="","",IF(MONTH(N32+1)<>MONTH(N32),"",N32+1)) | P32: =IF(O32="","",IF(MONTH(O32+1)<>MONTH(O32),"",O32+1)) | Q32: =IF(P32="","",IF(MONTH(P32+1)<>MONTH(P32),"",P32+1)) | S32: =IF(Y31="","",IF(MONTH(Y31+1)<>MONTH(Y31),"",Y31+1)) -> 46356 | T32: =IF(S32="","",IF(MONTH(S32+1)<>MONTH(S32),"",S32+1)) | U32: =IF(T32="","",IF(MONTH(T32+1)<>MONTH(T32),"",T32+1)) | V32: =IF(U32="","",IF(MONTH(U32+1)<>MONTH(U32),"",U32+1)) | W32: =IF(V32="","",IF(MONTH(V32+1)<>MONTH(V32),"",V32+1)) | X32: =IF(W32="","",IF(MONTH(W32+1)<>MONTH(W32),"",W32+1)) | Y32: =IF(X32="","",IF(MONTH(X32+1)<>MONTH(X32),"",X32+1)) | AA32: =IF(AG31="","",IF(MONTH(AG31+1)<>MONTH(AG31),"",AG31+1)) | AB32: =IF(AA32="","",IF(MONTH(AA32+1)<>MONTH(AA32),"",AA32+1)) | AC32: =IF(AB32="","",IF(MONTH(AB32+1)<>MONTH(AB32),"",AB32+1)) | AD32: =IF(AC32="","",IF(MONTH(AC32+1)<>MONTH(AC32),"",AC32+1)) | AE32: =IF(AD32="","",IF(MONTH(AD32+1)<>MONTH(AD32),"",AD32+1)) | AF32: =IF(AE32="","",IF(MONTH(AE32+1)<>MONTH(AE32),"",AE32+1)) | AG32: =IF(AF32="","",IF(MONTH(AF32+1)<>MONTH(AF32),"",AF32+1))

Sheet Лист1
D2: Год | E2: =IF(MONTH(TODAY())=12,YEAR(TODAY())+1,YEAR(TODAY())) -> 2026 | J2: Месяц | K2: 1 | O2: День начала | P2: 1 | R2: 1:Вс, 2:Пн …
C5: 2025
C8: =DATE(E2,K2,1) -> 46023 | K8: =DATE(YEAR(C8+42),MONTH(C8+42),1) -> 46054 | S8: =DATE(YEAR(K8+42),MONTH(K8+42),1) -> 46082
C9: =CHOOSE(1+MOD($P$2+1-2,7),"ПН","ВТ","СР","ЧТ","ПТ","СБ","ВС") -> ПН | D9: =CHOOSE(1+MOD($P$2+2-2,7),"ПН","ВТ","СР","ЧТ","ПТ","СБ","ВС") -> ВТ | E9: =CHOOSE(1+MOD($P$2+3-2,7),"ПН","ВТ","СР","ЧТ","ПТ","СБ","ВС") -> СР | F9: =CHOOSE(1+MOD($P$2+4-2,7),"ПН","ВТ","СР","ЧТ","ПТ","СБ","ВС") -> ЧТ | G9: =CHOOSE(1+MOD($P$2+5-2,7),"ПН","ВТ","СР","ЧТ","ПТ","СБ","ВС") -> ПТ | H9: =CHOOSE(1+MOD($P$2+6-2,7),"ПН","ВТ","СР","ЧТ","ПТ","СБ","ВС") -> СБ | I9: =CHOOSE(1+MOD($P$2+7-2,7),"ПН","ВТ","СР","ЧТ","ПТ","СБ","ВС") -> ВС | K9: =CHOOSE(1+MOD($P$2+1-2,7),"ПН","ВТ","СР","ЧТ","ПТ","СБ","ВС") -> ПН | L9: =CHOOSE(1+MOD($P$2+2-2,7),"ПН","ВТ","СР","ЧТ","ПТ","СБ","ВС") -> ВТ | M9: =CHOOSE(1+MOD($P$2+3-2,7),"ПН","ВТ","СР","ЧТ","ПТ","СБ","ВС") -> СР | N9: =CHOOSE(1+MOD($P$2+4-2,7),"ПН","ВТ","СР","ЧТ","ПТ","СБ","ВС") -> ЧТ | O9: =CHOOSE(1+MOD($P$2+5-2,7),"ПН","ВТ","СР","ЧТ","ПТ","СБ","ВС") -> ПТ | P9: =CHOOSE(1+MOD($P$2+6-2,7),"ПН","ВТ","СР","ЧТ","ПТ","СБ","ВС") -> СБ | Q9: =CHOOSE(1+MOD($P$2+7-2,7),"ПН","ВТ","СР","ЧТ","ПТ","СБ","ВС") -> ВС | S9: =CHOOSE(1+MOD($P$2+1-2,7),"ПН","ВТ","СР","ЧТ","ПТ","СБ","ВС") -> ПН | T9: =CHOOSE(1+MOD($P$2+2-2,7),"ПН","ВТ","СР","ЧТ","ПТ","СБ","ВС") -> ВТ | U9: =CHOOSE(1+MOD($P$2+3-2,7),"ПН","ВТ","СР","ЧТ","ПТ","СБ","ВС") -> СР | V9: =CHOOSE(1+MOD($P$2+4-2,7),"ПН","ВТ","СР","ЧТ","ПТ","СБ","ВС") -> ЧТ | W9: =CHOOSE(1+MOD($P$2+5-2,7),"ПН","ВТ","СР","ЧТ","ПТ","СБ","ВС") -> ПТ | X9: =CHOOSE(1+MOD($P$2+6-2,7),"ПН","ВТ","СР","ЧТ","ПТ","СБ","ВС") -> СБ | Y9: =CHOOSE(1+MOD($P$2+7-2,7),"ПН","ВТ","СР","ЧТ","ПТ","СБ","ВС") -> ВС
C10: =IF(WEEKDAY(C8,1)=MOD($P$2-1,7)+1,C8,"") | D10: =IF(C10="",IF(WEEKDAY(C8,1)=MOD($P$2,7)+1,C8,""),C10+1) | E10: =IF(D10="",IF(WEEKDAY(C8,1)=MOD($P$2+1,7)+1,C8,""),D10+1) | F10: =IF(E10="",IF(WEEKDAY(C8,1)=MOD($P$2+2,7)+1,C8,""),E10+1) | G10: =IF(F10="",IF(WEEKDAY(C8,1)=MOD($P$2+3,7)+1,C8,""),F10+1) -> 46023 | H10: =IF(G10="",IF(WEEKDAY(C8,1)=MOD($P$2+4,7)+1,C8,""),G10+1) -> 46024 | I10: =IF(H10="",IF(WEEKDAY(C8,1)=MOD($P$2+5,7)+1,C8,""),H10+1) -> 46025 | K10: =IF(WEEKDAY(K8,1)=MOD($P$2-1,7)+1,K8,"") -> 46054 | L10: =IF(K10="",IF(WEEKDAY(K8,1)=MOD($P$2,7)+1,K8,""),K10+1) -> 46055 | M10: =IF(L10="",IF(WEEKDAY(K8,1)=MOD($P$2+1,7)+1,K8,""),L10+1) -> 46056 | N10: =IF(M10="",IF(WEEKDAY(K8,1)=MOD($P$2+2,7)+1,K8,""),M10+1) -> 46057 | O10: =IF(N10="",IF(WEEKDAY(K8,1)=MOD($P$2+3,7)+1,K8,""),N10+1) -> 46058 | P10: =IF(O10="",IF(WEEKDAY(K8,1)=MOD($P$2+4,7)+1,K8,""),O10+1) -> 46059 | Q10: =IF(P10="",IF(WEEKDAY(K8,1)=MOD($P$2+5,7)+1,K8,""),P10+1) -> 46060 | S10: =IF(WEEKDAY(S8,1)=MOD($P$2-1,7)+1,S8,"") -> 46082 | T10: =IF(S10="",IF(WEEKDAY(S8,1)=MOD($P$2,7)+1,S8,""),S10+1) -> 46083 | U10: =IF(T10="",IF(WEEKDAY(S8,1)=MOD($P$2+1,7)+1,S8,""),T10+1) -> 46084 | V10: =IF(U10="",IF(WEEKDAY(S8,1)=MOD($P$2+2,7)+1,S8,""),U10+1) -> 46085 | W10: =IF(V10="",IF(WEEKDAY(S8,1)=MOD($P$2+3,7)+1,S8,""),V10+1) -> 46086 | X10: =IF(W10="",IF(WEEKDAY(S8,1)=MOD($P$2+4,7)+1,S8,""),W10+1) -> 46087 | Y10: =IF(X10="",IF(WEEKDAY(S8,1)=MOD($P$2+5,7)+1,S8,""),X10+1) -> 46088
C11: =IF(I10="","",IF(MONTH(I10+1)<>MONTH(I10),"",I10+1)) -> 46026 | D11: =IF(C11="","",IF(MONTH(C11+1)<>MONTH(C11),"",C11+1)) -> 46027 | E11: =IF(D11="","",IF(MONTH(D11+1)<>MONTH(D11),"",D11+1)) -> 46028 | F11: =IF(E11="","",IF(MONTH(E11+1)<>MONTH(E11),"",E11+1)) -> 46029 | G11: =IF(F11="","",IF(MONTH(F11+1)<>MONTH(F11),"",F11+1)) -> 46030 | H11: =IF(G11="","",IF(MONTH(G11+1)<>MONTH(G11),"",G11+1)) -> 46031 | I11: =IF(H11="","",IF(MONTH(H11+1)<>MONTH(H11),"",H11+1)) -> 46032 | K11: =IF(Q10="","",IF(MONTH(Q10+1)<>MONTH(Q10),"",Q10+1)) -> 46061 | L11: =IF(K11="","",IF(MONTH(K11+1)<>MONTH(K11),"",K11+1)) -> 46062 | M11: =IF(L11="","",IF(MONTH(L11+1)<>MONTH(L11),"",L11+1)) -> 46063 | N11: =IF(M11="","",IF(MONTH(M11+1)<>MONTH(M11),"",M11+1)) -> 46064 | O11: =IF(N11="","",IF(MONTH(N11+1)<>MONTH(N11),"",N11+1)) -> 46065 | P11: =IF(O11="","",IF(MONTH(O11+1)<>MONTH(O11),"",O11+1)) -> 46066 | Q11: =IF(P11="","",IF(MONTH(P11+1)<>MONTH(P11),"",P11+1)) -> 46067 | S11: =IF(Y10="","",IF(MONTH(Y10+1)<>MONTH(Y10),"",Y10+1)) -> 46089 | T11: =IF(S11="","",IF(MONTH(S11+1)<>MONTH(S11),"",S11+1)) -> 46090 | U11: =IF(T11="","",IF(MONTH(T11+1)<>MONTH(T11),"",T11+1)) -> 46091 | V11: =IF(U11="","",IF(MONTH(U11+1)<>MONTH(U11),"",U11+1)) -> 46092 | W11: =IF(V11="","",IF(MONTH(V11+1)<>MONTH(V11),"",V11+1)) -> 46093 | X11: =IF(W11="","",IF(MONTH(W11+1)<>MONTH(W11),"",W11+1)) -> 46094 | Y11: =IF(X11="","",IF(MONTH(X11+1)<>MONTH(X11),"",X11+1)) -> 46095
C12: =IF(I11="","",IF(MONTH(I11+1)<>MONTH(I11),"",I11+1)) -> 46033 | D12: =IF(C12="","",IF(MONTH(C12+1)<>MONTH(C12),"",C12+1)) -> 46034 | E12: =IF(D12="","",IF(MONTH(D12+1)<>MONTH(D12),"",D12+1)) -> 46035 | F12: =IF(E12="","",IF(MONTH(E12+1)<>MONTH(E12),"",E12+1)) -> 46036 | G12: =IF(F12="","",IF(MONTH(F12+1)<>MONTH(F12),"",F12+1)) -> 46037 | H12: =IF(G12="","",IF(MONTH(G12+1)<>MONTH(G12),"",G12+1)) -> 46038 | I12: =IF(H12="","",IF(MONTH(H12+1)<>MONTH(H12),"",H12+1)) -> 46039 | K12: =IF(Q11="","",IF(MONTH(Q11+1)<>MONTH(Q11),"",Q11+1)) -> 46068 | L12: =IF(K12="","",IF(MONTH(K12+1)<>MONTH(K12),"",K12+1)) -> 46069 | M12: =IF(L12="","",IF(MONTH(L12+1)<>MONTH(L12),"",L12+1)) -> 46070 | N12: =IF(M12="","",IF(MONTH(M12+1)<>MONTH(M12),"",M12+1)) -> 46071 | O12: =IF(N12="","",IF(MONTH(N12+1)<>MONTH(N12),"",N12+1)) -> 46072 | P12: =IF(O12="","",IF(MONTH(O12+1)<>MONTH(O12),"",O12+1)) -> 46073 | Q12: =IF(P12="","",IF(MONTH(P12+1)<>MONTH(P12),"",P12+1)) -> 46074 | S12: =IF(Y11="","",IF(MONTH(Y11+1)<>MONTH(Y11),"",Y11+1)) -> 46096 | T12: =IF(S12="","",IF(MONTH(S12+1)<>MONTH(S12),"",S12+1)) -> 46097 | U12: =IF(T12="","",IF(MONTH(T12+1)<>MONTH(T12),"",T12+1)) -> 46098 | V12: =IF(U12="","",IF(MONTH(U12+1)<>MONTH(U12),"",U12+1)) -> 46099 | W12: =IF(V12="","",IF(MONTH(V12+1)<>MONTH(V12),"",V12+1)) -> 46100 | X12: =IF(W12="","",IF(MONTH(W12+1)<>MONTH(W12),"",W12+1)) -> 46101 | Y12: =IF(X12="","",IF(MONTH(X12+1)<>MONTH(X12),"",X12+1)) -> 46102
C13: =IF(I12="","",IF(MONTH(I12+1)<>MONTH(I12),"",I12+1)) -> 46040 | D13: =IF(C13="","",IF(MONTH(C13+1)<>MONTH(C13),"",C13+1)) -> 46041 | E13: =IF(D13="","",IF(MONTH(D13+1)<>MONTH(D13),"",D13+1)) -> 46042 | F13: =IF(E13="","",IF(MONTH(E13+1)<>MONTH(E13),"",E13+1)) -> 46043 | G13: =IF(F13="","",IF(MONTH(F13+1)<>MONTH(F13),"",F13+1)) -> 46044 | H13: =IF(G13="","",IF(MONTH(G13+1)<>MONTH(G13),"",G13+1)) -> 46045 | I13: =IF(H13="","",IF(MONTH(H13+1)<>MONTH(H13),"",H13+1)) -> 46046 | K13: =IF(Q12="","",IF(MONTH(Q12+1)<>MONTH(Q12),"",Q12+1)) -> 46075 | L13: =IF(K13="","",IF(MONTH(K13+1)<>MONTH(K13),"",K13+1)) -> 46076 | M13: =IF(L13="","",IF(MONTH(L13+1)<>MONTH(L13),"",L13+1)) -> 46077 | N13: =IF(M13="","",IF(MONTH(M13+1)<>MONTH(M13),"",M13+1)) -> 46078 | O13: =IF(N13="","",IF(MONTH(N13+1)<>MONTH(N13),"",N13+1)) -> 46079 | P13: =IF(O13="","",IF(MONTH(O13+1)<>MONTH(O13),"",O13+1)) -> 46080 | Q13: =IF(P13="","",IF(MONTH(P13+1)<>MONTH(P13),"",P13+1)) -> 46081 | S13: =IF(Y12="","",IF(MONTH(Y12+1)<>MONTH(Y12),"",Y12+1)) -> 46103 | T13: =IF(S13="","",IF(MONTH(S13+1)<>MONTH(S13),"",S13+1)) -> 46104 | U13: =IF(T13="","",IF(MONTH(T13+1)<>MONTH(T13),"",T13+1)) -> 46105 | V13: =IF(U13="","",IF(MONTH(U13+1)<>MONTH(U13),"",U13+1)) -> 46106 | W13: =IF(V13="","",IF(MONTH(V13+1)<>MONTH(V13),"",V13+1)) -> 46107 | X13: =IF(W13="","",IF(MONTH(W13+1)<>MONTH(W13),"",W13+1)) -> 46108 | Y13: =IF(X13="","",IF(MONTH(X13+1)<>MONTH(X13),"",X13+1)) -> 46109
C14: =IF(I13="","",IF(MONTH(I13+1)<>MONTH(I13),"",I13+1)) -> 46047 | D14: =IF(C14="","",IF(MONTH(C14+1)<>MONTH(C14),"",C14+1)) -> 46048 | E14: =IF(D14="","",IF(MONTH(D14+1)<>MONTH(D14),"",D14+1)) -> 46049 | F14: =IF(E14="","",IF(MONTH(E14+1)<>MONTH(E14),"",E14+1)) -> 46050 | G14: =IF(F14="","",IF(MONTH(F14+1)<>MONTH(F14),"",F14+1)) -> 46051 | H14: =IF(G14="","",IF(MONTH(G14+1)<>MONTH(G14),"",G14+1)) -> 46052 | I14: =IF(H14="","",IF(MONTH(H14+1)<>MONTH(H14),"",H14+1)) -> 46053 | K14: =IF(Q13="","",IF(MONTH(Q13+1)<>MONTH(Q13),"",Q13+1)) | L14: =IF(K14="","",IF(MONTH(K14+1)<>MONTH(K14),"",K14+1)) | M14: =IF(L14="","",IF(MONTH(L14+1)<>MONTH(L14),"",L14+1)) | N14: =IF(M14="","",IF(MONTH(M14+1)<>MONTH(M14),"",M14+1)) | O14: =IF(N14="","",IF(MONTH(N14+1)<>MONTH(N14),"",N14+1)) | P14: =IF(O14="","",IF(MONTH(O14+1)<>MONTH(O14),"",O14+1)) | Q14: =IF(P14="","",IF(MONTH(P14+1)<>MONTH(P14),"",P14+1)) | S14: =IF(Y13="","",IF(MONTH(Y13+1)<>MONTH(Y13),"",Y13+1)) -> 46110 | T14: =IF(S14="","",IF(MONTH(S14+1)<>MONTH(S14),"",S14+1)) -> 46111 | U14: =IF(T14="","",IF(MONTH(T14+1)<>MONTH(T14),"",T14+1)) -> 46112 | V14: =IF(U14="","",IF(MONTH(U14+1)<>MONTH(U14),"",U14+1)) | W14: =IF(V14="","",IF(MONTH(V14+1)<>MONTH(V14),"",V14+1)) | X14: =IF(W14="","",IF(MONTH(W14+1)<>MONTH(W14),"",W14+1)) | Y14: =IF(X14="","",IF(MONTH(X14+1)<>MONTH(X14),"",X14+1))
C15: =IF(I14="","",IF(MONTH(I14+1)<>MONTH(I14),"",I14+1)) | D15: =IF(C15="","",IF(MONTH(C15+1)<>MONTH(C15),"",C15+1)) | E15: =IF(D15="","",IF(MONTH(D15+1)<>MONTH(D15),"",D15+1)) | F15: =IF(E15="","",IF(MONTH(E15+1)<>MONTH(E15),"",E15+1)) | G15: =IF(F15="","",IF(MONTH(F15+1)<>MONTH(F15),"",F15+1)) | H15: =IF(G15="","",IF(MONTH(G15+1)<>MONTH(G15),"",G15+1)) | I15: =IF(H15="","",IF(MONTH(H15+1)<>MONTH(H15),"",H15+1)) | K15: =IF(Q14="","",IF(MONTH(Q14+1)<>MONTH(Q14),"",Q14+1)) | L15: =IF(K15="","",IF(MONTH(K15+1)<>MONTH(K15),"",K15+1)) | M15: =IF(L15="","",IF(MONTH(L15+1)<>MONTH(L15),"",L15+1)) | N15: =IF(M15="","",IF(MONTH(M15+1)<>MONTH(M15),"",M15+1)) | O15: =IF(N15="","",IF(MONTH(N15+1)<>MONTH(N15),"",N15+1)) | P15: =IF(O15="","",IF(MONTH(O15+1)<>MONTH(O15),"",O15+1)) | Q15: =IF(P15="","",IF(MONTH(P15+1)<>MONTH(P15),"",P15+1)) | S15: =IF(Y14="","",IF(MONTH(Y14+1)<>MONTH(Y14),"",Y14+1)) | T15: =IF(S15="","",IF(MONTH(S15+1)<>MONTH(S15),"",S15+1)) | U15: =IF(T15="","",IF(MONTH(T15+1)<>MONTH(T15),"",T15+1)) | V15: =IF(U15="","",IF(MONTH(U15+1)<>MONTH(U15),"",U15+1)) | W15: =IF(V15="","",IF(MONTH(V15+1)<>MONTH(V15),"",V15+1)) | X15: =IF(W15="","",IF(MONTH(W15+1)<>MONTH(W15),"",W15+1)) | Y15: =IF(X15="","",IF(MONTH(X15+1)<>MONTH(X15),"",X15+1))
C17: =DATE(YEAR(S8+42),MONTH(S8+42),1) -> 46113 | K17: =DATE(YEAR(C17+42),MONTH(C17+42),1) -> 46143 | S17: =DATE(YEAR(K17+42),MONTH(K17+42),1) -> 46174
C18: =CHOOSE(1+MOD($P$2+1-2,7),"ПН","ВТ","СР","ЧТ","ПТ","СБ","ВС") -> ПН | D18: =CHOOSE(1+MOD($P$2+2-2,7),"ПН","ВТ","СР","ЧТ","ПТ","СБ","ВС") -> ВТ | E18: =CHOOSE(1+MOD($P$2+3-2,7),"ПН","ВТ","СР","ЧТ","ПТ","СБ","ВС") -> СР | F18: =CHOOSE(1+MOD($P$2+4-2,7),"ПН","ВТ","СР","ЧТ","ПТ","СБ","ВС") -> ЧТ | G18: =CHOOSE(1+MOD($P$2+5-2,7),"ПН","ВТ","СР","ЧТ","ПТ","СБ","ВС") -> ПТ | H18: =CHOOSE(1+MOD($P$2+6-2,7),"ПН","ВТ","СР","ЧТ","ПТ","СБ","ВС") -> СБ | I18: =CHOOSE(1+MOD($P$2+7-2,7),"ПН","ВТ","СР","ЧТ","ПТ","СБ","ВС") -> ВС | K18: =CHOOSE(1+MOD($P$2+1-2,7),"ПН","ВТ","СР","ЧТ","ПТ","СБ","ВС") -> ПН | L18: =CHOOSE(1+MOD($P$2+2-2,7),"ПН","ВТ","СР","ЧТ","ПТ","СБ","ВС") -> ВТ | M18: =CHOOSE(1+MOD($P$2+3-2,7),"ПН","ВТ","СР","ЧТ","ПТ","СБ","ВС") -> СР | N18: =CHOOSE(1+MOD($P$2+4-2,7),"ПН","ВТ","СР","ЧТ","ПТ","СБ","ВС") -> ЧТ | O18: =CHOOSE(1+MOD($P$2+5-2,7),"ПН","ВТ","СР","ЧТ","ПТ","СБ","ВС") -> ПТ | P18: =CHOOSE(1+MOD($P$2+6-2,7),"ПН","ВТ","СР","ЧТ","ПТ","СБ","ВС") -> СБ | Q18: =CHOOSE(1+MOD($P$2+7-2,7),"ПН","ВТ","СР","ЧТ","ПТ","СБ","ВС") -> ВС | S18: =CHOOSE(1+MOD($P$2+1-2,7),"ПН","ВТ","СР","ЧТ","ПТ","СБ","ВС") -> ПН | T18: =CHOOSE(1+MOD($P$2+2-2,7),"ПН","ВТ","СР","ЧТ","ПТ","СБ","ВС") -> ВТ | U18: =CHOOSE(1+MOD($P$2+3-2,7),"ПН","ВТ","СР","ЧТ","ПТ","СБ","ВС") -> СР | V18: =CHOOSE(1+MOD($P$2+4-2,7),"ПН","ВТ","СР","ЧТ","ПТ","СБ","ВС") -> ЧТ | W18: =CHOOSE(1+MOD($P$2+5-2,7),"ПН","ВТ","СР","ЧТ","ПТ","СБ","ВС") -> ПТ | X18: =CHOOSE(1+MOD($P$2+6-2,7),"ПН","ВТ","СР","ЧТ","ПТ","СБ","ВС") -> СБ | Y18: =CHOOSE(1+MOD($P$2+7-2,7),"ПН","ВТ","СР","ЧТ","ПТ","СБ","ВС") -> ВС
C19: =IF(WEEKDAY(C17,1)=MOD($P$2-1,7)+1,C17,"") | D19: =IF(C19="",IF(WEEKDAY(C17,1)=MOD($P$2,7)+1,C17,""),C19+1) | E19: =IF(D19="",IF(WEEKDAY(C17,1)=MOD($P$2+1,7)+1,C17,""),D19+1) | F19: =IF(E19="",IF(WEEKDAY(C17,1)=MOD($P$2+2,7)+1,C17,""),E19+1) -> 46113 | G19: =IF(F19="",IF(WEEKDAY(C17,1)=MOD($P$2+3,7)+1,C17,""),F19+1) -> 46114 | H19: =IF(G19="",IF(WEEKDAY(C17,1)=MOD($P$2+4,7)+1,C17,""),G19+1) -> 46115 | I19: =IF(H19="",IF(WEEKDAY(C17,1)=MOD($P$2+5,7)+1,C17,""),H19+1) -> 46116 | K19: =IF(WEEKDAY(K17,1)=MOD($P$2-1,7)+1,K17,"") | L19: =IF(K19="",IF(WEEKDAY(K17,1)=MOD($P$2,7)+1,K17,""),K19+1) | M19: =IF(L19="",IF(WEEKDAY(K17,1)=MOD($P$2+1,7)+1,K17,""),L19+1) | N19: =IF(M19="",IF(WEEKDAY(K17,1)=MOD($P$2+2,7)+1,K17,""),M19+1) | O19: =IF(N19="",IF(WEEKDAY(K17,1)=MOD($P$2+3,7)+1,K17,""),N19+1) | P19: =IF(O19="",IF(WEEKDAY(K17,1)=MOD($P$2+4,7)+1,K17,""),O19+1) -> 46143 | Q19: =IF(P19="",IF(WEEKDAY(K17,1)=MOD($P$2+5,7)+1,K17,""),P19+1) -> 46144 | S19: =IF(WEEKDAY(S17,1)=MOD($P$2-1,7)+1,S17,"") | T19: =IF(S19="",IF(WEEKDAY(S17,1)=MOD($P$2,7)+1,S17,""),S19+1) -> 46174 | U19: =IF(T19="",IF(WEEKDAY(S17,1)=MOD($P$2+1,7)+1,S17,""),T19+1) -> 46175 | V19: =IF(U19="",IF(WEEKDAY(S17,1)=MOD($P$2+2,7)+1,S17,""),U19+1) -> 46176 | W19: =IF(V19="",IF(WEEKDAY(S17,1)=MOD($P$2+3,7)+1,S17,""),V19+1) -> 46177 | X19: =IF(W19="",IF(WEEKDAY(S17,1)=MOD($P$2+4,7)+1,S17,""),W19+1) -> 46178 | Y19: =IF(X19="",IF(WEEKDAY(S17,1)=MOD($P$2+5,7)+1,S17,""),X19+1) -> 46179
C20: =IF(I19="","",IF(MONTH(I19+1)<>MONTH(I19),"",I19+1)) -> 46117 | D20: =IF(C20="","",IF(MONTH(C20+1)<>MONTH(C20),"",C20+1)) -> 46118 | E20: =IF(D20="","",IF(MONTH(D20+1)<>MONTH(D20),"",D20+1)) -> 46119 | F20: =IF(E20="","",IF(MONTH(E20+1)<>MONTH(E20),"",E20+1)) -> 46120 | G20: =IF(F20="","",IF(MONTH(F20+1)<>MONTH(F20),"",F20+1)) -> 46121 | H20: =IF(G20="","",IF(MONTH(G20+1)<>MONTH(G20),"",G20+1)) -> 46122 | I20: =IF(H20="","",IF(MONTH(H20+1)<>MONTH(H20),"",H20+1)) -> 46123 | K20: =IF(Q19="","",IF(MONTH(Q19+1)<>MONTH(Q19),"",Q19+1)) -> 46145 | L20: =IF(K20="","",IF(MONTH(K20+1)<>MONTH(K20),"",K20+1)) -> 46146 | M20: =IF(L20="","",IF(MONTH(L20+1)<>MONTH(L20),"",L20+1)) -> 46147 | N20: =IF(M20="","",IF(MONTH(M20+1)<>MONTH(M20),"",M20+1)) -> 46148 | O20: =IF(N20="","",IF(MONTH(N20+1)<>MONTH(N20),"",N20+1)) -> 46149 | P20: =IF(O20="","",IF(MONTH(O20+1)<>MONTH(O20),"",O20+1)) -> 46150 | Q20: =IF(P20="","",IF(MONTH(P20+1)<>MONTH(P20),"",P20+1)) -> 46151 | S20: =IF(Y19="","",IF(MONTH(Y19+1)<>MONTH(Y19),"",Y19+1)) -> 46180 | T20: =IF(S20="","",IF(MONTH(S20+1)<>MONTH(S20),"",S20+1)) -> 46181 | U20: =IF(T20="","",IF(MONTH(T20+1)<>MONTH(T20),"",T20+1)) -> 46182 | V20: =IF(U20="","",IF(MONTH(U20+1)<>MONTH(U20),"",U20+1)) -> 46183 | W20: =IF(V20="","",IF(MONTH(V20+1)<>MONTH(V20),"",V20+1)) -> 46184 | X20: =IF(W20="","",IF(MONTH(W20+1)<>MONTH(W20),"",W20+1)) -> 46185 | Y20: =IF(X20="","",IF(MONTH(X20+1)<>MONTH(X20),"",X20+1)) -> 46186
C21: =IF(I20="","",IF(MONTH(I20+1)<>MONTH(I20),"",I20+1)) -> 46124 | D21: =IF(C21="","",IF(MONTH(C21+1)<>MONTH(C21),"",C21+1)) -> 46125 | E21: =IF(D21="","",IF(MONTH(D21+1)<>MONTH(D21),"",D21+1)) -> 46126 | F21: =IF(E21="","",IF(MONTH(E21+1)<>MONTH(E21),"",E21+1)) -> 46127 | G21: =IF(F21="","",IF(MONTH(F21+1)<>MONTH(F21),"",F21+1)) -> 46128 | H21: =IF(G21="","",IF(MONTH(G21+1)<>MONTH(G21),"",G21+1)) -> 46129 | I21: =IF(H21="","",IF(MONTH(H21+1)<>MONTH(H21),"",H21+1)) -> 46130 | K21: =IF(Q20="","",IF(MONTH(Q20+1)<>MONTH(Q20),"",Q20+1)) -> 46152 | L21: =IF(K21="","",IF(MONTH(K21+1)<>MONTH(K21),"",K21+1)) -> 46153 | M21: =IF(L21="","",IF(MONTH(L21+1)<>MONTH(L21),"",L21+1)) -> 46154 | N21: =IF(M21="","",IF(MONTH(M21+1)<>MONTH(M21),"",M21+1)) -> 46155 | O21: =IF(N21="","",IF(MONTH(N21+1)<>MONTH(N21),"",N21+1)) -> 46156 | P21: =IF(O21="","",IF(MONTH(O21+1)<>MONTH(O21),"",O21+1)) -> 46157 | Q21: =IF(P21="","",IF(MONTH(P21+1)<>MONTH(P21),"",P21+1)) -> 46158 | S21: =IF(Y20="","",IF(MONTH(Y20+1)<>MONTH(Y20),"",Y20+1)) -> 46187 | T21: =IF(S21="","",IF(MONTH(S21+1)<>MONTH(S21),"",S21+1)) -> 46188 | U21: =IF(T21="","",IF(MONTH(T21+1)<>MONTH(T21),"",T21+1)) -> 46189 | V21: =IF(U21="","",IF(MONTH(U21+1)<>MONTH(U21),"",U21+1)) -> 46190 | W21: =IF(V21="","",IF(MONTH(V21+1)<>MONTH(V21),"",V21+1)) -> 46191 | X21: =IF(W21="","",IF(MONTH(W21+1)<>MONTH(W21),"",W21+1)) -> 46192 | Y21: =IF(X21="","",IF(MONTH(X21+1)<>MONTH(X21),"",X21+1)) -> 46193
C22: =IF(I21="","",IF(MONTH(I21+1)<>MONTH(I21),"",I21+1)) -> 46131 | D22: =IF(C22="","",IF(MONTH(C22+1)<>MONTH(C22),"",C22+1)) -> 46132 | E22: =IF(D22="","",IF(MONTH(D22+1)<>MONTH(D22),"",D22+1)) -> 46133 | F22: =IF(E22="","",IF(MONTH(E22+1)<>MONTH(E22),"",E22+1)) -> 46134 | G22: =IF(F22="","",IF(MONTH(F22+1)<>MONTH(F22),"",F22+1)) -> 46135 | H22: =IF(G22="","",IF(MONTH(G22+1)<>MONTH(G22),"",G22+1)) -> 46136 | I22: =IF(H22="","",IF(MONTH(H22+1)<>MONTH(H22),"",H22+1)) -> 46137 | K22: =IF(Q21="","",IF(MONTH(Q21+1)<>MONTH(Q21),"",Q21+1)) -> 46159 | L22: =IF(K22="","",IF(MONTH(K22+1)<>MONTH(K22),"",K22+1)) -> 46160 | M22: =IF(L22="","",IF(MONTH(L22+1)<>MONTH(L22),"",L22+1)) -> 46161 | N22: =IF(M22="","",IF(MONTH(M22+1)<>MONTH(M22),"",M22+1)) -> 46162 | O22: =IF(N22="","",IF(MONTH(N22+1)<>MONTH(N22),"",N22+1)) -> 46163 | P22: =IF(O22="","",IF(MONTH(O22+1)<>MONTH(O22),"",O22+1)) -> 46164 | Q22: =IF(P22="","",IF(MONTH(P22+1)<>MONTH(P22),"",P22+1)) -> 46165 | S22: =IF(Y21="","",IF(MONTH(Y21+1)<>MONTH(Y21),"",Y21+1)) -> 46194 | T22: =IF(S22="","",IF(MONTH(S22+1)<>MONTH(S22),"",S22+1)) -> 46195 | U22: =IF(T22="","",IF(MONTH(T22+1)<>MONTH(T22),"",T22+1)) -> 46196 | V22: =IF(U22="","",IF(MONTH(U22+1)<>MONTH(U22),"",U22+1)) -> 46197 | W22: =IF(V22="","",IF(MONTH(V22+1)<>MONTH(V22),"",V22+1)) -> 46198 | X22: =IF(W22="","",IF(MONTH(W22+1)<>MONTH(W22),"",W22+1)) -> 46199 | Y22: =IF(X22="","",IF(MONTH(X22+1)<>MONTH(X22),"",X22+1)) -> 46200
C23: =IF(I22="","",IF(MONTH(I22+1)<>MONTH(I22),"",I22+1)) -> 46138 | D23: =IF(C23="","",IF(MONTH(C23+1)<>MONTH(C23),"",C23+1)) -> 46139 | E23: =IF(D23="","",IF(MONTH(D23+1)<>MONTH(D23),"",D23+1)) -> 46140 | F23: =IF(E23="","",IF(MONTH(E23+1)<>MONTH(E23),"",E23+1)) -> 46141 | G23: =IF(F23="","",IF(MONTH(F23+1)<>MONTH(F23),"",F23+1)) -> 46142 | H23: =IF(G23="","",IF(MONTH(G23+1)<>MONTH(G23),"",G23+1)) | I23: =IF(H23="","",IF(MONTH(H23+1)<>MONTH(H23),"",H23+1)) | K23: =IF(Q22="","",IF(MONTH(Q22+1)<>MONTH(Q22),"",Q22+1)) -> 46166 | L23: =IF(K23="","",IF(MONTH(K23+1)<>MONTH(K23),"",K23+1)) -> 46167 | M23: =IF(L23="","",IF(MONTH(L23+1)<>MONTH(L23),"",L23+1)) -> 46168 | N23: =IF(M23="","",IF(MONTH(M23+1)<>MONTH(M23),"",M23+1)) -> 46169 | O23: =IF(N23="","",IF(MONTH(N23+1)<>MONTH(N23),"",N23+1)) -> 46170 | P23: =IF(O23="","",IF(MONTH(O23+1)<>MONTH(O23),"",O23+1)) -> 46171 | Q23: =IF(P23="","",IF(MONTH(P23+1)<>MONTH(P23),"",P23+1)) -> 46172 | S23: =IF(Y22="","",IF(MONTH(Y22+1)<>MONTH(Y22),"",Y22+1)) -> 46201 | T23: =IF(S23="","",IF(MONTH(S23+1)<>MONTH(S23),"",S23+1)) -> 46202 | U23: =IF(T23="","",IF(MONTH(T23+1)<>MONTH(T23),"",T23+1)) -> 46203 | V23: =IF(U23="","",IF(MONTH(U23+1)<>MONTH(U23),"",U23+1)) | W23: =IF(V23="","",IF(MONTH(V23+1)<>MONTH(V23),"",V23+1)) | X23: =IF(W23="","",IF(MONTH(W23+1)<>MONTH(W23),"",W23+1)) | Y23: =IF(X23="","",IF(MONTH(X23+1)<>MONTH(X23),"",X23+1))
C24: =IF(I23="","",IF(MONTH(I23+1)<>MONTH(I23),"",I23+1)) | D24: =IF(C24="","",IF(MONTH(C24+1)<>MONTH(C24),"",C24+1)) | E24: =IF(D24="","",IF(MONTH(D24+1)<>MONTH(D24),"",D24+1)) | F24: =IF(E24="","",IF(MONTH(E24+1)<>MONTH(E24),"",E24+1)) | G24: =IF(F24="","",IF(MONTH(F24+1)<>MONTH(F24),"",F24+1)) | H24: =IF(G24="","",IF(MONTH(G24+1)<>MONTH(G24),"",G24+1)) | I24: =IF(H24="","",IF(MONTH(H24+1)<>MONTH(H24),"",H24+1)) | K24: =IF(Q23="","",IF(MONTH(Q23+1)<>MONTH(Q23),"",Q23+1)) -> 46173 | L24: =IF(K24="","",IF(MONTH(K24+1)<>MONTH(K24),"",K24+1)) | M24: =IF(L24="","",IF(MONTH(L24+1)<>MONTH(L24),"",L24+1)) | N24: =IF(M24="","",IF(MONTH(M24+1)<>MONTH(M24),"",M24+1)) | O24: =IF(N24="","",IF(MONTH(N24+1)<>MONTH(N24),"",N24+1)) | P24: =IF(O24="","",IF(MONTH(O24+1)<>MONTH(O24),"",O24+1)) | Q24: =IF(P24="","",IF(MONTH(P24+1)<>MONTH(P24),"",P24+1)) | S24: =IF(Y23="","",IF(MONTH(Y23+1)<>MONTH(Y23),"",Y23+1)) | T24: =IF(S24="","",IF(MONTH(S24+1)<>MONTH(S24),"",S24+1)) | U24: =IF(T24="","",IF(MONTH(T24+1)<>MONTH(T24),"",T24+1)) | V24: =IF(U24="","",IF(MONTH(U24+1)<>MONTH(U24),"",U24+1)) | W24: =IF(V24="","",IF(MONTH(V24+1)<>MONTH(V24),"",V24+1)) | X24: =IF(W24="","",IF(MONTH(W24+1)<>MONTH(W24),"",W24+1)) | Y24: =IF(X24="","",IF(MONTH(X24+1)<>MONTH(X24),"",X24+1))
C26: =DATE(YEAR(S17+42),MONTH(S17+42),1) -> 46204 | K26: =DATE(YEAR(C26+42),MONTH(C26+42),1) -> 46235 | S26: =DATE(YEAR(K26+42),MONTH(K26+42),1) -> 46266
C27: =CHOOSE(1+MOD($P$2+1-2,7),"ПН","ВТ","СР","ЧТ","ПТ","СБ","ВС") -> ПН | D27: =CHOOSE(1+MOD($P$2+2-2,7),"ПН","ВТ","СР","ЧТ","ПТ","СБ","ВС") -> ВТ | E27: =CHOOSE(1+MOD($P$2+3-2,7),"ПН","ВТ","СР","ЧТ","ПТ","СБ","ВС") -> СР | F27: =CHOOSE(1+MOD($P$2+4-2,7),"ПН","ВТ","СР","ЧТ","ПТ","СБ","ВС") -> ЧТ | G27: =CHOOSE(1+MOD($P$2+5-2,7),"ПН","ВТ","СР","ЧТ","ПТ","СБ","ВС") -> ПТ | H27: =CHOOSE(1+MOD($P$2+6-2,7),"ПН","ВТ","СР","ЧТ","ПТ","СБ","ВС") -> СБ | I27: =CHOOSE(1+MOD($P$2+7-2,7),"ПН","ВТ","СР","ЧТ","ПТ","СБ","ВС") -> ВС | K27: =CHOOSE(1+MOD($P$2+1-2,7),"ПН","ВТ","СР","ЧТ","ПТ","СБ","ВС") -> ПН | L27: =CHOOSE(1+MOD($P$2+2-2,7),"ПН","ВТ","СР","ЧТ","ПТ","СБ","ВС") -> ВТ | M27: =CHOOSE(1+MOD($P$2+3-2,7),"ПН","ВТ","СР","ЧТ","ПТ","СБ","ВС") -> СР | N27: =CHOOSE(1+MOD($P$2+4-2,7),"ПН","ВТ","СР","ЧТ","ПТ","СБ","ВС") -> ЧТ | O27: =CHOOSE(1+MOD($P$2+5-2,7),"ПН","ВТ","СР","ЧТ","ПТ","СБ","ВС") -> ПТ | P27: =CHOOSE(1+MOD($P$2+6-2,7),"ПН","ВТ","СР","ЧТ","ПТ","СБ","ВС") -> СБ | Q27: =CHOOSE(1+MOD($P$2+7-2,7),"ПН","ВТ","СР","ЧТ","ПТ","СБ","ВС") -> ВС | S27: =CHOOSE(1+MOD($P$2+1-2,7),"ПН","ВТ","СР","ЧТ","ПТ","СБ","ВС") -> ПН | T27: =CHOOSE(1+MOD($P$2+2-2,7),"ПН","ВТ","СР","ЧТ","ПТ","СБ","ВС") -> ВТ | U27: =CHOOSE(1+MOD($P$2+3-2,7),"ПН","ВТ","СР","ЧТ","ПТ","СБ","ВС") -> СР | V27: =CHOOSE(1+MOD($P$2+4-2,7),"ПН","ВТ","СР","ЧТ","ПТ","СБ","ВС") -> ЧТ | W27: =CHOOSE(1+MOD($P$2+5-2,7),"ПН","ВТ","СР","ЧТ","ПТ","СБ","ВС") -> ПТ | X27: =CHOOSE(1+MOD($P$2+6-2,7),"ПН","ВТ","СР","ЧТ","ПТ","СБ","ВС") -> СБ | Y27: =CHOOSE(1+MOD($P$2+7-2,7),"ПН","ВТ","СР","ЧТ","ПТ","СБ","ВС") -> ВС
C28: =IF(WEEKDAY(C26,1)=MOD($P$2-1,7)+1,C26,"") | D28: =IF(C28="",IF(WEEKDAY(C26,1)=MOD($P$2,7)+1,C26,""),C28+1) | E28: =IF(D28="",IF(WEEKDAY(C26,1)=MOD($P$2+1,7)+1,C26,""),D28+1) | F28: =IF(E28="",IF(WEEKDAY(C26,1)=MOD($P$2+2,7)+1,C26,""),E28+1) -> 46204 | G28: =IF(F28="",IF(WEEKDAY(C26,1)=MOD($P$2+3,7)+1,C26,""),F28+1) -> 46205 | H28: =IF(G28="",IF(WEEKDAY(C26,1)=MOD($P$2+4,7)+1,C26,""),G28+1) -> 46206 | I28: =IF(H28="",IF(WEEKDAY(C26,1)=MOD($P$2+5,7)+1,C26,""),H28+1) -> 46207 | K28: =IF(WEEKDAY(K26,1)=MOD($P$2-1,7)+1,K26,"") | L28: =IF(K28="",IF(WEEKDAY(K26,1)=MOD($P$2,7)+1,K26,""),K28+1) | M28: =IF(L28="",IF(WEEKDAY(K26,1)=MOD($P$2+1,7)+1,K26,""),L28+1) | N28: =IF(M28="",IF(WEEKDAY(K26,1)=MOD($P$2+2,7)+1,K26,""),M28+1) | O28: =IF(N28="",IF(WEEKDAY(K26,1)=MOD($P$2+3,7)+1,K26,""),N28+1) | P28: =IF(O28="",IF(WEEKDAY(K26,1)=MOD($P$2+4,7)+1,K26,""),O28+1) | Q28: =IF(P28="",IF(WEEKDAY(K26,1)=MOD($P$2+5,7)+1,K26,""),P28+1) -> 46235 | S28: =IF(WEEKDAY(S26,1)=MOD($P$2-1,7)+1,S26,"") | T28: =IF(S28="",IF(WEEKDAY(S26,1)=MOD($P$2,7)+1,S26,""),S28+1) | U28: =IF(T28="",IF(WEEKDAY(S26,1)=MOD($P$2+1,7)+1,S26,""),T28+1) -> 46266 | V28: =IF(U28="",IF(WEEKDAY(S26,1)=MOD($P$2+2,7)+1,S26,""),U28+1) -> 46267 | W28: =IF(V28="",IF(WEEKDAY(S26,1)=MOD($P$2+3,7)+1,S26,""),V28+1) -> 46268 | X28: =IF(W28="",IF(WEEKDAY(S26,1)=MOD($P$2+4,7)+1,S26,""),W28+1) -> 46269 | Y28: =IF(X28="",IF(WEEKDAY(S26,1)=MOD($P$2+5,7)+1,S26,""),X28+1) -> 46270
C29: =IF(I28="","",IF(MONTH(I28+1)<>MONTH(I28),"",I28+1)) -> 46208 | D29: =IF(C29="","",IF(MONTH(C29+1)<>MONTH(C29),"",C29+1)) -> 46209 | E29: =IF(D29="","",IF(MONTH(D29+1)<>MONTH(D29),"",D29+1)) -> 46210 | F29: =IF(E29="","",IF(MONTH(E29+1)<>MONTH(E29),"",E29+1)) -> 46211 | G29: =IF(F29="","",IF(MONTH(F29+1)<>MONTH(F29),"",F29+1)) -> 46212 | H29: =IF(G29="","",IF(MONTH(G29+1)<>MONTH(G29),"",G29+1)) -> 46213 | I29: =IF(H29="","",IF(MONTH(H29+1)<>MONTH(H29),"",H29+1)) -> 46214 | K29: =IF(Q28="","",IF(MONTH(Q28+1)<>MONTH(Q28),"",Q28+1)) -> 46236 | L29: =IF(K29="","",IF(MONTH(K29+1)<>MONTH(K29),"",K29+1)) -> 46237 | M29: =IF(L29="","",IF(MONTH(L29+1)<>MONTH(L29),"",L29+1)) -> 46238 | N29: =IF(M29="","",IF(MONTH(M29+1)<>MONTH(M29),"",M29+1)) -> 46239 | O29: =IF(N29="","",IF(MONTH(N29+1)<>MONTH(N29),"",N29+1)) -> 46240 | P29: =IF(O29="","",IF(MONTH(O29+1)<>MONTH(O29),"",O29+1)) -> 46241 | Q29: =IF(P29="","",IF(MONTH(P29+1)<>MONTH(P29),"",P29+1)) -> 46242 | S29: =IF(Y28="","",IF(MONTH(Y28+1)<>MONTH(Y28),"",Y28+1)) -> 46271 | T29: =IF(S29="","",IF(MONTH(S29+1)<>MONTH(S29),"",S29+1)) -> 46272 | U29: =IF(T29="","",IF(MONTH(T29+1)<>MONTH(T29),"",T29+1)) -> 46273 | V29: =IF(U29="","",IF(MONTH(U29+1)<>MONTH(U29),"",U29+1)) -> 46274 | W29: =IF(V29="","",IF(MONTH(V29+1)<>MONTH(V29),"",V29+1)) -> 46275 | X29: =IF(W29="","",IF(MONTH(W29+1)<>MONTH(W29),"",W29+1)) -> 46276 | Y29: =IF(X29="","",IF(MONTH(X29+1)<>MONTH(X29),"",X29+1)) -> 46277
C30: =IF(I29="","",IF(MONTH(I29+1)<>MONTH(I29),"",I29+1)) -> 46215 | D30: =IF(C30="","",IF(MONTH(C30+1)<>MONTH(C30),"",C30+1)) -> 46216 | E30: =IF(D30="","",IF(MONTH(D30+1)<>MONTH(D30),"",D30+1)) -> 46217 | F30: =IF(E30="","",IF(MONTH(E30+1)<>MONTH(E30),"",E30+1)) -> 46218 | G30: =IF(F30="","",IF(MONTH(F30+1)<>MONTH(F30),"",F30+1)) -> 46219 | H30: =IF(G30="","",IF(MONTH(G30+1)<>MONTH(G30),"",G30+1)) -> 46220 | I30: =IF(H30="","",IF(MONTH(H30+1)<>MONTH(H30),"",H30+1)) -> 46221 | K30: =IF(Q29="","",IF(MONTH(Q29+1)<>MONTH(Q29),"",Q29+1)) -> 46243 | L30: =IF(K30="","",IF(MONTH(K30+1)<>MONTH(K30),"",K30+1)) -> 46244 | M30: =IF(L30="","",IF(MONTH(L30+1)<>MONTH(L30),"",L30+1)) -> 46245 | N30: =IF(M30="","",IF(MONTH(M30+1)<>MONTH(M30),"",M30+1)) -> 46246 | O30: =IF(N30="","",IF(MONTH(N30+1)<>MONTH(N30),"",N30+1)) -> 46247 | P30: =IF(O30="","",IF(MONTH(O30+1)<>MONTH(O30),"",O30+1)) -> 46248 | Q30: =IF(P30="","",IF(MONTH(P30+1)<>MONTH(P30),"",P30+1)) -> 46249 | S30: =IF(Y29="","",IF(MONTH(Y29+1)<>MONTH(Y29),"",Y29+1)) -> 46278 | T30: =IF(S30="","",IF(MONTH(S30+1)<>MONTH(S30),"",S30+1)) -> 46279 | U30: =IF(T30="","",IF(MONTH(T30+1)<>MONTH(T30),"",T30+1)) -> 46280 | V30: =IF(U30="","",IF(MONTH(U30+1)<>MONTH(U30),"",U30+1)) -> 46281 | W30: =IF(V30="","",IF(MONTH(V30+1)<>MONTH(V30),"",V30+1)) -> 46282 | X30: =IF(W30="","",IF(MONTH(W30+1)<>MONTH(W30),"",W30+1)) -> 46283 | Y30: =IF(X30="","",IF(MONTH(X30+1)<>MONTH(X30),"",X30+1)) -> 46284
C31: =IF(I30="","",IF(MONTH(I30+1)<>MONTH(I30),"",I30+1)) -> 46222 | D31: =IF(C31="","",IF(MONTH(C31+1)<>MONTH(C31),"",C31+1)) -> 46223 | E31: =IF(D31="","",IF(MONTH(D31+1)<>MONTH(D31),"",D31+1)) -> 46224 | F31: =IF(E31="","",IF(MONTH(E31+1)<>MONTH(E31),"",E31+1)) -> 46225 | G31: =IF(F31="","",IF(MONTH(F31+1)<>MONTH(F31),"",F31+1)) -> 46226 | H31: =IF(G31="","",IF(MONTH(G31+1)<>MONTH(G31),"",G31+1)) -> 46227 | I31: =IF(H31="","",IF(MONTH(H31+1)<>MONTH(H31),"",H31+1)) -> 46228 | K31: =IF(Q30="","",IF(MONTH(Q30+1)<>MONTH(Q30),"",Q30+1)) -> 46250 | L31: =IF(K31="","",IF(MONTH(K31+1)<>MONTH(K31),"",K31+1)) -> 46251 | M31: =IF(L31="","",IF(MONTH(L31+1)<>MONTH(L31),"",L31+1)) -> 46252 | N31: =IF(M31="","",IF(MONTH(M31+1)<>MONTH(M31),"",M31+1)) -> 46253 | O31: =IF(N31="","",IF(MONTH(N31+1)<>MONTH(N31),"",N31+1)) -> 46254 | P31: =IF(O31="","",IF(MONTH(O31+1)<>MONTH(O31),"",O31+1)) -> 46255 | Q31: =IF(P31="","",IF(MONTH(P31+1)<>MONTH(P31),"",P31+1)) -> 46256 | S31: =IF(Y30="","",IF(MONTH(Y30+1)<>MONTH(Y30),"",Y30+1)) -> 46285 | T31: =IF(S31="","",IF(MONTH(S31+1)<>MONTH(S31),"",S31+1)) -> 46286 | U31: =IF(T31="","",IF(MONTH(T31+1)<>MONTH(T31),"",T31+1)) -> 46287 | V31: =IF(U31="","",IF(MONTH(U31+1)<>MONTH(U31),"",U31+1)) -> 46288 | W31: =IF(V31="","",IF(MONTH(V31+1)<>MONTH(V31),"",V31+1)) -> 46289 | X31: =IF(W31="","",IF(MONTH(W31+1)<>MONTH(W31),"",W31+1)) -> 46290 | Y31: =IF(X31="","",IF(MONTH(X31+1)<>MONTH(X31),"",X31+1)) -> 46291
C32: =IF(I31="","",IF(MONTH(I31+1)<>MONTH(I31),"",I31+1)) -> 46229 | D32: =IF(C32="","",IF(MONTH(C32+1)<>MONTH(C32),"",C32+1)) -> 46230 | E32: =IF(D32="","",IF(MONTH(D32+1)<>MONTH(D32),"",D32+1)) -> 46231 | F32: =IF(E32="","",IF(MONTH(E32+1)<>MONTH(E32),"",E32+1)) -> 46232 | G32: =IF(F32="","",IF(MONTH(F32+1)<>MONTH(F32),"",F32+1)) -> 46233 | H32: =IF(G32="","",IF(MONTH(G32+1)<>MONTH(G32),"",G32+1)) -> 46234 | I32: =IF(H32="","",IF(MONTH(H32+1)<>MONTH(H32),"",H32+1)) | K32: =IF(Q31="","",IF(MONTH(Q31+1)<>MONTH(Q31),"",Q31+1)) -> 46257 | L32: =IF(K32="","",IF(MONTH(K32+1)<>MONTH(K32),"",K32+1)) -> 46258 | M32: =IF(L32="","",IF(MONTH(L32+1)<>MONTH(L32),"",L32+1)) -> 46259 | N32: =IF(M32="","",IF(MONTH(M32+1)<>MONTH(M32),"",M32+1)) -> 46260 | O32: =IF(N32="","",IF(MONTH(N32+1)<>MONTH(N32),"",N32+1)) -> 46261 | P32: =IF(O32="","",IF(MONTH(O32+1)<>MONTH(O32),"",O32+1)) -> 46262 | Q32: =IF(P32="","",IF(MONTH(P32+1)<>MONTH(P32),"",P32+1)) -> 46263 | S32: =IF(Y31="","",IF(MONTH(Y31+1)<>MONTH(Y31),"",Y31+1)) -> 46292 | T32: =IF(S32="","",IF(MONTH(S32+1)<>MONTH(S32),"",S32+1)) -> 46293 | U32: =IF(T32="","",IF(MONTH(T32+1)<>MONTH(T32),"",T32+1)) -> 46294 | V32: =IF(U32="","",IF(MONTH(U32+1)<>MONTH(U32),"",U32+1)) -> 46295 | W32: =IF(V32="","",IF(MONTH(V32+1)<>MONTH(V32),"",V32+1)) | X32: =IF(W32="","",IF(MONTH(W32+1)<>MONTH(W32),"",W32+1)) | Y32: =IF(X32="","",IF(MONTH(X32+1)<>MONTH(X32),"",X32+1))
C33: =IF(I32="","",IF(MONTH(I32+1)<>MONTH(I32),"",I32+1)) | D33: =IF(C33="","",IF(MONTH(C33+1)<>MONTH(C33),"",C33+1)) | E33: =IF(D33="","",IF(MONTH(D33+1)<>MONTH(D33),"",D33+1)) | F33: =IF(E33="","",IF(MONTH(E33+1)<>MONTH(E33),"",E33+1)) | G33: =IF(F33="","",IF(MONTH(F33+1)<>MONTH(F33),"",F33+1)) | H33: =IF(G33="","",IF(MONTH(G33+1)<>MONTH(G33),"",G33+1)) | I33: =IF(H33="","",IF(MONTH(H33+1)<>MONTH(H33),"",H33+1)) | K33: =IF(Q32="","",IF(MONTH(Q32+1)<>MONTH(Q32),"",Q32+1)) -> 46264 | L33: =IF(K33="","",IF(MONTH(K33+1)<>MONTH(K33),"",K33+1)) -> 46265 | M33: =IF(L33="","",IF(MONTH(L33+1)<>MONTH(L33),"",L33+1)) | N33: =IF(M33="","",IF(MONTH(M33+1)<>MONTH(M33),"",M33+1)) | O33: =IF(N33="","",IF(MONTH(N33+1)<>MONTH(N33),"",N33+1)) | P33: =IF(O33="","",IF(MONTH(O33+1)<>MONTH(O33),"",O33+1)) | Q33: =IF(P33="","",IF(MONTH(P33+1)<>MONTH(P33),"",P33+1)) | S33: =IF(Y32="","",IF(MONTH(Y32+1)<>MONTH(Y32),"",Y32+1)) | T33: =IF(S33="","",IF(MONTH(S33+1)<>MONTH(S33),"",S33+1)) | U33: =IF(T33="","",IF(MONTH(T33+1)<>MONTH(T33),"",T33+1)) | V33: =IF(U33="","",IF(MONTH(U33+1)<>MONTH(U33),"",U33+1)) | W33: =IF(V33="","",IF(MONTH(V33+1)<>MONTH(V33),"",V33+1)) | X33: =IF(W33="","",IF(MONTH(W33+1)<>MONTH(W33),"",W33+1)) | Y33: =IF(X33="","",IF(MONTH(X33+1)<>MONTH(X33),"",X33+1))
C35: =DATE(YEAR(S26+42),MONTH(S26+42),1) -> 46296 | K35: =DATE(YEAR(C35+42),MONTH(C35+42),1) -> 46327 | S35: =DATE(YEAR(K35+42),MONTH(K35+42),1) -> 46357
C36: =CHOOSE(1+MOD($P$2+1-2,7),"ПН","ВТ","СР","ЧТ","ПТ","СБ","ВС") -> ПН | D36: =CHOOSE(1+MOD($P$2+2-2,7),"ПН","ВТ","СР","ЧТ","ПТ","СБ","ВС") -> ВТ | E36: =CHOOSE(1+MOD($P$2+3-2,7),"ПН","ВТ","СР","ЧТ","ПТ","СБ","ВС") -> СР | F36: =CHOOSE(1+MOD($P$2+4-2,7),"ПН","ВТ","СР","ЧТ","ПТ","СБ","ВС") -> ЧТ | G36: =CHOOSE(1+MOD($P$2+5-2,7),"ПН","ВТ","СР","ЧТ","ПТ","СБ","ВС") -> ПТ | H36: =CHOOSE(1+MOD($P$2+6-2,7),"ПН","ВТ","СР","ЧТ","ПТ","СБ","ВС") -> СБ | I36: =CHOOSE(1+MOD($P$2+7-2,7),"ПН","ВТ","СР","ЧТ","ПТ","СБ","ВС") -> ВС | K36: =CHOOSE(1+MOD($P$2+1-2,7),"ПН","ВТ","СР","ЧТ","ПТ","СБ","ВС") -> ПН | L36: =CHOOSE(1+MOD($P$2+2-2,7),"ПН","ВТ","СР","ЧТ","ПТ","СБ","ВС") -> ВТ | M36: =CHOOSE(1+MOD($P$2+3-2,7),"ПН","ВТ","СР","ЧТ","ПТ","СБ","ВС") -> СР | N36: =CHOOSE(1+MOD($P$2+4-2,7),"ПН","ВТ","СР","ЧТ","ПТ","СБ","ВС") -> ЧТ | O36: =CHOOSE(1+MOD($P$2+5-2,7),"ПН","ВТ","СР","ЧТ","ПТ","СБ","ВС") -> ПТ | P36: =CHOOSE(1+MOD($P$2+6-2,7),"ПН","ВТ","СР","ЧТ","ПТ","СБ","ВС") -> СБ | Q36: =CHOOSE(1+MOD($P$2+7-2,7),"ПН","ВТ","СР","ЧТ","ПТ","СБ","ВС") -> ВС | S36: =CHOOSE(1+MOD($P$2+1-2,7),"ПН","ВТ","СР","ЧТ","ПТ","СБ","ВС") -> ПН | T36: =CHOOSE(1+MOD($P$2+2-2,7),"ПН","ВТ","СР","ЧТ","ПТ","СБ","ВС") -> ВТ | U36: =CHOOSE(1+MOD($P$2+3-2,7),"ПН","ВТ","СР","ЧТ","ПТ","СБ","ВС") -> СР | V36: =CHOOSE(1+MOD($P$2+4-2,7),"ПН","ВТ","СР","ЧТ","ПТ","СБ","ВС") -> ЧТ | W36: =CHOOSE(1+MOD($P$2+5-2,7),"ПН","ВТ","СР","ЧТ","ПТ","СБ","ВС") -> ПТ | X36: =CHOOSE(1+MOD($P$2+6-2,7),"ПН","ВТ","СР","ЧТ","ПТ","СБ","ВС") -> СБ | Y36: =CHOOSE(1+MOD($P$2+7-2,7),"ПН","ВТ","СР","ЧТ","ПТ","СБ","ВС") -> ВС
C37: =IF(WEEKDAY(C35,1)=MOD($P$2-1,7)+1,C35,"") | D37: =IF(C37="",IF(WEEKDAY(C35,1)=MOD($P$2,7)+1,C35,""),C37+1) | E37: =IF(D37="",IF(WEEKDAY(C35,1)=MOD($P$2+1,7)+1,C35,""),D37+1) | F37: =IF(E37="",IF(WEEKDAY(C35,1)=MOD($P$2+2,7)+1,C35,""),E37+1) | G37: =IF(F37="",IF(WEEKDAY(C35,1)=MOD($P$2+3,7)+1,C35,""),F37+1) -> 46296 | H37: =IF(G37="",IF(WEEKDAY(C35,1)=MOD($P$2+4,7)+1,C35,""),G37+1) -> 46297 | I37: =IF(H37="",IF(WEEKDAY(C35,1)=MOD($P$2+5,7)+1,C35,""),H37+1) -> 46298 | K37: =IF(WEEKDAY(K35,1)=MOD($P$2-1,7)+1,K35,"") -> 46327 | L37: =IF(K37="",IF(WEEKDAY(K35,1)=MOD($P$2,7)+1,K35,""),K37+1) -> 46328 | M37: =IF(L37="",IF(WEEKDAY(K35,1)=MOD($P$2+1,7)+1,K35,""),L37+1) -> 46329 | N37: =IF(M37="",IF(WEEKDAY(K35,1)=MOD($P$2+2,7)+1,K35,""),M37+1) -> 46330 | O37: =IF(N37="",IF(WEEKDAY(K35,1)=MOD($P$2+3,7)+1,K35,""),N37+1) -> 46331 | P37: =IF(O37="",IF(WEEKDAY(K35,1)=MOD($P$2+4,7)+1,K35,""),O37+1) -> 46332 | Q37: =IF(P37="",IF(WEEKDAY(K35,1)=MOD($P$2+5,7)+1,K35,""),P37+1) -> 46333 | S37: =IF(WEEKDAY(S35,1)=MOD($P$2-1,7)+1,S35,"") | T37: =IF(S37="",IF(WEEKDAY(S35,1)=MOD($P$2,7)+1,S35,""),S37+1) | U37: =IF(T37="",IF(WEEKDAY(S35,1)=MOD($P$2+1,7)+1,S35,""),T37+1) -> 46357 | V37: =IF(U37="",IF(WEEKDAY(S35,1)=MOD($P$2+2,7)+1,S35,""),U37+1) -> 46358 | W37: =IF(V37="",IF(WEEKDAY(S35,1)=MOD($P$2+3,7)+1,S35,""),V37+1) -> 46359 | X37: =IF(W37="",IF(WEEKDAY(S35,1)=MOD($P$2+4,7)+1,S35,""),W37+1) -> 46360 | Y37: =IF(X37="",IF(WEEKDAY(S35,1)=MOD($P$2+5,7)+1,S35,""),X37+1) -> 46361
C38: =IF(I37="","",IF(MONTH(I37+1)<>MONTH(I37),"",I37+1)) -> 46299 | D38: =IF(C38="","",IF(MONTH(C38+1)<>MONTH(C38),"",C38+1)) -> 46300 | E38: =IF(D38="","",IF(MONTH(D38+1)<>MONTH(D38),"",D38+1)) -> 46301 | F38: =IF(E38="","",IF(MONTH(E38+1)<>MONTH(E38),"",E38+1)) -> 46302 | G38: =IF(F38="","",IF(MONTH(F38+1)<>MONTH(F38),"",F38+1)) -> 46303 | H38: =IF(G38="","",IF(MONTH(G38+1)<>MONTH(G38),"",G38+1)) -> 46304 | I38: =IF(H38="","",IF(MONTH(H38+1)<>MONTH(H38),"",H38+1)) -> 46305 | K38: =IF(Q37="","",IF(MONTH(Q37+1)<>MONTH(Q37),"",Q37+1)) -> 46334 | L38: =IF(K38="","",IF(MONTH(K38+1)<>MONTH(K38),"",K38+1)) -> 46335 | M38: =IF(L38="","",IF(MONTH(L38+1)<>MONTH(L38),"",L38+1)) -> 46336 | N38: =IF(M38="","",IF(MONTH(M38+1)<>MONTH(M38),"",M38+1)) -> 46337 | O38: =IF(N38="","",IF(MONTH(N38+1)<>MONTH(N38),"",N38+1)) -> 46338 | P38: =IF(O38="","",IF(MONTH(O38+1)<>MONTH(O38),"",O38+1)) -> 46339 | Q38: =IF(P38="","",IF(MONTH(P38+1)<>MONTH(P38),"",P38+1)) -> 46340 | S38: =IF(Y37="","",IF(MONTH(Y37+1)<>MONTH(Y37),"",Y37+1)) -> 46362 | T38: =IF(S38="","",IF(MONTH(S38+1)<>MONTH(S38),"",S38+1)) -> 46363 | U38: =IF(T38="","",IF(MONTH(T38+1)<>MONTH(T38),"",T38+1)) -> 46364 | V38: =IF(U38="","",IF(MONTH(U38+1)<>MONTH(U38),"",U38+1)) -> 46365 | W38: =IF(V38="","",IF(MONTH(V38+1)<>MONTH(V38),"",V38+1)) -> 46366 | X38: =IF(W38="","",IF(MONTH(W38+1)<>MONTH(W38),"",W38+1)) -> 46367 | Y38: =IF(X38="","",IF(MONTH(X38+1)<>MONTH(X38),"",X38+1)) -> 46368
C39: =IF(I38="","",IF(MONTH(I38+1)<>MONTH(I38),"",I38+1)) -> 46306 | D39: =IF(C39="","",IF(MONTH(C39+1)<>MONTH(C39),"",C39+1)) -> 46307 | E39: =IF(D39="","",IF(MONTH(D39+1)<>MONTH(D39),"",D39+1)) -> 46308 | F39: =IF(E39="","",IF(MONTH(E39+1)<>MONTH(E39),"",E39+1)) -> 46309 | G39: =IF(F39="","",IF(MONTH(F39+1)<>MONTH(F39),"",F39+1)) -> 46310 | H39: =IF(G39="","",IF(MONTH(G39+1)<>MONTH(G39),"",G39+1)) -> 46311 | I39: =IF(H39="","",IF(MONTH(H39+1)<>MONTH(H39),"",H39+1)) -> 46312 | K39: =IF(Q38="","",IF(MONTH(Q38+1)<>MONTH(Q38),"",Q38+1)) -> 46341 | L39: =IF(K39="","",IF(MONTH(K39+1)<>MONTH(K39),"",K39+1)) -> 46342 | M39: =IF(L39="","",IF(MONTH(L39+1)<>MONTH(L39),"",L39+1)) -> 46343 | N39: =IF(M39="","",IF(MONTH(M39+1)<>MONTH(M39),"",M39+1)) -> 46344 | O39: =IF(N39="","",IF(MONTH(N39+1)<>MONTH(N39),"",N39+1)) -> 46345 | P39: =IF(O39="","",IF(MONTH(O39+1)<>MONTH(O39),"",O39+1)) -> 46346 | Q39: =IF(P39="","",IF(MONTH(P39+1)<>MONTH(P39),"",P39+1)) -> 46347 | S39: =IF(Y38="","",IF(MONTH(Y38+1)<>MONTH(Y38),"",Y38+1)) -> 46369 | T39: =IF(S39="","",IF(MONTH(S39+1)<>MONTH(S39),"",S39+1)) -> 46370 | U39: =IF(T39="","",IF(MONTH(T39+1)<>MONTH(T39),"",T39+1)) -> 46371 | V39: =IF(U39="","",IF(MONTH(U39+1)<>MONTH(U39),"",U39+1)) -> 46372 | W39: =IF(V39="","",IF(MONTH(V39+1)<>MONTH(V39),"",V39+1)) -> 46373 | X39: =IF(W39="","",IF(MONTH(W39+1)<>MONTH(W39),"",W39+1)) -> 46374 | Y39: =IF(X39="","",IF(MONTH(X39+1)<>MONTH(X39),"",X39+1)) -> 46375
C40: =IF(I39="","",IF(MONTH(I39+1)<>MONTH(I39),"",I39+1)) -> 46313 | D40: =IF(C40="","",IF(MONTH(C40+1)<>MONTH(C40),"",C40+1)) -> 46314 | E40: =IF(D40="","",IF(MONTH(D40+1)<>MONTH(D40),"",D40+1)) -> 46315 | F40: =IF(E40="","",IF(MONTH(E40+1)<>MONTH(E40),"",E40+1)) -> 46316 | G40: =IF(F40="","",IF(MONTH(F40+1)<>MONTH(F40),"",F40+1)) -> 46317 | H40: =IF(G40="","",IF(MONTH(G40+1)<>MONTH(G40),"",G40+1)) -> 46318 | I40: =IF(H40="","",IF(MONTH(H40+1)<>MONTH(H40),"",H40+1)) -> 46319 | K40: =IF(Q39="","",IF(MONTH(Q39+1)<>MONTH(Q39),"",Q39+1)) -> 46348 | L40: =IF(K40="","",IF(MONTH(K40+1)<>MONTH(K40),"",K40+1)) -> 46349 | M40: =IF(L40="","",IF(MONTH(L40+1)<>MONTH(L40),"",L40+1)) -> 46350 | N40: =IF(M40="","",IF(MONTH(M40+1)<>MONTH(M40),"",M40+1)) -> 46351 | O40: =IF(N40="","",IF(MONTH(N40+1)<>MONTH(N40),"",N40+1)) -> 46352 | P40: =IF(O40="","",IF(MONTH(O40+1)<>MONTH(O40),"",O40+1)) -> 46353 | Q40: =IF(P40="","",IF(MONTH(P40+1)<>MONTH(P40),"",P40+1)) -> 46354 | S40: =IF(Y39="","",IF(MONTH(Y39+1)<>MONTH(Y39),"",Y39+1)) -> 46376 | T40: =IF(S40="","",IF(MONTH(S40+1)<>MONTH(S40),"",S40+1)) -> 46377 | U40: =IF(T40="","",IF(MONTH(T40+1)<>MONTH(T40),"",T40+1)) -> 46378 | V40: =IF(U40="","",IF(MONTH(U40+1)<>MONTH(U40),"",U40+1)) -> 46379 | W40: =IF(V40="","",IF(MONTH(V40+1)<>MONTH(V40),"",V40+1)) -> 46380 | X40: =IF(W40="","",IF(MONTH(W40+1)<>MONTH(W40),"",W40+1)) -> 46381 | Y40: =IF(X40="","",IF(MONTH(X40+1)<>MONTH(X40),"",X40+1)) -> 46382
C41: =IF(I40="","",IF(MONTH(I40+1)<>MONTH(I40),"",I40+1)) -> 46320 | D41: =IF(C41="","",IF(MONTH(C41+1)<>MONTH(C41),"",C41+1)) -> 46321 | E41: =IF(D41="","",IF(MONTH(D41+1)<>MONTH(D41),"",D41+1)) -> 46322 | F41: =IF(E41="","",IF(MONTH(E41+1)<>MONTH(E41),"",E41+1)) -> 46323 | G41: =IF(F41="","",IF(MONTH(F41+1)<>MONTH(F41),"",F41+1)) -> 46324 | H41: =IF(G41="","",IF(MONTH(G41+1)<>MONTH(G41),"",G41+1)) -> 46325 | I41: =IF(H41="","",IF(MONTH(H41+1)<>MONTH(H41),"",H41+1)) -> 46326 | K41: =IF(Q40="","",IF(MONTH(Q40+1)<>MONTH(Q40),"",Q40+1)) -> 46355 | L41: =IF(K41="","",IF(MONTH(K41+1)<>MONTH(K41),"",K41+1)) -> 46356 | M41: =IF(L41="","",IF(MONTH(L41+1)<>MONTH(L41),"",L41+1)) | N41: =IF(M41="","",IF(MONTH(M41+1)<>MONTH(M41),"",M41+1)) | O41: =IF(N41="","",IF(MONTH(N41+1)<>MONTH(N41),"",N41+1)) | P41: =IF(O41="","",IF(MONTH(O41+1)<>MONTH(O41),"",O41+1)) | Q41: =IF(P41="","",IF(MONTH(P41+1)<>MONTH(P41),"",P41+1)) | S41: =IF(Y40="","",IF(MONTH(Y40+1)<>MONTH(Y40),"",Y40+1)) -> 46383 | T41: =IF(S41="","",IF(MONTH(S41+1)<>MONTH(S41),"",S41+1)) -> 46384 | U41: =IF(T41="","",IF(MONTH(T41+1)<>MONTH(T41),"",T41+1)) -> 46385 | V41: =IF(U41="","",IF(MONTH(U41+1)<>MONTH(U41),"",U41+1)) -> 46386 | W41: =IF(V41="","",IF(MONTH(V41+1)<>MONTH(V41),"",V41+1)) -> 46387 | X41: =IF(W41="","",IF(MONTH(W41+1)<>MONTH(W41),"",W41+1)) | Y41: =IF(X41="","",IF(MONTH(X41+1)<>MONTH(X41),"",X41+1))
C42: =IF(I41="","",IF(MONTH(I41+1)<>MONTH(I41),"",I41+1)) | D42: =IF(C42="","",IF(MONTH(C42+1)<>MONTH(C42),"",C42+1)) | E42: =IF(D42="","",IF(MONTH(D42+1)<>MONTH(D42),"",D42+1)) | F42: =IF(E42="","",IF(MONTH(E42+1)<>MONTH(E42),"",E42+1)) | G42: =IF(F42="","",IF(MONTH(F42+1)<>MONTH(F42),"",F42+1)) | H42: =IF(G42="","",IF(MONTH(G42+1)<>MONTH(G42),"",G42+1)) | I42: =IF(H42="","",IF(MONTH(H42+1)<>MONTH(H42),"",H42+1)) | K42: =IF(Q41="","",IF(MONTH(Q41+1)<>MONTH(Q41),"",Q41+1)) | L42: =IF(K42="","",IF(MONTH(K42+1)<>MONTH(K42),"",K42+1)) | M42: =IF(L42="","",IF(MONTH(L42+1)<>MONTH(L42),"",L42+1)) | N42: =IF(M42="","",IF(MONTH(M42+1)<>MONTH(M42),"",M42+1)) | O42: =IF(N42="","",IF(MONTH(N42+1)<>MONTH(N42),"",N42+1)) | P42: =IF(O42="","",IF(MONTH(O42+1)<>MONTH(O42),"",O42+1)) | Q42: =IF(P42="","",IF(MONTH(P42+1)<>MONTH(P42),"",P42+1)) | S42: =IF(Y41="","",IF(MONTH(Y41+1)<>MONTH(Y41),"",Y41+1)) | T42: =IF(S42="","",IF(MONTH(S42+1)<>MONTH(S42),"",S42+1)) | U42: =IF(T42="","",IF(MONTH(T42+1)<>MONTH(T42),"",T42+1)) | V42: =IF(U42="","",IF(MONTH(U42+1)<>MONTH(U42),"",U42+1)) | W42: =IF(V42="","",IF(MONTH(V42+1)<>MONTH(V42),"",V42+1)) | X42: =IF(W42="","",IF(MONTH(W42+1)<>MONTH(W42),"",W42+1)) | Y42: =IF(X42="","",IF(MONTH(X42+1)<>MONTH(X42),"",X42+1))

Sheet Лист4
D2: Год | E2: =IF(MONTH(TODAY())=12,YEAR(TODAY())+1,YEAR(TODAY())) -> 2026 | J2: Месяц | K2: 1 | Q2: День начала | R2: 2 | U2: 1:Вск 2:Пнд...
C5: =E2 -> 2026
C7: =DATE(E2,K2,1) -> 46023 | K7: =DATE(YEAR(C7+42),MONTH(C7+42),1) -> 46054 | S7: =DATE(YEAR(K7+42),MONTH(K7+42),1) -> 46082 | AA7: =DATE(YEAR(S7+42),MONTH(S7+42),1) -> 46113
C8: =CHOOSE(1+MOD($R$2+1-2,7),"ПН","ВТ","СР","ЧТ","ПТ","СБ","ВС") -> ВТ | D8: =CHOOSE(1+MOD($R$2+2-2,7),"ПН","ВТ","СР","ЧТ","ПТ","СБ","ВС") -> СР | E8: =CHOOSE(1+MOD($R$2+3-2,7),"ПН","ВТ","СР","ЧТ","ПТ","СБ","ВС") -> ЧТ | F8: =CHOOSE(1+MOD($R$2+4-2,7),"ПН","ВТ","СР","ЧТ","ПТ","СБ","ВС") -> ПТ | G8: =CHOOSE(1+MOD($R$2+5-2,7),"ПН","ВТ","СР","ЧТ","ПТ","СБ","ВС") -> СБ | H8: =CHOOSE(1+MOD($R$2+6-2,7),"ПН","ВТ","СР","ЧТ","ПТ","СБ","ВС") -> ВС | I8: =CHOOSE(1+MOD($R$2+7-2,7),"ПН","ВТ","СР","ЧТ","ПТ","СБ","ВС") -> ПН | K8: =CHOOSE(1+MOD($R$2+1-2,7),"ПН","ВТ","СР","ЧТ","ПТ","СБ","ВС") -> ВТ | L8: =CHOOSE(1+MOD($R$2+2-2,7),"ПН","ВТ","СР","ЧТ","ПТ","СБ","ВС") -> СР | M8: =CHOOSE(1+MOD($R$2+3-2,7),"ПН","ВТ","СР","ЧТ","ПТ","СБ","ВС") -> ЧТ | N8: =CHOOSE(1+MOD($R$2+4-2,7),"ПН","ВТ","СР","ЧТ","ПТ","СБ","ВС") -> ПТ | O8: =CHOOSE(1+MOD($R$2+5-2,7),"ПН","ВТ","СР","ЧТ","ПТ","СБ","ВС") -> СБ | P8: =CHOOSE(1+MOD($R$2+6-2,7),"ПН","ВТ","СР","ЧТ","ПТ","СБ","ВС") -> ВС | Q8: =CHOOSE(1+MOD($R$2+7-2,7),"ПН","ВТ","СР","ЧТ","ПТ","СБ","ВС") -> ПН | S8: =CHOOSE(1+MOD($R$2+1-2,7),"ПН","ВТ","СР","ЧТ","ПТ","СБ","ВС") -> ВТ | T8: =CHOOSE(1+MOD($R$2+2-2,7),"ПН","ВТ","СР","ЧТ","ПТ","СБ","ВС") -> СР | U8: =CHOOSE(1+MOD($R$2+3-2,7),"ПН","ВТ","СР","ЧТ","ПТ","СБ","ВС") -> ЧТ | V8: =CHOOSE(1+MOD($R$2+4-2,7),"ПН","ВТ","СР","ЧТ","ПТ","СБ","ВС") -> ПТ | W8: =CHOOSE(1+MOD($R$2+5-2,7),"ПН","ВТ","СР","ЧТ","ПТ","СБ","ВС") -> СБ | X8: =CHOOSE(1+MOD($R$2+6-2,7),"ПН","ВТ","СР","ЧТ","ПТ","СБ","ВС") -> ВС | Y8: =CHOOSE(1+MOD($R$2+7-2,7),"ПН","ВТ","СР","ЧТ","ПТ","СБ","ВС") -> ПН | AA8: =CHOOSE(1+MOD($R$2+1-2,7),"ПН","ВТ","СР","ЧТ","ПТ","СБ","ВС") -> ВТ | AB8: =CHOOSE(1+MOD($R$2+2-2,7),"ПН","ВТ","СР","ЧТ","ПТ","СБ","ВС") -> СР | AC8: =CHOOSE(1+MOD($R$2+3-2,7),"ПН","ВТ","СР","ЧТ","ПТ","СБ","ВС") -> ЧТ | AD8: =CHOOSE(1+MOD($R$2+4-2,7),"ПН","ВТ","СР","ЧТ","ПТ","СБ","ВС") -> ПТ | AE8: =CHOOSE(1+MOD($R$2+5-2,7),"ПН","ВТ","СР","ЧТ","ПТ","СБ","ВС") -> СБ | AF8: =CHOOSE(1+MOD($R$2+6-2,7),"ПН","ВТ","СР","ЧТ","ПТ","СБ","ВС") -> ВС | AG8: =CHOOSE(1+MOD($R$2+7-2,7),"ПН","ВТ","СР","ЧТ","ПТ","СБ","ВС") -> ПН
C9: =IF(WEEKDAY(C7,1)=MOD($R$2-1,7)+1,C7,"") | D9: =IF(C9="",IF(WEEKDAY(C7,1)=MOD($R$2,7)+1,C7,""),C9+1) | E9: =IF(D9="",IF(WEEKDAY(C7,1)=MOD($R$2+1,7)+1,C7,""),D9+1) | F9: =IF(E9="",IF(WEEKDAY(C7,1)=MOD($R$2+2,7)+1,C7,""),E9+1) -> 46023 | G9: =IF(F9="",IF(WEEKDAY(C7,1)=MOD($R$2+3,7)+1,C7,""),F9+1) -> 46024 | H9: =IF(G9="",IF(WEEKDAY(C7,1)=MOD($R$2+4,7)+1,C7,""),G9+1) -> 46025 | I9: =IF(H9="",IF(WEEKDAY(C7,1)=MOD($R$2+5,7)+1,C7,""),H9+1) -> 46026 | K9: =IF(WEEKDAY(K7,1)=MOD($R$2-1,7)+1,K7,"") | L9: =IF(K9="",IF(WEEKDAY(K7,1)=MOD($R$2,7)+1,K7,""),K9+1) | M9: =IF(L9="",IF(WEEKDAY(K7,1)=MOD($R$2+1,7)+1,K7,""),L9+1) | N9: =IF(M9="",IF(WEEKDAY(K7,1)=MOD($R$2+2,7)+1,K7,""),M9+1) | O9: =IF(N9="",IF(WEEKDAY(K7,1)=MOD($R$2+3,7)+1,K7,""),N9+1) | P9: =IF(O9="",IF(WEEKDAY(K7,1)=MOD($R$2+4,7)+1,K7,""),O9+1) | Q9: =IF(P9="",IF(WEEKDAY(K7,1)=MOD($R$2+5,7)+1,K7,""),P9+1) -> 46054 | S9: =IF(WEEKDAY(S7,1)=MOD($R$2-1,7)+1,S7,"") | T9: =IF(S9="",IF(WEEKDAY(S7,1)=MOD($R$2,7)+1,S7,""),S9+1) | U9: =IF(T9="",IF(WEEKDAY(S7,1)=MOD($R$2+1,7)+1,S7,""),T9+1) | V9: =IF(U9="",IF(WEEKDAY(S7,1)=MOD($R$2+2,7)+1,S7,""),U9+1) | W9: =IF(V9="",IF(WEEKDAY(S7,1)=MOD($R$2+3,7)+1,S7,""),V9+1) | X9: =IF(W9="",IF(WEEKDAY(S7,1)=MOD($R$2+4,7)+1,S7,""),W9+1) | Y9: =IF(X9="",IF(WEEKDAY(S7,1)=MOD($R$2+5,7)+1,S7,""),X9+1) -> 46082 | AA9: =IF(WEEKDAY(AA7,1)=MOD($R$2-1,7)+1,AA7,"") | AB9: =IF(AA9="",IF(WEEKDAY(AA7,1)=MOD($R$2,7)+1,AA7,""),AA9+1) | AC9: =IF(AB9="",IF(WEEKDAY(AA7,1)=MOD($R$2+1,7)+1,AA7,""),AB9+1) -> 46113 | AD9: =IF(AC9="",IF(WEEKDAY(AA7,1)=MOD($R$2+2,7)+1,AA7,""),AC9+1) -> 46114 | AE9: =IF(AD9="",IF(WEEKDAY(AA7,1)=MOD($R$2+3,7)+1,AA7,""),AD9+1) -> 46115 | AF9: =IF(AE9="",IF(WEEKDAY(AA7,1)=MOD($R$2+4,7)+1,AA7,""),AE9+1) -> 46116 | AG9: =IF(AF9="",IF(WEEKDAY(AA7,1)=MOD($R$2+5,7)+1,AA7,""),AF9+1) -> 46117
C10: =IF(I9="","",IF(MONTH(I9+1)<>MONTH(I9),"",I9+1)) -> 46027 | D10: =IF(C10="","",IF(MONTH(C10+1)<>MONTH(C10),"",C10+1)) -> 46028 | E10: =IF(D10="","",IF(MONTH(D10+1)<>MONTH(D10),"",D10+1)) -> 46029 | F10: =IF(E10="","",IF(MONTH(E10+1)<>MONTH(E10),"",E10+1)) -> 46030 | G10: =IF(F10="","",IF(MONTH(F10+1)<>MONTH(F10),"",F10+1)) -> 46031 | H10: =IF(G10="","",IF(MONTH(G10+1)<>MONTH(G10),"",G10+1)) -> 46032 | I10: =IF(H10="","",IF(MONTH(H10+1)<>MONTH(H10),"",H10+1)) -> 46033 | K10: =IF(Q9="","",IF(MONTH(Q9+1)<>MONTH(Q9),"",Q9+1)) -> 46055 | L10: =IF(K10="","",IF(MONTH(K10+1)<>MONTH(K10),"",K10+1)) -> 46056 | M10: =IF(L10="","",IF(MONTH(L10+1)<>MONTH(L10),"",L10+1)) -> 46057 | N10: =IF(M10="","",IF(MONTH(M10+1)<>MONTH(M10),"",M10+1)) -> 46058 | O10: =IF(N10="","",IF(MONTH(N10+1)<>MONTH(N10),"",N10+1)) -> 46059 | P10: =IF(O10="","",IF(MONTH(O10+1)<>MONTH(O10),"",O10+1)) -> 46060 | Q10: =IF(P10="","",IF(MONTH(P10+1)<>MONTH(P10),"",P10+1)) -> 46061 | S10: =IF(Y9="","",IF(MONTH(Y9+1)<>MONTH(Y9),"",Y9+1)) -> 46083 | T10: =IF(S10="","",IF(MONTH(S10+1)<>MONTH(S10),"",S10+1)) -> 46084 | U10: =IF(T10="","",IF(MONTH(T10+1)<>MONTH(T10),"",T10+1)) -> 46085 | V10: =IF(U10="","",IF(MONTH(U10+1)<>MONTH(U10),"",U10+1)) -> 46086 | W10: =IF(V10="","",IF(MONTH(V10+1)<>MONTH(V10),"",V10+1)) -> 46087 | X10: =IF(W10="","",IF(MONTH(W10+1)<>MONTH(W10),"",W10+1)) -> 46088 | Y10: =IF(X10="","",IF(MONTH(X10+1)<>MONTH(X10),"",X10+1)) -> 46089 | AA10: =IF(AG9="","",IF(MONTH(AG9+1)<>MONTH(AG9),"",AG9+1)) -> 46118 | AB10: =IF(AA10="","",IF(MONTH(AA10+1)<>MONTH(AA10),"",AA10+1)) -> 46119 | AC10: =IF(AB10="","",IF(MONTH(AB10+1)<>MONTH(AB10),"",AB10+1)) -> 46120 | AD10: =IF(AC10="","",IF(MONTH(AC10+1)<>MONTH(AC10),"",AC10+1)) -> 46121 | AE10: =IF(AD10="","",IF(MONTH(AD10+1)<>MONTH(AD10),"",AD10+1)) -> 46122 | AF10: =IF(AE10="","",IF(MONTH(AE10+1)<>MONTH(AE10),"",AE10+1)) -> 46123 | AG10: =IF(AF10="","",IF(MONTH(AF10+1)<>MONTH(AF10),"",AF10+1)) -> 46124
C11: =IF(I10="","",IF(MONTH(I10+1)<>MONTH(I10),"",I10+1)) -> 46034 | D11: =IF(C11="","",IF(MONTH(C11+1)<>MONTH(C11),"",C11+1)) -> 46035 | E11: =IF(D11="","",IF(MONTH(D11+1)<>MONTH(D11),"",D11+1)) -> 46036 | F11: =IF(E11="","",IF(MONTH(E11+1)<>MONTH(E11),"",E11+1)) -> 46037 | G11: =IF(F11="","",IF(MONTH(F11+1)<>MONTH(F11),"",F11+1)) -> 46038 | H11: =IF(G11="","",IF(MONTH(G11+1)<>MONTH(G11),"",G11+1)) -> 46039 | I11: =IF(H11="","",IF(MONTH(H11+1)<>MONTH(H11),"",H11+1)) -> 46040 | K11: =IF(Q10="","",IF(MONTH(Q10+1)<>MONTH(Q10),"",Q10+1)) -> 46062 | L11: =IF(K11="","",IF(MONTH(K11+1)<>MONTH(K11),"",K11+1)) -> 46063 | M11: =IF(L11="","",IF(MONTH(L11+1)<>MONTH(L11),"",L11+1)) -> 46064 | N11: =IF(M11="","",IF(MONTH(M11+1)<>MONTH(M11),"",M11+1)) -> 46065 | O11: =IF(N11="","",IF(MONTH(N11+1)<>MONTH(N11),"",N11+1)) -> 46066 | P11: =IF(O11="","",IF(MONTH(O11+1)<>MONTH(O11),"",O11+1)) -> 46067 | Q11: =IF(P11="","",IF(MONTH(P11+1)<>MONTH(P11),"",P11+1)) -> 46068 | S11: =IF(Y10="","",IF(MONTH(Y10+1)<>MONTH(Y10),"",Y10+1)) -> 46090 | T11: =IF(S11="","",IF(MONTH(S11+1)<>MONTH(S11),"",S11+1)) -> 46091 | U11: =IF(T11="","",IF(MONTH(T11+1)<>MONTH(T11),"",T11+1)) -> 46092 | V11: =IF(U11="","",IF(MONTH(U11+1)<>MONTH(U11),"",U11+1)) -> 46093 | W11: =IF(V11="","",IF(MONTH(V11+1)<>MONTH(V11),"",V11+1)) -> 46094 | X11: =IF(W11="","",IF(MONTH(W11+1)<>MONTH(W11),"",W11+1)) -> 46095 | Y11: =IF(X11="","",IF(MONTH(X11+1)<>MONTH(X11),"",X11+1)) -> 46096 | AA11: =IF(AG10="","",IF(MONTH(AG10+1)<>MONTH(AG10),"",AG10+1)) -> 46125 | AB11: =IF(AA11="","",IF(MONTH(AA11+1)<>MONTH(AA11),"",AA11+1)) -> 46126 | AC11: =IF(AB11="","",IF(MONTH(AB11+1)<>MONTH(AB11),"",AB11+1)) -> 46127 | AD11: =IF(AC11="","",IF(MONTH(AC11+1)<>MONTH(AC11),"",AC11+1)) -> 46128 | AE11: =IF(AD11="","",IF(MONTH(AD11+1)<>MONTH(AD11),"",AD11+1)) -> 46129 | AF11: =IF(AE11="","",IF(MONTH(AE11+1)<>MONTH(AE11),"",AE11+1)) -> 46130 | AG11: =IF(AF11="","",IF(MONTH(AF11+1)<>MONTH(AF11),"",AF11+1)) -> 46131
C12: =IF(I11="","",IF(MONTH(I11+1)<>MONTH(I11),"",I11+1)) -> 46041 | D12: =IF(C12="","",IF(MONTH(C12+1)<>MONTH(C12),"",C12+1)) -> 46042 | E12: =IF(D12="","",IF(MONTH(D12+1)<>MONTH(D12),"",D12+1)) -> 46043 | F12: =IF(E12="","",IF(MONTH(E12+1)<>MONTH(E12),"",E12+1)) -> 46044 | G12: =IF(F12="","",IF(MONTH(F12+1)<>MONTH(F12),"",F12+1)) -> 46045 | H12: =IF(G12="","",IF(MONTH(G12+1)<>MONTH(G12),"",G12+1)) -> 46046 | I12: =IF(H12="","",IF(MONTH(H12+1)<>MONTH(H12),"",H12+1)) -> 46047 | K12: =IF(Q11="","",IF(MONTH(Q11+1)<>MONTH(Q11),"",Q11+1)) -> 46069 | L12: =IF(K12="","",IF(MONTH(K12+1)<>MONTH(K12),"",K12+1)) -> 46070 | M12: =IF(L12="","",IF(MONTH(L12+1)<>MONTH(L12),"",L12+1)) -> 46071 | N12: =IF(M12="","",IF(MONTH(M12+1)<>MONTH(M12),"",M12+1)) -> 46072 | O12: =IF(N12="","",IF(MONTH(N12+1)<>MONTH(N12),"",N12+1)) -> 46073 | P12: =IF(O12="","",IF(MONTH(O12+1)<>MONTH(O12),"",O12+1)) -> 46074 | Q12: =IF(P12="","",IF(MONTH(P12+1)<>MONTH(P12),"",P12+1)) -> 46075 | S12: =IF(Y11="","",IF(MONTH(Y11+1)<>MONTH(Y11),"",Y11+1)) -> 46097 | T12: =IF(S12="","",IF(MONTH(S12+1)<>MONTH(S12),"",S12+1)) -> 46098 | U12: =IF(T12="","",IF(MONTH(T12+1)<>MONTH(T12),"",T12+1)) -> 46099 | V12: =IF(U12="","",IF(MONTH(U12+1)<>MONTH(U12),"",U12+1)) -> 46100 | W12: =IF(V12="","",IF(MONTH(V12+1)<>MONTH(V12),"",V12+1)) -> 46101 | X12: =IF(W12="","",IF(MONTH(W12+1)<>MONTH(W12),"",W12+1)) -> 46102 | Y12: =IF(X12="","",IF(MONTH(X12+1)<>MONTH(X12),"",X12+1)) -> 46103 | AA12: =IF(AG11="","",IF(MONTH(AG11+1)<>MONTH(AG11),"",AG11+1)) -> 46132 | AB12: =IF(AA12="","",IF(MONTH(AA12+1)<>MONTH(AA12),"",AA12+1)) -> 46133 | AC12: =IF(AB12="","",IF(MONTH(AB12+1)<>MONTH(AB12),"",AB12+1)) -> 46134 | AD12: =IF(AC12="","",IF(MONTH(AC12+1)<>MONTH(AC12),"",AC12+1)) -> 46135 | AE12: =IF(AD12="","",IF(MONTH(AD12+1)<>MONTH(AD12),"",AD12+1)) -> 46136 | AF12: =IF(AE12="","",IF(MONTH(AE12+1)<>MONTH(AE12),"",AE12+1)) -> 46137 | AG12: =IF(AF12="","",IF(MONTH(AF12+1)<>MONTH(AF12),"",AF12+1)) -> 46138
C13: =IF(I12="","",IF(MONTH(I12+1)<>MONTH(I12),"",I12+1)) -> 46048 | D13: =IF(C13="","",IF(MONTH(C13+1)<>MONTH(C13),"",C13+1)) -> 46049 | E13: =IF(D13="","",IF(MONTH(D13+1)<>MONTH(D13),"",D13+1)) -> 46050 | F13: =IF(E13="","",IF(MONTH(E13+1)<>MONTH(E13),"",E13+1)) -> 46051 | G13: =IF(F13="","",IF(MONTH(F13+1)<>MONTH(F13),"",F13+1)) -> 46052 | H13: =IF(G13="","",IF(MONTH(G13+1)<>MONTH(G13),"",G13+1)) -> 46053 | I13: =IF(H13="","",IF(MONTH(H13+1)<>MONTH(H13),"",H13+1)) | K13: =IF(Q12="","",IF(MONTH(Q12+1)<>MONTH(Q12),"",Q12+1)) -> 46076 | L13: =IF(K13="","",IF(MONTH(K13+1)<>MONTH(K13),"",K13+1)) -> 46077 | M13: =IF(L13="","",IF(MONTH(L13+1)<>MONTH(L13),"",L13+1)) -> 46078 | N13: =IF(M13="","",IF(MONTH(M13+1)<>MONTH(M13),"",M13+1)) -> 46079 | O13: =IF(N13="","",IF(MONTH(N13+1)<>MONTH(N13),"",N13+1)) -> 46080 | P13: =IF(O13="","",IF(MONTH(O13+1)<>MONTH(O13),"",O13+1)) -> 46081 | Q13: =IF(P13="","",IF(MONTH(P13+1)<>MONTH(P13),"",P13+1)) | S13: =IF(Y12="","",IF(MONTH(Y12+1)<>MONTH(Y12),"",Y12+1)) -> 46104 | T13: =IF(S13="","",IF(MONTH(S13+1)<>MONTH(S13),"",S13+1)) -> 46105 | U13: =IF(T13="","",IF(MONTH(T13+1)<>MONTH(T13),"",T13+1)) -> 46106 | V13: =IF(U13="","",IF(MONTH(U13+1)<>MONTH(U13),"",U13+1)) -> 46107 | W13: =IF(V13="","",IF(MONTH(V13+1)<>MONTH(V13),"",V13+1)) -> 46108 | X13: =IF(W13="","",IF(MONTH(W13+1)<>MONTH(W13),"",W13+1)) -> 46109 | Y13: =IF(X13="","",IF(MONTH(X13+1)<>MONTH(X13),"",X13+1)) -> 46110 | AA13: =IF(AG12="","",IF(MONTH(AG12+1)<>MONTH(AG12),"",AG12+1)) -> 46139 | AB13: =IF(AA13="","",IF(MONTH(AA13+1)<>MONTH(AA13),"",AA13+1)) -> 46140 | AC13: =IF(AB13="","",IF(MONTH(AB13+1)<>MONTH(AB13),"",AB13+1)) -> 46141 | AD13: =IF(AC13="","",IF(MONTH(AC13+1)<>MONTH(AC13),"",AC13+1)) -> 46142 | AE13: =IF(AD13="","",IF(MONTH(AD13+1)<>MONTH(AD13),"",AD13+1)) | AF13: =IF(AE13="","",IF(MONTH(AE13+1)<>MONTH(AE13),"",AE13+1)) | AG13: =IF(AF13="","",IF(MONTH(AF13+1)<>MONTH(AF13),"",AF13+1))
C14: =IF(I13="","",IF(MONTH(I13+1)<>MONTH(I13),"",I13+1)) | D14: =IF(C14="","",IF(MONTH(C14+1)<>MONTH(C14),"",C14+1)) | E14: =IF(D14="","",IF(MONTH(D14+1)<>MONTH(D14),"",D14+1)) | F14: =IF(E14="","",IF(MONTH(E14+1)<>MONTH(E14),"",E14+1)) | G14: =IF(F14="","",IF(MONTH(F14+1)<>MONTH(F14),"",F14+1)) | H14: =IF(G14="","",IF(MONTH(G14+1)<>MONTH(G14),"",G14+1)) | I14: =IF(H14="","",IF(MONTH(H14+1)<>MONTH(H14),"",H14+1)) | K14: =IF(Q13="","",IF(MONTH(Q13+1)<>MONTH(Q13),"",Q13+1)) | L14: =IF(K14="","",IF(MONTH(K14+1)<>MONTH(K14),"",K14+1)) | M14: =IF(L14="","",IF(MONTH(L14+1)<>MONTH(L14),"",L14+1)) | N14: =IF(M14="","",IF(MONTH(M14+1)<>MONTH(M14),"",M14+1)) | O14: =IF(N14="","",IF(MONTH(N14+1)<>MONTH(N14),"",N14+1)) | P14: =IF(O14="","",IF(MONTH(O14+1)<>MONTH(O14),"",O14+1)) | Q14: =IF(P14="","",IF(MONTH(P14+1)<>MONTH(P14),"",P14+1)) | S14: =IF(Y13="","",IF(MONTH(Y13+1)<>MONTH(Y13),"",Y13+1)) -> 46111 | T14: =IF(S14="","",IF(MONTH(S14+1)<>MONTH(S14),"",S14+1)) -> 46112 | U14: =IF(T14="","",IF(MONTH(T14+1)<>MONTH(T14),"",T14+1)) | V14: =IF(U14="","",IF(MONTH(U14+1)<>MONTH(U14),"",U14+1)) | W14: =IF(V14="","",IF(MONTH(V14+1)<>MONTH(V14),"",V14+1)) | X14: =IF(W14="","",IF(MONTH(W14+1)<>MONTH(W14),"",W14+1)) | Y14: =IF(X14="","",IF(MONTH(X14+1)<>MONTH(X14),"",X14+1)) | AA14: =IF(AG13="","",IF(MONTH(AG13+1)<>MONTH(AG13),"",AG13+1)) | AB14: =IF(AA14="","",IF(MONTH(AA14+1)<>MONTH(AA14),"",AA14+1)) | AC14: =IF(AB14="","",IF(MONTH(AB14+1)<>MONTH(AB14),"",AB14+1)) | AD14: =IF(AC14="","",IF(MONTH(AC14+1)<>MONTH(AC14),"",AC14+1)) | AE14: =IF(AD14="","",IF(MONTH(AD14+1)<>MONTH(AD14),"",AD14+1)) | AF14: =IF(AE14="","",IF(MONTH(AE14+1)<>MONTH(AE14),"",AE14+1)) | AG14: =IF(AF14="","",IF(MONTH(AF14+1)<>MONTH(AF14),"",AF14+1))
C16: =DATE(YEAR(AA7+42),MONTH(AA7+42),1) -> 46143 | K16: =DATE(YEAR(C16+42),MONTH(C16+42),1) -> 46174 | S16: =DATE(YEAR(K16+42),MONTH(K16+42),1) -> 46204 | AA16: =DATE(YEAR(S16+42),MONTH(S16+42),1) -> 46235
C17: =CHOOSE(1+MOD($R$2+1-2,7),"ПН","ВТ","СР","ЧТ","ПТ","СБ","ВС") -> ВТ | D17: =CHOOSE(1+MOD($R$2+2-2,7),"ПН","ВТ","СР","ЧТ","ПТ","СБ","ВС") -> СР | E17: =CHOOSE(1+MOD($R$2+3-2,7),"ПН","ВТ","СР","ЧТ","ПТ","СБ","ВС") -> ЧТ | F17: =CHOOSE(1+MOD($R$2+4-2,7),"ПН","ВТ","СР","ЧТ","ПТ","СБ","ВС") -> ПТ | G17: =CHOOSE(1+MOD($R$2+5-2,7),"ПН","ВТ","СР","ЧТ","ПТ","СБ","ВС") -> СБ | H17: =CHOOSE(1+MOD($R$2+6-2,7),"ПН","ВТ","СР","ЧТ","ПТ","СБ","ВС") -> ВС | I17: =CHOOSE(1+MOD($R$2+7-2,7),"ПН","ВТ","СР","ЧТ","ПТ","СБ","ВС") -> ПН | K17: =CHOOSE(1+MOD($R$2+1-2,7),"ПН","ВТ","СР","ЧТ","ПТ","СБ","ВС") -> ВТ | L17: =CHOOSE(1+MOD($R$2+2-2,7),"ПН","ВТ","СР","ЧТ","ПТ","СБ","ВС") -> СР | M17: =CHOOSE(1+MOD($R$2+3-2,7),"ПН","ВТ","СР","ЧТ","ПТ","СБ","ВС") -> ЧТ | N17: =CHOOSE(1+MOD($R$2+4-2,7),"ПН","ВТ","СР","ЧТ","ПТ","СБ","ВС") -> ПТ | O17: =CHOOSE(1+MOD($R$2+5-2,7),"ПН","ВТ","СР","ЧТ","ПТ","СБ","ВС") -> СБ | P17: =CHOOSE(1+MOD($R$2+6-2,7),"ПН","ВТ","СР","ЧТ","ПТ","СБ","ВС") -> ВС | Q17: =CHOOSE(1+MOD($R$2+7-2,7),"ПН","ВТ","СР","ЧТ","ПТ","СБ","ВС") -> ПН | S17: =CHOOSE(1+MOD($R$2+1-2,7),"ПН","ВТ","СР","ЧТ","ПТ","СБ","ВС") -> ВТ | T17: =CHOOSE(1+MOD($R$2+2-2,7),"ПН","ВТ","СР","ЧТ","ПТ","СБ","ВС") -> СР | U17: =CHOOSE(1+MOD($R$2+3-2,7),"ПН","ВТ","СР","ЧТ","ПТ","СБ","ВС") -> ЧТ | V17: =CHOOSE(1+MOD($R$2+4-2,7),"ПН","ВТ","СР","ЧТ","ПТ","СБ","ВС") -> ПТ | W17: =CHOOSE(1+MOD($R$2+5-2,7),"ПН","ВТ","СР","ЧТ","ПТ","СБ","ВС") -> СБ | X17: =CHOOSE(1+MOD($R$2+6-2,7),"ПН","ВТ","СР","ЧТ","ПТ","СБ","ВС") -> ВС | Y17: =CHOOSE(1+MOD($R$2+7-2,7),"ПН","ВТ","СР","ЧТ","ПТ","СБ","ВС") -> ПН | AA17: =CHOOSE(1+MOD($R$2+1-2,7),"ПН","ВТ","СР","ЧТ","ПТ","СБ","ВС") -> ВТ | AB17: =CHOOSE(1+MOD($R$2+2-2,7),"ПН","ВТ","СР","ЧТ","ПТ","СБ","ВС") -> СР | AC17: =CHOOSE(1+MOD($R$2+3-2,7),"ПН","ВТ","СР","ЧТ","ПТ","СБ","ВС") -> ЧТ | AD17: =CHOOSE(1+MOD($R$2+4-2,7),"ПН","ВТ","СР","ЧТ","ПТ","СБ","ВС") -> ПТ | AE17: =CHOOSE(1+MOD($R$2+5-2,7),"ПН","ВТ","СР","ЧТ","ПТ","СБ","ВС") -> СБ | AF17: =CHOOSE(1+MOD($R$2+6-2,7),"ПН","ВТ","СР","ЧТ","ПТ","СБ","ВС") -> ВС | AG17: =CHOOSE(1+MOD($R$2+7-2,7),"ПН","ВТ","СР","ЧТ","ПТ","СБ","ВС") -> ПН
C18: =IF(WEEKDAY(C16,1)=MOD($R$2-1,7)+1,C16,"") | D18: =IF(C18="",IF(WEEKDAY(C16,1)=MOD($R$2,7)+1,C16,""),C18+1) | E18: =IF(D18="",IF(WEEKDAY(C16,1)=MOD($R$2+1,7)+1,C16,""),D18+1) | F18: =IF(E18="",IF(WEEKDAY(C16,1)=MOD($R$2+2,7)+1,C16,""),E18+1) | G18: =IF(F18="",IF(WEEKDAY(C16,1)=MOD($R$2+3,7)+1,C16,""),F18+1) -> 46143 | H18: =IF(G18="",IF(WEEKDAY(C16,1)=MOD($R$2+4,7)+1,C16,""),G18+1) -> 46144 | I18: =IF(H18="",IF(WEEKDAY(C16,1)=MOD($R$2+5,7)+1,C16,""),H18+1) -> 46145 | K18: =IF(WEEKDAY(K16,1)=MOD($R$2-1,7)+1,K16,"") -> 46174 | L18: =IF(K18="",IF(WEEKDAY(K16,1)=MOD($R$2,7)+1,K16,""),K18+1) -> 46175 | M18: =IF(L18="",IF(WEEKDAY(K16,1)=MOD($R$2+1,7)+1,K16,""),L18+1) -> 46176 | N18: =IF(M18="",IF(WEEKDAY(K16,1)=MOD($R$2+2,7)+1,K16,""),M18+1) -> 46177 | O18: =IF(N18="",IF(WEEKDAY(K16,1)=MOD($R$2+3,7)+1,K16,""),N18+1) -> 46178 | P18: =IF(O18="",IF(WEEKDAY(K16,1)=MOD($R$2+4,7)+1,K16,""),O18+1) -> 46179 | Q18: =IF(P18="",IF(WEEKDAY(K16,1)=MOD($R$2+5,7)+1,K16,""),P18+1) -> 46180 | S18: =IF(WEEKDAY(S16,1)=MOD($R$2-1,7)+1,S16,"") | T18: =IF(S18="",IF(WEEKDAY(S16,1)=MOD($R$2,7)+1,S16,""),S18+1) | U18: =IF(T18="",IF(WEEKDAY(S16,1)=MOD($R$2+1,7)+1,S16,""),T18+1) -> 46204 | V18: =IF(U18="",IF(WEEKDAY(S16,1)=MOD($R$2+2,7)+1,S16,""),U18+1) -> 46205 | W18: =IF(V18="",IF(WEEKDAY(S16,1)=MOD($R$2+3,7)+1,S16,""),V18+1) -> 46206 | X18: =IF(W18="",IF(WEEKDAY(S16,1)=MOD($R$2+4,7)+1,S16,""),W18+1) -> 46207 | Y18: =IF(X18="",IF(WEEKDAY(S16,1)=MOD($R$2+5,7)+1,S16,""),X18+1) -> 46208 | AA18: =IF(WEEKDAY(AA16,1)=MOD($R$2-1,7)+1,AA16,"") | AB18: =IF(AA18="",IF(WEEKDAY(AA16,1)=MOD($R$2,7)+1,AA16,""),AA18+1) | AC18: =IF(AB18="",IF(WEEKDAY(AA16,1)=MOD($R$2+1,7)+1,AA16,""),AB18+1) | AD18: =IF(AC18="",IF(WEEKDAY(AA16,1)=MOD($R$2+2,7)+1,AA16,""),AC18+1) | AE18: =IF(AD18="",IF(WEEKDAY(AA16,1)=MOD($R$2+3,7)+1,AA16,""),AD18+1) | AF18: =IF(AE18="",IF(WEEKDAY(AA16,1)=MOD($R$2+4,7)+1,AA16,""),AE18+1) -> 46235 | AG18: =IF(AF18="",IF(WEEKDAY(AA16,1)=MOD($R$2+5,7)+1,AA16,""),AF18+1) -> 46236
C19: =IF(I18="","",IF(MONTH(I18+1)<>MONTH(I18),"",I18+1)) -> 46146 | D19: =IF(C19="","",IF(MONTH(C19+1)<>MONTH(C19),"",C19+1)) -> 46147 | E19: =IF(D19="","",IF(MONTH(D19+1)<>MONTH(D19),"",D19+1)) -> 46148 | F19: =IF(E19="","",IF(MONTH(E19+1)<>MONTH(E19),"",E19+1)) -> 46149 | G19: =IF(F19="","",IF(MONTH(F19+1)<>MONTH(F19),"",F19+1)) -> 46150 | H19: =IF(G19="","",IF(MONTH(G19+1)<>MONTH(G19),"",G19+1)) -> 46151 | I19: =IF(H19="","",IF(MONTH(H19+1)<>MONTH(H19),"",H19+1)) -> 46152 | K19: =IF(Q18="","",IF(MONTH(Q18+1)<>MONTH(Q18),"",Q18+1)) -> 46181 | L19: =IF(K19="","",IF(MONTH(K19+1)<>MONTH(K19),"",K19+1)) -> 46182 | M19: =IF(L19="","",IF(MONTH(L19+1)<>MONTH(L19),"",L19+1)) -> 46183 | N19: =IF(M19="","",IF(MONTH(M19+1)<>MONTH(M19),"",M19+1)) -> 46184 | O19: =IF(N19="","",IF(MONTH(N19+1)<>MONTH(N19),"",N19+1)) -> 46185 | P19: =IF(O19="","",IF(MONTH(O19+1)<>MONTH(O19),"",O19+1)) -> 46186 | Q19: =IF(P19="","",IF(MONTH(P19+1)<>MONTH(P19),"",P19+1)) -> 46187 | S19: =IF(Y18="","",IF(MONTH(Y18+1)<>MONTH(Y18),"",Y18+1)) -> 46209 | T19: =IF(S19="","",IF(MONTH(S19+1)<>MONTH(S19),"",S19+1)) -> 46210 | U19: =IF(T19="","",IF(MONTH(T19+1)<>MONTH(T19),"",T19+1)) -> 46211 | V19: =IF(U19="","",IF(MONTH(U19+1)<>MONTH(U19),"",U19+1)) -> 46212 | W19: =IF(V19="","",IF(MONTH(V19+1)<>MONTH(V19),"",V19+1)) -> 46213 | X19: =IF(W19="","",IF(MONTH(W19+1)<>MONTH(W19),"",W19+1)) -> 46214 | Y19: =IF(X19="","",IF(MONTH(X19+1)<>MONTH(X19),"",X19+1)) -> 46215 | AA19: =IF(AG18="","",IF(MONTH(AG18+1)<>MONTH(AG18),"",AG18+1)) -> 46237 | AB19: =IF(AA19="","",IF(MONTH(AA19+1)<>MONTH(AA19),"",AA19+1)) -> 46238 | AC19: =IF(AB19="","",IF(MONTH(AB19+1)<>MONTH(AB19),"",AB19+1)) -> 46239 | AD19: =IF(AC19="","",IF(MONTH(AC19+1)<>MONTH(AC19),"",AC19+1)) -> 46240 | AE19: =IF(AD19="","",IF(MONTH(AD19+1)<>MONTH(AD19),"",AD19+1)) -> 46241 | AF19: =IF(AE19="","",IF(MONTH(AE19+1)<>MONTH(AE19),"",AE19+1)) -> 46242 | AG19: =IF(AF19="","",IF(MONTH(AF19+1)<>MONTH(AF19),"",AF19+1)) -> 46243
C20: =IF(I19="","",IF(MONTH(I19+1)<>MONTH(I19),"",I19+1)) -> 46153 | D20: =IF(C20="","",IF(MONTH(C20+1)<>MONTH(C20),"",C20+1)) -> 46154 | E20: =IF(D20="","",IF(MONTH(D20+1)<>MONTH(D20),"",D20+1)) -> 46155 | F20: =IF(E20="","",IF(MONTH(E20+1)<>MONTH(E20),"",E20+1)) -> 46156 | G20: =IF(F20="","",IF(MONTH(F20+1)<>MONTH(F20),"",F20+1)) -> 46157 | H20: =IF(G20="","",IF(MONTH(G20+1)<>MONTH(G20),"",G20+1)) -> 46158 | I20: =IF(H20="","",IF(MONTH(H20+1)<>MONTH(H20),"",H20+1)) -> 46159 | K20: =IF(Q19="","",IF(MONTH(Q19+1)<>MONTH(Q19),"",Q19+1)) -> 46188 | L20: =IF(K20="","",IF(MONTH(K20+1)<>MONTH(K20),"",K20+1)) -> 46189 | M20: =IF(L20="","",IF(MONTH(L20+1)<>MONTH(L20),"",L20+1)) -> 46190 | N20: =IF(M20="","",IF(MONTH(M20+1)<>MONTH(M20),"",M20+1)) -> 46191 | O20: =IF(N20="","",IF(MONTH(N20+1)<>MONTH(N20),"",N20+1)) -> 46192 | P20: =IF(O20="","",IF(MONTH(O20+1)<>MONTH(O20),"",O20+1)) -> 46193 | Q20: =IF(P20="","",IF(MONTH(P20+1)<>MONTH(P20),"",P20+1)) -> 46194 | S20: =IF(Y19="","",IF(MONTH(Y19+1)<>MONTH(Y19),"",Y19+1)) -> 46216 | T20: =IF(S20="","",IF(MONTH(S20+1)<>MONTH(S20),"",S20+1)) -> 46217 | U20: =IF(T20="","",IF(MONTH(T20+1)<>MONTH(T20),"",T20+1)) -> 46218 | V20: =IF(U20="","",IF(MONTH(U20+1)<>MONTH(U20),"",U20+1)) -> 46219 | W20: =IF(V20="","",IF(MONTH(V20+1)<>MONTH(V20),"",V20+1)) -> 46220 | X20: =IF(W20="","",IF(MONTH(W20+1)<>MONTH(W20),"",W20+1)) -> 46221 | Y20: =IF(X20="","",IF(MONTH(X20+1)<>MONTH(X20),"",X20+1)) -> 46222 | AA20: =IF(AG19="","",IF(MONTH(AG19+1)<>MONTH(AG19),"",AG19+1)) -> 46244 | AB20: =IF(AA20="","",IF(MONTH(AA20+1)<>MONTH(AA20),"",AA20+1)) -> 46245 | AC20: =IF(AB20="","",IF(MONTH(AB20+1)<>MONTH(AB20),"",AB20+1)) -> 46246 | AD20: =IF(AC20="","",IF(MONTH(AC20+1)<>MONTH(AC20),"",AC20+1)) -> 46247 | AE20: =IF(AD20="","",IF(MONTH(AD20+1)<>MONTH(AD20),"",AD20+1)) -> 46248 | AF20: =IF(AE20="","",IF(MONTH(AE20+1)<>MONTH(AE20),"",AE20+1)) -> 46249 | AG20: =IF(AF20="","",IF(MONTH(AF20+1)<>MONTH(AF20),"",AF20+1)) -> 46250
C21: =IF(I20="","",IF(MONTH(I20+1)<>MONTH(I20),"",I20+1)) -> 46160 | D21: =IF(C21="","",IF(MONTH(C21+1)<>MONTH(C21),"",C21+1)) -> 46161 | E21: =IF(D21="","",IF(MONTH(D21+1)<>MONTH(D21),"",D21+1)) -> 46162 | F21: =IF(E21="","",IF(MONTH(E21+1)<>MONTH(E21),"",E21+1)) -> 46163 | G21: =IF(F21="","",IF(MONTH(F21+1)<>MONTH(F21),"",F21+1)) -> 46164 | H21: =IF(G21="","",IF(MONTH(G21+1)<>MONTH(G21),"",G21+1)) -> 46165 | I21: =IF(H21="","",IF(MONTH(H21+1)<>MONTH(H21),"",H21+1)) -> 46166 | K21: =IF(Q20="","",IF(MONTH(Q20+1)<>MONTH(Q20),"",Q20+1)) -> 46195 | L21: =IF(K21="","",IF(MONTH(K21+1)<>MONTH(K21),"",K21+1)) -> 46196 | M21: =IF(L21="","",IF(MONTH(L21+1)<>MONTH(L21),"",L21+1)) -> 46197 | N21: =IF(M21="","",IF(MONTH(M21+1)<>MONTH(M21),"",M21+1)) -> 46198 | O21: =IF(N21="","",IF(MONTH(N21+1)<>MONTH(N21),"",N21+1)) -> 46199 | P21: =IF(O21="","",IF(MONTH(O21+1)<>MONTH(O21),"",O21+1)) -> 46200 | Q21: =IF(P21="","",IF(MONTH(P21+1)<>MONTH(P21),"",P21+1)) -> 46201 | S21: =IF(Y20="","",IF(MONTH(Y20+1)<>MONTH(Y20),"",Y20+1)) -> 46223 | T21: =IF(S21="","",IF(MONTH(S21+1)<>MONTH(S21),"",S21+1)) -> 46224 | U21: =IF(T21="","",IF(MONTH(T21+1)<>MONTH(T21),"",T21+1)) -> 46225 | V21: =IF(U21="","",IF(MONTH(U21+1)<>MONTH(U21),"",U21+1)) -> 46226 | W21: =IF(V21="","",IF(MONTH(V21+1)<>MONTH(V21),"",V21+1)) -> 46227 | X21: =IF(W21="","",IF(MONTH(W21+1)<>MONTH(W21),"",W21+1)) -> 46228 | Y21: =IF(X21="","",IF(MONTH(X21+1)<>MONTH(X21),"",X21+1)) -> 46229 | AA21: =IF(AG20="","",IF(MONTH(AG20+1)<>MONTH(AG20),"",AG20+1)) -> 46251 | AB21: =IF(AA21="","",IF(MONTH(AA21+1)<>MONTH(AA21),"",AA21+1)) -> 46252 | AC21: =IF(AB21="","",IF(MONTH(AB21+1)<>MONTH(AB21),"",AB21+1)) -> 46253 | AD21: =IF(AC21="","",IF(MONTH(AC21+1)<>MONTH(AC21),"",AC21+1)) -> 46254 | AE21: =IF(AD21="","",IF(MONTH(AD21+1)<>MONTH(AD21),"",AD21+1)) -> 46255 | AF21: =IF(AE21="","",IF(MONTH(AE21+1)<>MONTH(AE21),"",AE21+1)) -> 46256 | AG21: =IF(AF21="","",IF(MONTH(AF21+1)<>MONTH(AF21),"",AF21+1)) -> 46257
C22: =IF(I21="","",IF(MONTH(I21+1)<>MONTH(I21),"",I21+1)) -> 46167 | D22: =IF(C22="","",IF(MONTH(C22+1)<>MONTH(C22),"",C22+1)) -> 46168 | E22: =IF(D22="","",IF(MONTH(D22+1)<>MONTH(D22),"",D22+1)) -> 46169 | F22: =IF(E22="","",IF(MONTH(E22+1)<>MONTH(E22),"",E22+1)) -> 46170 | G22: =IF(F22="","",IF(MONTH(F22+1)<>MONTH(F22),"",F22+1)) -> 46171 | H22: =IF(G22="","",IF(MONTH(G22+1)<>MONTH(G22),"",G22+1)) -> 46172 | I22: =IF(H22="","",IF(MONTH(H22+1)<>MONTH(H22),"",H22+1)) -> 46173 | K22: =IF(Q21="","",IF(MONTH(Q21+1)<>MONTH(Q21),"",Q21+1)) -> 46202 | L22: =IF(K22="","",IF(MONTH(K22+1)<>MONTH(K22),"",K22+1)) -> 46203 | M22: =IF(L22="","",IF(MONTH(L22+1)<>MONTH(L22),"",L22+1)) | N22: =IF(M22="","",IF(MONTH(M22+1)<>MONTH(M22),"",M22+1)) | O22: =IF(N22="","",IF(MONTH(N22+1)<>MONTH(N22),"",N22+1)) | P22: =IF(O22="","",IF(MONTH(O22+1)<>MONTH(O22),"",O22+1)) | Q22: =IF(P22="","",IF(MONTH(P22+1)<>MONTH(P22),"",P22+1)) | S22: =IF(Y21="","",IF(MONTH(Y21+1)<>MONTH(Y21),"",Y21+1)) -> 46230 | T22: =IF(S22="","",IF(MONTH(S22+1)<>MONTH(S22),"",S22+1)) -> 46231 | U22: =IF(T22="","",IF(MONTH(T22+1)<>MONTH(T22),"",T22+1)) -> 46232 | V22: =IF(U22="","",IF(MONTH(U22+1)<>MONTH(U22),"",U22+1)) -> 46233 | W22: =IF(V22="","",IF(MONTH(V22+1)<>MONTH(V22),"",V22+1)) -> 46234 | X22: =IF(W22="","",IF(MONTH(W22+1)<>MONTH(W22),"",W22+1)) | Y22: =IF(X22="","",IF(MONTH(X22+1)<>MONTH(X22),"",X22+1)) | AA22: =IF(AG21="","",IF(MONTH(AG21+1)<>MONTH(AG21),"",AG21+1)) -> 46258 | AB22: =IF(AA22="","",IF(MONTH(AA22+1)<>MONTH(AA22),"",AA22+1)) -> 46259 | AC22: =IF(AB22="","",IF(MONTH(AB22+1)<>MONTH(AB22),"",AB22+1)) -> 46260 | AD22: =IF(AC22="","",IF(MONTH(AC22+1)<>MONTH(AC22),"",AC22+1)) -> 46261 | AE22: =IF(AD22="","",IF(MONTH(AD22+1)<>MONTH(AD22),"",AD22+1)) -> 46262 | AF22: =IF(AE22="","",IF(MONTH(AE22+1)<>MONTH(AE22),"",AE22+1)) -> 46263 | AG22: =IF(AF22="","",IF(MONTH(AF22+1)<>MONTH(AF22),"",AF22+1)) -> 46264
C23: =IF(I22="","",IF(MONTH(I22+1)<>MONTH(I22),"",I22+1)) | D23: =IF(C23="","",IF(MONTH(C23+1)<>MONTH(C23),"",C23+1)) | E23: =IF(D23="","",IF(MONTH(D23+1)<>MONTH(D23),"",D23+1)) | F23: =IF(E23="","",IF(MONTH(E23+1)<>MONTH(E23),"",E23+1)) | G23: =IF(F23="","",IF(MONTH(F23+1)<>MONTH(F23),"",F23+1)) | H23: =IF(G23="","",IF(MONTH(G23+1)<>MONTH(G23),"",G23+1)) | I23: =IF(H23="","",IF(MONTH(H23+1)<>MONTH(H23),"",H23+1)) | K23: =IF(Q22="","",IF(MONTH(Q22+1)<>MONTH(Q22),"",Q22+1)) | L23: =IF(K23="","",IF(MONTH(K23+1)<>MONTH(K23),"",K23+1)) | M23: =IF(L23="","",IF(MONTH(L23+1)<>MONTH(L23),"",L23+1)) | N23: =IF(M23="","",IF(MONTH(M23+1)<>MONTH(M23),"",M23+1)) | O23: =IF(N23="","",IF(MONTH(N23+1)<>MONTH(N23),"",N23+1)) | P23: =IF(O23="","",IF(MONTH(O23+1)<>MONTH(O23),"",O23+1)) | Q23: =IF(P23="","",IF(MONTH(P23+1)<>MONTH(P23),"",P23+1)) | S23: =IF(Y22="","",IF(MONTH(Y22+1)<>MONTH(Y22),"",Y22+1)) | T23: =IF(S23="","",IF(MONTH(S23+1)<>MONTH(S23),"",S23+1)) | U23: =IF(T23="","",IF(MONTH(T23+1)<>MONTH(T23),"",T23+1)) | V23: =IF(U23="","",IF(MONTH(U23+1)<>MONTH(U23),"",U23+1)) | W23: =IF(V23="","",IF(MONTH(V23+1)<>MONTH(V23),"",V23+1)) | X23: =IF(W23="","",IF(MONTH(W23+1)<>MONTH(W23),"",W23+1)) | Y23: =IF(X23="","",IF(MONTH(X23+1)<>MONTH(X23),"",X23+1)) | AA23: =IF(AG22="","",IF(MONTH(AG22+1)<>MONTH(AG22),"",AG22+1)) -> 46265 | AB23: =IF(AA23="","",IF(MONTH(AA23+1)<>MONTH(AA23),"",AA23+1)) | AC23: =IF(AB23="","",IF(MONTH(AB23+1)<>MONTH(AB23),"",AB23+1)) | AD23: =IF(AC23="","",IF(MONTH(AC23+1)<>MONTH(AC23),"",AC23+1)) | AE23: =IF(AD23="","",IF(MONTH(AD23+1)<>MONTH(AD23),"",AD23+1)) | AF23: =IF(AE23="","",IF(MONTH(AE23+1)<>MONTH(AE23),"",AE23+1)) | AG23: =IF(AF23="","",IF(MONTH(AF23+1)<>MONTH(AF23),"",AF23+1))
C25: =DATE(YEAR(AA16+42),MONTH(AA16+42),1) -> 46266 | K25: =DATE(YEAR(C25+42),MONTH(C25+42),1) -> 46296 | S25: =DATE(YEAR(K25+42),MONTH(K25+42),1) -> 46327 | AA25: =DATE(YEAR(S25+42),MONTH(S25+42),1) -> 46357
C26: =CHOOSE(1+MOD($R$2+1-2,7),"ПН","ВТ","СР","ЧТ","ПТ","СБ","ВС") -> ВТ | D26: =CHOOSE(1+MOD($R$2+2-2,7),"ПН","ВТ","СР","ЧТ","ПТ","СБ","ВС") -> СР | E26: =CHOOSE(1+MOD($R$2+3-2,7),"ПН","ВТ","СР","ЧТ","ПТ","СБ","ВС") -> ЧТ | F26: =CHOOSE(1+MOD($R$2+4-2,7),"ПН","ВТ","СР","ЧТ","ПТ","СБ","ВС") -> ПТ | G26: =CHOOSE(1+MOD($R$2+5-2,7),"ПН","ВТ","СР","ЧТ","ПТ","СБ","ВС") -> СБ | H26: =CHOOSE(1+MOD($R$2+6-2,7),"ПН","ВТ","СР","ЧТ","ПТ","СБ","ВС") -> ВС | I26: =CHOOSE(1+MOD($R$2+7-2,7),"ПН","ВТ","СР","ЧТ","ПТ","СБ","ВС") -> ПН | K26: =CHOOSE(1+MOD($R$2+1-2,7),"ПН","ВТ","СР","ЧТ","ПТ","СБ","ВС") -> ВТ | L26: =CHOOSE(1+MOD($R$2+2-2,7),"ПН","ВТ","СР","ЧТ","ПТ","СБ","ВС") -> СР | M26: =CHOOSE(1+MOD($R$2+3-2,7),"ПН","ВТ","СР","ЧТ","ПТ","СБ","ВС") -> ЧТ | N26: =CHOOSE(1+MOD($R$2+4-2,7),"ПН","ВТ","СР","ЧТ","ПТ","СБ","ВС") -> ПТ | O26: =CHOOSE(1+MOD($R$2+5-2,7),"ПН","ВТ","СР","ЧТ","ПТ","СБ","ВС") -> СБ | P26: =CHOOSE(1+MOD($R$2+6-2,7),"ПН","ВТ","СР","ЧТ","ПТ","СБ","ВС") -> ВС | Q26: =CHOOSE(1+MOD($R$2+7-2,7),"ПН","ВТ","СР","ЧТ","ПТ","СБ","ВС") -> ПН | S26: =CHOOSE(1+MOD($R$2+1-2,7),"ПН","ВТ","СР","ЧТ","ПТ","СБ","ВС") -> ВТ | T26: =CHOOSE(1+MOD($R$2+2-2,7),"ПН","ВТ","СР","ЧТ","ПТ","СБ","ВС") -> СР | U26: =CHOOSE(1+MOD($R$2+3-2,7),"ПН","ВТ","СР","ЧТ","ПТ","СБ","ВС") -> ЧТ | V26: =CHOOSE(1+MOD($R$2+4-2,7),"ПН","ВТ","СР","ЧТ","ПТ","СБ","ВС") -> ПТ | W26: =CHOOSE(1+MOD($R$2+5-2,7),"ПН","ВТ","СР","ЧТ","ПТ","СБ","ВС") -> СБ | X26: =CHOOSE(1+MOD($R$2+6-2,7),"ПН","ВТ","СР","ЧТ","ПТ","СБ","ВС") -> ВС | Y26: =CHOOSE(1+MOD($R$2+7-2,7),"ПН","ВТ","СР","ЧТ","ПТ","СБ","ВС") -> ПН | AA26: =CHOOSE(1+MOD($R$2+1-2,7),"ПН","ВТ","СР","ЧТ","ПТ","СБ","ВС") -> ВТ | AB26: =CHOOSE(1+MOD($R$2+2-2,7),"ПН","ВТ","СР","ЧТ","ПТ","СБ","ВС") -> СР | AC26: =CHOOSE(1+MOD($R$2+3-2,7),"ПН","ВТ","СР","ЧТ","ПТ","СБ","ВС") -> ЧТ | AD26: =CHOOSE(1+MOD($R$2+4-2,7),"ПН","ВТ","СР","ЧТ","ПТ","СБ","ВС") -> ПТ | AE26: =CHOOSE(1+MOD($R$2+5-2,7),"ПН","ВТ","СР","ЧТ","ПТ","СБ","ВС") -> СБ | AF26: =CHOOSE(1+MOD($R$2+6-2,7),"ПН","ВТ","СР","ЧТ","ПТ","СБ","ВС") -> ВС | AG26: =CHOOSE(1+MOD($R$2+7-2,7),"ПН","ВТ","СР","ЧТ","ПТ","СБ","ВС") -> ПН
C27: =IF(WEEKDAY(C25,1)=MOD($R$2-1,7)+1,C25,"") | D27: =IF(C27="",IF(WEEKDAY(C25,1)=MOD($R$2,7)+1,C25,""),C27+1) -> 46266 | E27: =IF(D27="",IF(WEEKDAY(C25,1)=MOD($R$2+1,7)+1,C25,""),D27+1) -> 46267 | F27: =IF(E27="",IF(WEEKDAY(C25,1)=MOD($R$2+2,7)+1,C25,""),E27+1) -> 46268 | G27: =IF(F27="",IF(WEEKDAY(C25,1)=MOD($R$2+3,7)+1,C25,""),F27+1) -> 46269 | H27: =IF(G27="",IF(WEEKDAY(C25,1)=MOD($R$2+4,7)+1,C25,""),G27+1) -> 46270 | I27: =IF(H27="",IF(WEEKDAY(C25,1)=MOD($R$2+5,7)+1,C25,""),H27+1) -> 46271 | K27: =IF(WEEKDAY(K25,1)=MOD($R$2-1,7)+1,K25,"") | L27: =IF(K27="",IF(WEEKDAY(K25,1)=MOD($R$2,7)+1,K25,""),K27+1) | M27: =IF(L27="",IF(WEEKDAY(K25,1)=MOD($R$2+1,7)+1,K25,""),L27+1) | N27: =IF(M27="",IF(WEEKDAY(K25,1)=MOD($R$2+2,7)+1,K25,""),M27+1) -> 46296 | O27: =IF(N27="",IF(WEEKDAY(K25,1)=MOD($R$2+3,7)+1,K25,""),N27+1) -> 46297 | P27: =IF(O27="",IF(WEEKDAY(K25,1)=MOD($R$2+4,7)+1,K25,""),O27+1) -> 46298 | Q27: =IF(P27="",IF(WEEKDAY(K25,1)=MOD($R$2+5,7)+1,K25,""),P27+1) -> 46299 | S27: =IF(WEEKDAY(S25,1)=MOD($R$2-1,7)+1,S25,"") | T27: =IF(S27="",IF(WEEKDAY(S25,1)=MOD($R$2,7)+1,S25,""),S27+1) | U27: =IF(T27="",IF(WEEKDAY(S25,1)=MOD($R$2+1,7)+1,S25,""),T27+1) | V27: =IF(U27="",IF(WEEKDAY(S25,1)=MOD($R$2+2,7)+1,S25,""),U27+1) | W27: =IF(V27="",IF(WEEKDAY(S25,1)=MOD($R$2+3,7)+1,S25,""),V27+1) | X27: =IF(W27="",IF(WEEKDAY(S25,1)=MOD($R$2+4,7)+1,S25,""),W27+1) | Y27: =IF(X27="",IF(WEEKDAY(S25,1)=MOD($R$2+5,7)+1,S25,""),X27+1) -> 46327 | AA27: =IF(WEEKDAY(AA25,1)=MOD($R$2-1,7)+1,AA25,"") | AB27: =IF(AA27="",IF(WEEKDAY(AA25,1)=MOD($R$2,7)+1,AA25,""),AA27+1) -> 46357 | AC27: =IF(AB27="",IF(WEEKDAY(AA25,1)=MOD($R$2+1,7)+1,AA25,""),AB27+1) -> 46358 | AD27: =IF(AC27="",IF(WEEKDAY(AA25,1)=MOD($R$2+2,7)+1,AA25,""),AC27+1) -> 46359 | AE27: =IF(AD27="",IF(WEEKDAY(AA25,1)=MOD($R$2+3,7)+1,AA25,""),AD27+1) -> 46360 | AF27: =IF(AE27="",IF(WEEKDAY(AA25,1)=MOD($R$2+4,7)+1,AA25,""),AE27+1) -> 46361 | AG27: =IF(AF27="",IF(WEEKDAY(AA25,1)=MOD($R$2+5,7)+1,AA25,""),AF27+1) -> 46362
C28: =IF(I27="","",IF(MONTH(I27+1)<>MONTH(I27),"",I27+1)) -> 46272 | D28: =IF(C28="","",IF(MONTH(C28+1)<>MONTH(C28),"",C28+1)) -> 46273 | E28: =IF(D28="","",IF(MONTH(D28+1)<>MONTH(D28),"",D28+1)) -> 46274 | F28: =IF(E28="","",IF(MONTH(E28+1)<>MONTH(E28),"",E28+1)) -> 46275 | G28: =IF(F28="","",IF(MONTH(F28+1)<>MONTH(F28),"",F28+1)) -> 46276 | H28: =IF(G28="","",IF(MONTH(G28+1)<>MONTH(G28),"",G28+1)) -> 46277 | I28: =IF(H28="","",IF(MONTH(H28+1)<>MONTH(H28),"",H28+1)) -> 46278 | K28: =IF(Q27="","",IF(MONTH(Q27+1)<>MONTH(Q27),"",Q27+1)) -> 46300 | L28: =IF(K28="","",IF(MONTH(K28+1)<>MONTH(K28),"",K28+1)) -> 46301 | M28: =IF(L28="","",IF(MONTH(L28+1)<>MONTH(L28),"",L28+1)) -> 46302 | N28: =IF(M28="","",IF(MONTH(M28+1)<>MONTH(M28),"",M28+1)) -> 46303 | O28: =IF(N28="","",IF(MONTH(N28+1)<>MONTH(N28),"",N28+1)) -> 46304 | P28: =IF(O28="","",IF(MONTH(O28+1)<>MONTH(O28),"",O28+1)) -> 46305 | Q28: =IF(P28="","",IF(MONTH(P28+1)<>MONTH(P28),"",P28+1)) -> 46306 | S28: =IF(Y27="","",IF(MONTH(Y27+1)<>MONTH(Y27),"",Y27+1)) -> 46328 | T28: =IF(S28="","",IF(MONTH(S28+1)<>MONTH(S28),"",S28+1)) -> 46329 | U28: =IF(T28="","",IF(MONTH(T28+1)<>MONTH(T28),"",T28+1)) -> 46330 | V28: =IF(U28="","",IF(MONTH(U28+1)<>MONTH(U28),"",U28+1)) -> 46331 | W28: =IF(V28="","",IF(MONTH(V28+1)<>MONTH(V28),"",V28+1)) -> 46332 | X28: =IF(W28="","",IF(MONTH(W28+1)<>MONTH(W28),"",W28+1)) -> 46333 | Y28: =IF(X28="","",IF(MONTH(X28+1)<>MONTH(X28),"",X28+1)) -> 46334 | AA28: =IF(AG27="","",IF(MONTH(AG27+1)<>MONTH(AG27),"",AG27+1)) -> 46363 | AB28: =IF(AA28="","",IF(MONTH(AA28+1)<>MONTH(AA28),"",AA28+1)) -> 46364 | AC28: =IF(AB28="","",IF(MONTH(AB28+1)<>MONTH(AB28),"",AB28+1)) -> 46365 | AD28: =IF(AC28="","",IF(MONTH(AC28+1)<>MONTH(AC28),"",AC28+1)) -> 46366 | AE28: =IF(AD28="","",IF(MONTH(AD28+1)<>MONTH(AD28),"",AD28+1)) -> 46367 | AF28: =IF(AE28="","",IF(MONTH(AE28+1)<>MONTH(AE28),"",AE28+1)) -> 46368 | AG28: =IF(AF28="","",IF(MONTH(AF28+1)<>MONTH(AF28),"",AF28+1)) -> 46369
C29: =IF(I28="","",IF(MONTH(I28+1)<>MONTH(I28),"",I28+1)) -> 46279 | D29: =IF(C29="","",IF(MONTH(C29+1)<>MONTH(C29),"",C29+1)) -> 46280 | E29: =IF(D29="","",IF(MONTH(D29+1)<>MONTH(D29),"",D29+1)) -> 46281 | F29: =IF(E29="","",IF(MONTH(E29+1)<>MONTH(E29),"",E29+1)) -> 46282 | G29: =IF(F29="","",IF(MONTH(F29+1)<>MONTH(F29),"",F29+1)) -> 46283 | H29: =IF(G29="","",IF(MONTH(G29+1)<>MONTH(G29),"",G29+1)) -> 46284 | I29: =IF(H29="","",IF(MONTH(H29+1)<>MONTH(H29),"",H29+1)) -> 46285 | K29: =IF(Q28="","",IF(MONTH(Q28+1)<>MONTH(Q28),"",Q28+1)) -> 46307 | L29: =IF(K29="","",IF(MONTH(K29+1)<>MONTH(K29),"",K29+1)) -> 46308 | M29: =IF(L29="","",IF(MONTH(L29+1)<>MONTH(L29),"",L29+1)) -> 46309 | N29: =IF(M29="","",IF(MONTH(M29+1)<>MONTH(M29),"",M29+1)) -> 46310 | O29: =IF(N29="","",IF(MONTH(N29+1)<>MONTH(N29),"",N29+1)) -> 46311 | P29: =IF(O29="","",IF(MONTH(O29+1)<>MONTH(O29),"",O29+1)) -> 46312 | Q29: =IF(P29="","",IF(MONTH(P29+1)<>MONTH(P29),"",P29+1)) -> 46313 | S29: =IF(Y28="","",IF(MONTH(Y28+1)<>MONTH(Y28),"",Y28+1)) -> 46335 | T29: =IF(S29="","",IF(MONTH(S29+1)<>MONTH(S29),"",S29+1)) -> 46336 | U29: =IF(T29="","",IF(MONTH(T29+1)<>MONTH(T29),"",T29+1)) -> 46337 | V29: =IF(U29="","",IF(MONTH(U29+1)<>MONTH(U29),"",U29+1)) -> 46338 | W29: =IF(V29="","",IF(MONTH(V29+1)<>MONTH(V29),"",V29+1)) -> 46339 | X29: =IF(W29="","",IF(MONTH(W29+1)<>MONTH(W29),"",W29+1)) -> 46340 | Y29: =IF(X29="","",IF(MONTH(X29+1)<>MONTH(X29),"",X29+1)) -> 46341 | AA29: =IF(AG28="","",IF(MONTH(AG28+1)<>MONTH(AG28),"",AG28+1)) -> 46370 | AB29: =IF(AA29="","",IF(MONTH(AA29+1)<>MONTH(AA29),"",AA29+1)) -> 46371 | AC29: =IF(AB29="","",IF(MONTH(AB29+1)<>MONTH(AB29),"",AB29+1)) -> 46372 | AD29: =IF(AC29="","",IF(MONTH(AC29+1)<>MONTH(AC29),"",AC29+1)) -> 46373 | AE29: =IF(AD29="","",IF(MONTH(AD29+1)<>MONTH(AD29),"",AD29+1)) -> 46374 | AF29: =IF(AE29="","",IF(MONTH(AE29+1)<>MONTH(AE29),"",AE29+1)) -> 46375 | AG29: =IF(AF29="","",IF(MONTH(AF29+1)<>MONTH(AF29),"",AF29+1)) -> 46376
C30: =IF(I29="","",IF(MONTH(I29+1)<>MONTH(I29),"",I29+1)) -> 46286 | D30: =IF(C30="","",IF(MONTH(C30+1)<>MONTH(C30),"",C30+1)) -> 46287 | E30: =IF(D30="","",IF(MONTH(D30+1)<>MONTH(D30),"",D30+1)) -> 46288 | F30: =IF(E30="","",IF(MONTH(E30+1)<>MONTH(E30),"",E30+1)) -> 46289 | G30: =IF(F30="","",IF(MONTH(F30+1)<>MONTH(F30),"",F30+1)) -> 46290 | H30: =IF(G30="","",IF(MONTH(G30+1)<>MONTH(G30),"",G30+1)) -> 46291 | I30: =IF(H30="","",IF(MONTH(H30+1)<>MONTH(H30),"",H30+1)) -> 46292 | K30: =IF(Q29="","",IF(MONTH(Q29+1)<>MONTH(Q29),"",Q29+1)) -> 46314 | L30: =IF(K30="","",IF(MONTH(K30+1)<>MONTH(K30),"",K30+1)) -> 46315 | M30: =IF(L30="","",IF(MONTH(L30+1)<>MONTH(L30),"",L30+1)) -> 46316 | N30: =IF(M30="","",IF(MONTH(M30+1)<>MONTH(M30),"",M30+1)) -> 46317 | O30: =IF(N30="","",IF(MONTH(N30+1)<>MONTH(N30),"",N30+1)) -> 46318 | P30: =IF(O30="","",IF(MONTH(O30+1)<>MONTH(O30),"",O30+1)) -> 46319 | Q30: =IF(P30="","",IF(MONTH(P30+1)<>MONTH(P30),"",P30+1)) -> 46320 | S30: =IF(Y29="","",IF(MONTH(Y29+1)<>MONTH(Y29),"",Y29+1)) -> 46342 | T30: =IF(S30="","",IF(MONTH(S30+1)<>MONTH(S30),"",S30+1)) -> 46343 | U30: =IF(T30="","",IF(MONTH(T30+1)<>MONTH(T30),"",T30+1)) -> 46344 | V30: =IF(U30="","",IF(MONTH(U30+1)<>MONTH(U30),"",U30+1)) -> 46345 | W30: =IF(V30="","",IF(MONTH(V30+1)<>MONTH(V30),"",V30+1)) -> 46346 | X30: =IF(W30="","",IF(MONTH(W30+1)<>MONTH(W30),"",W30+1)) -> 46347 | Y30: =IF(X30="","",IF(MONTH(X30+1)<>MONTH(X30),"",X30+1)) -> 46348 | AA30: =IF(AG29="","",IF(MONTH(AG29+1)<>MONTH(AG29),"",AG29+1)) -> 46377 | AB30: =IF(AA30="","",IF(MONTH(AA30+1)<>MONTH(AA30),"",AA30+1)) -> 46378 | AC30: =IF(AB30="","",IF(MONTH(AB30+1)<>MONTH(AB30),"",AB30+1)) -> 46379 | AD30: =IF(AC30="","",IF(MONTH(AC30+1)<>MONTH(AC30),"",AC30+1)) -> 46380 | AE30: =IF(AD30="","",IF(MONTH(AD30+1)<>MONTH(AD30),"",AD30+1)) -> 46381 | AF30: =IF(AE30="","",IF(MONTH(AE30+1)<>MONTH(AE30),"",AE30+1)) -> 46382 | AG30: =IF(AF30="","",IF(MONTH(AF30+1)<>MONTH(AF30),"",AF30+1)) -> 46383
C31: =IF(I30="","",IF(MONTH(I30+1)<>MONTH(I30),"",I30+1)) -> 46293 | D31: =IF(C31="","",IF(MONTH(C31+1)<>MONTH(C31),"",C31+1)) -> 46294 | E31: =IF(D31="","",IF(MONTH(D31+1)<>MONTH(D31),"",D31+1)) -> 46295 | F31: =IF(E31="","",IF(MONTH(E31+1)<>MONTH(E31),"",E31+1)) | G31: =IF(F31="","",IF(MONTH(F31+1)<>MONTH(F31),"",F31+1)) | H31: =IF(G31="","",IF(MONTH(G31+1)<>MONTH(G31),"",G31+1)) | I31: =IF(H31="","",IF(MONTH(H31+1)<>MONTH(H31),"",H31+1)) | K31: =IF(Q30="","",IF(MONTH(Q30+1)<>MONTH(Q30),"",Q30+1)) -> 46321 | L31: =IF(K31="","",IF(MONTH(K31+1)<>MONTH(K31),"",K31+1)) -> 46322 | M31: =IF(L31="","",IF(MONTH(L31+1)<>MONTH(L31),"",L31+1)) -> 46323 | N31: =IF(M31="","",IF(MONTH(M31+1)<>MONTH(M31),"",M31+1)) -> 46324 | O31: =IF(N31="","",IF(MONTH(N31+1)<>MONTH(N31),"",N31+1)) -> 46325 | P31: =IF(O31="","",IF(MONTH(O31+1)<>MONTH(O31),"",O31+1)) -> 46326 | Q31: =IF(P31="","",IF(MONTH(P31+1)<>MONTH(P31),"",P31+1)) | S31: =IF(Y30="","",IF(MONTH(Y30+1)<>MONTH(Y30),"",Y30+1)) -> 46349 | T31: =IF(S31="","",IF(MONTH(S31+1)<>MONTH(S31),"",S31+1)) -> 46350 | U31: =IF(T31="","",IF(MONTH(T31+1)<>MONTH(T31),"",T31+1)) -> 46351 | V31: =IF(U31="","",IF(MONTH(U31+1)<>MONTH(U31),"",U31+1)) -> 46352 | W31: =IF(V31="","",IF(MONTH(V31+1)<>MONTH(V31),"",V31+1)) -> 46353 | X31: =IF(W31="","",IF(MONTH(W31+1)<>MONTH(W31),"",W31+1)) -> 46354 | Y31: =IF(X31="","",IF(MONTH(X31+1)<>MONTH(X31),"",X31+1)) -> 46355 | AA31: =IF(AG30="","",IF(MONTH(AG30+1)<>MONTH(AG30),"",AG30+1)) -> 46384 | AB31: =IF(AA31="","",IF(MONTH(AA31+1)<>MONTH(AA31),"",AA31+1)) -> 46385 | AC31: =IF(AB31="","",IF(MONTH(AB31+1)<>MONTH(AB31),"",AB31+1)) -> 46386 | AD31: =IF(AC31="","",IF(MONTH(AC31+1)<>MONTH(AC31),"",AC31+1)) -> 46387 | AE31: =IF(AD31="","",IF(MONTH(AD31+1)<>MONTH(AD31),"",AD31+1)) | AF31: =IF(AE31="","",IF(MONTH(AE31+1)<>MONTH(AE31),"",AE31+1)) | AG31: =IF(AF31="","",IF(MONTH(AF31+1)<>MONTH(AF31),"",AF31+1))
C32: =IF(I31="","",IF(MONTH(I31+1)<>MONTH(I31),"",I31+1)) | D32: =IF(C32="","",IF(MONTH(C32+1)<>MONTH(C32),"",C32+1)) | E32: =IF(D32="","",IF(MONTH(D32+1)<>MONTH(D32),"",D32+1)) | F32: =IF(E32="","",IF(MONTH(E32+1)<>MONTH(E32),"",E32+1)) | G32: =IF(F32="","",IF(MONTH(F32+1)<>MONTH(F32),"",F32+1)) | H32: =IF(G32="","",IF(MONTH(G32+1)<>MONTH(G32),"",G32+1)) | I32: =IF(H32="","",IF(MONTH(H32+1)<>MONTH(H32),"",H32+1)) | K32: =IF(Q31="","",IF(MONTH(Q31+1)<>MONTH(Q31),"",Q31+1)) | L32: =IF(K32="","",IF(MONTH(K32+1)<>MONTH(K32),"",K32+1)) | M32: =IF(L32="","",IF(MONTH(L32+1)<>MONTH(L32),"",L32+1)) | N32: =IF(M32="","",IF(MONTH(M32+1)<>MONTH(M32),"",M32+1)) | O32: =IF(N32="","",IF(MONTH(N32+1)<>MONTH(N32),"",N32+1)) | P32: =IF(O32="","",IF(MONTH(O32+1)<>MONTH(O32),"",O32+1)) | Q32: =IF(P32="","",IF(MONTH(P32+1)<>MONTH(P32),"",P32+1)) | S32: =IF(Y31="","",IF(MONTH(Y31+1)<>MONTH(Y31),"",Y31+1)) -> 46356 | T32: =IF(S32="","",IF(MONTH(S32+1)<>MONTH(S32),"",S32+1)) | U32: =IF(T32="","",IF(MONTH(T32+1)<>MONTH(T32),"",T32+1)) | V32: =IF(U32="","",IF(MONTH(U32+1)<>MONTH(U32),"",U32+1)) | W32: =IF(V32="","",IF(MONTH(V32+1)<>MONTH(V32),"",V32+1)) | X32: =IF(W32="","",IF(MONTH(W32+1)<>MONTH(W32),"",W32+1)) | Y32: =IF(X32="","",IF(MONTH(X32+1)<>MONTH(X32),"",X32+1)) | AA32: =IF(AG31="","",IF(MONTH(AG31+1)<>MONTH(AG31),"",AG31+1)) | AB32: =IF(AA32="","",IF(MONTH(AA32+1)<>MONTH(AA32),"",AA32+1)) | AC32: =IF(AB32="","",IF(MONTH(AB32+1)<>MONTH(AB32),"",AB32+1)) | AD32: =IF(AC32="","",IF(MONTH(AC32+1)<>MONTH(AC32),"",AC32+1)) | AE32: =IF(AD32="","",IF(MONTH(AD32+1)<>MONTH(AD32),"",AD32+1)) | AF32: =IF(AE32="","",IF(MONTH(AE32+1)<>MONTH(AE32),"",AE32+1)) | AG32: =IF(AF32="","",IF(MONTH(AF32+1)<>MONTH(AF32),"",AF32+1))

Sheet Лист5
A1: 2025
A3: 45658 | I3: 45689 | Q3: 45717 | Y3: 45748
A4: ВТ | B4: СР | C4: ЧТ | D4: ПТ | E4: СБ | F4: ВС | G4: ПН | I4: ВТ | J4: СР | K4: ЧТ | L4: ПТ | M4: СБ | N4: ВС | O4: ПН | Q4: ВТ | R4: СР | S4: ЧТ | T4: ПТ | U4: СБ | V4: ВС | W4: ПН | Y4: ВТ | Z4: СР | AA4: ЧТ | AB4: ПТ | AC4: СБ | AD4: ВС | AE4: ПН
C5: 1 | D5: 2 | E5: 3 | F5: 4 | G5: 5 | N5: 1 | O5: 2 | V5: 45717 | W5: 45718 | Z5: 45748 | AA5: 45749 | AB5: 45750 | AC5: 45751 | AD5: 45752 | AE5: 45753
A6: 6 | B6: 7 | C6: 8 | D6: 9 | E6: 10 | F6: 11 | G6: 12 | I6: 3 | J6: 4 | K6: 5 | L6: 6 | M6: 7 | N6: 8 | O6: 9 | Q6: 45719 | R6: 45720 | S6: 45721 | T6: 45722 | U6: 45723 | V6: 45724 | W6: 45725 | Y6: 45754 | Z6: 45755 | AA6: 45756 | AB6: 45757 | AC6: 45758 | AD6: 45759 | AE6: 45760
A7: 13 | B7: 14 | C7: 15 | D7: 16 | E7: 17 | F7: 18 | G7: 19 | I7: 10 | J7: 11 | K7: 12 | L7: 13 | M7: 14 | N7: 15 | O7: 16 | Q7: 45726 | R7: 45727 | S7: 45728 | T7: 45729 | U7: 45730 | V7: 45731 | W7: 45732 | Y7: 45761 | Z7: 45762 | AA7: 45763 | AB7: 45764 | AC7: 45765 | AD7: 45766 | AE7: 45767
A8: 20 | B8: 21 | C8: 22 | D8: 23 | E8: 24 | F8: 25 | G8: 26 | I8: 17 | J8: 18 | K8: 19 | L8: 20 | M8: 21 | N8: 22 | O8: 23 | Q8: 45733 | R8: 45734 | S8: 45735 | T8: 45736 | U8: 45737 | V8: 45738 | W8: 45739 | Y8: 45768 | Z8: 45769 | AA8: 45770 | AB8: 45771 | AC8: 45772 | AD8: 45773 | AE8: 45774
A9: 27 | B9: 28 | C9: 29 | D9: 30 | E9: 31 | I9: 24 | J9: 25 | K9: 26 | L9: 27 | M9: 28 | Q9: 45740 | R9: 45741 | S9: 45742 | T9: 45743 | U9: 45744 | V9: 45745 | W9: 45746 | Y9: 45775 | Z9: 45776 | AA9: 45777
Q10: 45747
A12: 45778 | I12: 45809 | Q12: 45839 | Y12: 45870
A13: ВТ | B13: СР | C13: ЧТ | D13: ПТ | E13: СБ | F13: ВС | G13: ПН | I13: ВТ | J13: СР | K13: ЧТ | L13: ПТ | M13: СБ | N13: ВС | O13: ПН | Q13: ВТ | R13: СР | S13: ЧТ | T13: ПТ | U13: СБ | V13: ВС | W13: ПН | Y13: ВТ | Z13: СР | AA13: ЧТ | AB13: ПТ | AC13: СБ | AD13: ВС | AE13: ПН
D14: 45778 | E14: 45779 | F14: 45780 | G14: 45781 | O14: 45809 | R14: 45839 | S14: 45840 | T14: 45841 | U14: 45842 | V14: 45843 | W14: 45844 | AC14: 45870 | AD14: 45871 | AE14: 45872
A15: 45782 | B15: 45783 | C15: 45784 | D15: 45785 | E15: 45786 | F15: 45787 | G15: 45788 | I15: 45810 | J15: 45811 | K15: 45812 | L15: 45813 | M15: 45814 | N15: 45815 | O15: 45816 | Q15: 45845 | R15: 45846 | S15: 45847 | T15: 45848 | U15: 45849 | V15: 45850 | W15: 45851 | Y15: 45873 | Z15: 45874 | AA15: 45875 | AB15: 45876 | AC15: 45877 | AD15: 45878 | AE15: 45879
A16: 45789 | B16: 45790 | C16: 45791 | D16: 45792 | E16: 45793 | F16: 45794 | G16: 45795 | I16: 45817 | J16: 45818 | K16: 45819 | L16: 45820 | M16: 45821 | N16: 45822 | O16: 45823 | Q16: 45852 | R16: 45853 | S16: 45854 | T16: 45855 | U16: 45856 | V16: 45857 | W16: 45858 | Y16: 45880 | Z16: 45881 | AA16: 45882 | AB16: 45883 | AC16: 45884 | AD16: 45885 | AE16: 45886
A17: 45796 | B17: 45797 | C17: 45798 | D17: 45799 | E17: 45800 | F17: 45801 | G17: 45802 | I17: 45824 | J17: 45825 | K17: 45826 | L17: 45827 | M17: 45828 | N17: 45829 | O17: 45830 | Q17: 45859 | R17: 45860 | S17: 45861 | T17: 45862 | U17: 45863 | V17: 45864 | W17: 45865 | Y17: 45887 | Z17: 45888 | AA17: 45889 | AB17: 45890 | AC17: 45891 | AD17: 45892 | AE17: 45893
A18: 45803 | B18: 45804 | C18: 45805 | D18: 45806 | E18: 45807 | F18: 45808 | I18: 45831 | J18: 45832 | K18: 45833 | L18: 45834 | M18: 45835 | N18: 45836 | O18: 45837 | Q18: 45866 | R18: 45867 | S18: 45868 | T18: 45869 | Y18: 45894 | Z18: 45895 | AA18: 45896 | AB18: 45897 | AC18: 45898 | AD18: 45899 | AE18: 45900
I19: 45838
A21: 45901 | I21: 45931 | Q21: 45962 | Y21: 45992
A22: ВТ | B22: СР | C22: ЧТ | D22: ПТ | E22: СБ | F22: ВС | G22: ПН | I22: ВТ | J22: СР | K22: ЧТ | L22: ПТ | M22: СБ | N22: ВС | O22: ПН | Q22: ВТ | R22: СР | S22: ЧТ | T22: ПТ | U22: СБ | V22: ВС | W22: ПН | Y22: ВТ | Z22: СР | AA22: ЧТ | AB22: ПТ | AC22: СБ | AD22: ВС | AE22: ПН
A23: 45901 | B23: 45902 | C23: 45903 | D23: 45904 | E23: 45905 | F23: 45906 | G23: 45907 | K23: 45931 | L23: 45932 | M23: 45933 | N23: 45934 | O23: 45935 | V23: 45962 | W23: 45963 | Y23: 45992 | Z23: 45993 | AA23: 45994 | AB23: 45995 | AC23: 45996 | AD23: 45997 | AE23: 45998
A24: 45908 | B24: 45909 | C24: 45910 | D24: 45911 | E24: 45912 | F24: 45913 | G24: 45914 | I24: 45936 | J24: 45937 | K24: 45938 | L24: 45939 | M24: 45940 | N24: 45941 | O24: 45942 | Q24: 45964 | R24: 45965 | S24: 45966 | T24: 45967 | U24: 45968 | V24: 45969 | W24: 45970 | Y24: 45999 | Z24: 46000 | AA24: 46001 | AB24: 46002 | AC24: 46003 | AD24: 46004 | AE24: 46005
A25: 45915 | B25: 45916 | C25: 45917 | D25: 45918 | E25: 45919 | F25: 45920 | G25: 45921 | I25: 45943 | J25: 45944 | K25: 45945 | L25: 45946 | M25: 45947 | N25: 45948 | O25: 45949 | Q25: 45971 | R25: 45972 | S25: 45973 | T25: 45974 | U25: 45975 | V25: 45976 | W25: 45977 | Y25: 46006 | Z25: 46007 | AA25: 46008 | AB25: 46009 | AC25: 46010 | AD25: 46011 | AE25: 46012
A26: 45922 | B26: 45923 | C26: 45924 | D26: 45925 | E26: 45926 | F26: 45927 | G26: 45928 | I26: 45950 | J26: 45951 | K26: 45952 | L26: 45953 | M26: 45954 | N26: 45955 | O26: 45956 | Q26: 45978 | R26: 45979 | S26: 45980 | T26: 45981 | U26: 45982 | V26: 45983 | W26: 45984 | Y26: 46013 | Z26: 46014 | AA26: 46015 | AB26: 46016 | AC26: 46017 | AD26: 46018 | AE26: 46019
A27: 45929 | B27: 45930 | I27: 45957 | J27: 45958 | K27: 45959 | L27: 45960 | M27: 45961 | Q27: 45985 | R27: 45986 | S27: 45987 | T27: 45988 | U27: 45989 | V27: 45990 | W27: 45991 | Y27: 46020 | Z27: 46021 | AA27: 46022

Sheet 2026LK
A1: 2026
A2: =впн!$B$1 -> Januaro | I2: =впн!$B$2 -> Februaro | Q2: =впн!$B$3 -> Marto | Y2: =впн!$B$4 -> Aprilo
A3: =впн!$A$1 -> L | B3: =впн!$A$2 -> M | C3: =впн!$A$3 -> M | D3: =впн!$A$4 -> Ĵ | E3: =впн!$A$5 -> V | F3: =впн!$A$6 -> S | G3: =впн!$A$7 -> D | I3: =$A$3 -> L | J3: =$B$3 -> M | K3: =$C$3 -> M | L3: =$D$3 -> Ĵ | M3: =$E$3 -> V | N3: =$F$3 -> S | O3: =$G$3 -> D | Q3: =$A$3 -> L | R3: =$B$3 -> M | S3: =$C$3 -> M | T3: =$D$3 -> Ĵ | U3: =$E$3 -> V | V3: =$F$3 -> S | W3: =$G$3 -> D | Y3: =$A$3 -> L | Z3: =$B$3 -> M | AA3: =$C$3 -> M | AB3: =$D$3 -> Ĵ | AC3: =$E$3 -> V | AD3: =$F$3 -> S | AE3: =$G$3 -> D
D4: 1 | E4: 2 | F4: 3 | G4: 4 | O4: 1 | W4: 1 | AA4: 1 | AB4: 2 | AC4: 3 | AD4: 4 | AE4: 5
A5: =G4+1 -> 5 | B5: =A5+1 -> 6 | C5: =B5+1 -> 7 | D5: =C5+1 -> 8 | E5: =D5+1 -> 9 | F5: =E5+1 -> 10 | G5: =F5+1 -> 11 | I5: =O4+1 -> 2 | J5: =I5+1 -> 3 | K5: =J5+1 -> 4 | L5: =K5+1 -> 5 | M5: =L5+1 -> 6 | N5: =M5+1 -> 7 | O5: =N5+1 -> 8 | Q5: =W4+1 -> 2 | R5: =Q5+1 -> 3 | S5: =R5+1 -> 4 | T5: =S5+1 -> 5 | U5: =T5+1 -> 6 | V5: =U5+1 -> 7 | W5: =V5+1 -> 8 | Y5: =AE4+1 -> 6 | Z5: =Y5+1 -> 7 | AA5: =Z5+1 -> 8 | AB5: =AA5+1 -> 9 | AC5: =AB5+1 -> 10 | AD5: =AC5+1 -> 11 | AE5: =AD5+1 -> 12
A6: =G5+1 -> 12 | B6: =A6+1 -> 13 | C6: =B6+1 -> 14 | D6: =C6+1 -> 15 | E6: =D6+1 -> 16 | F6: =E6+1 -> 17 | G6: =F6+1 -> 18 | I6: =O5+1 -> 9 | J6: =I6+1 -> 10 | K6: =J6+1 -> 11 | L6: =K6+1 -> 12 | M6: =L6+1 -> 13 | N6: =M6+1 -> 14 | O6: =N6+1 -> 15 | Q6: =W5+1 -> 9 | R6: =Q6+1 -> 10 | S6: =R6+1 -> 11 | T6: =S6+1 -> 12 | U6: =T6+1 -> 13 | V6: =U6+1 -> 14 | W6: =V6+1 -> 15 | Y6: =AE5+1 -> 13 | Z6: =Y6+1 -> 14 | AA6: =Z6+1 -> 15 | AB6: =AA6+1 -> 16 | AC6: =AB6+1 -> 17 | AD6: =AC6+1 -> 18 | AE6: =AD6+1 -> 19
A7: =G6+1 -> 19 | B7: =A7+1 -> 20 | C7: =B7+1 -> 21 | D7: =C7+1 -> 22 | E7: =D7+1 -> 23 | F7: =E7+1 -> 24 | G7: =F7+1 -> 25 | I7: =O6+1 -> 16 | J7: =I7+1 -> 17 | K7: =J7+1 -> 18 | L7: =K7+1 -> 19 | M7: =L7+1 -> 20 | N7: =M7+1 -> 21 | O7: =N7+1 -> 22 | Q7: =W6+1 -> 16 | R7: =Q7+1 -> 17 | S7: =R7+1 -> 18 | T7: =S7+1 -> 19 | U7: =T7+1 -> 20 | V7: =U7+1 -> 21 | W7: =V7+1 -> 22 | Y7: =AE6+1 -> 20 | Z7: =Y7+1 -> 21 | AA7: =Z7+1 -> 22 | AB7: =AA7+1 -> 23 | AC7: =AB7+1 -> 24 | AD7: =AC7+1 -> 25 | AE7: =AD7+1 -> 26
A8: =G7+1 -> 26 | B8: =A8+1 -> 27 | C8: =B8+1 -> 28 | D8: =C8+1 -> 29 | E8: =D8+1 -> 30 | F8: 31 | I8: =O7+1 -> 23 | J8: =I8+1 -> 24 | K8: =J8+1 -> 25 | L8: =K8+1 -> 26 | M8: =L8+1 -> 27 | N8: 28 | Q8: =W7+1 -> 23 | R8: =Q8+1 -> 24 | S8: =R8+1 -> 25 | T8: =S8+1 -> 26 | U8: =T8+1 -> 27 | V8: =U8+1 -> 28 | W8: =V8+1 -> 29 | Y8: =AE7+1 -> 27 | Z8: =Y8+1 -> 28 | AA8: =Z8+1 -> 29 | AB8: =AA8+1 -> 30
Q9: 30 | R9: 31
A10: =впн!$B$5 -> Majo | I10: =впн!$B$6 -> Junio | Q10: =впн!$B$7 -> Julio | Y10: =впн!$B$8 -> Aŭgusto
A11: =$A$3 -> L | B11: =$B$3 -> M | C11: =$C$3 -> M | D11: =$D$3 -> Ĵ | E11: =$E$3 -> V | F11: =$F$3 -> S | G11: =$G$3 -> D | I11: =$A$3 -> L | J11: =$B$3 -> M | K11: =$C$3 -> M | L11: =$D$3 -> Ĵ | M11: =$E$3 -> V | N11: =$F$3 -> S | O11: =$G$3 -> D | Q11: =$A$3 -> L | R11: =$B$3 -> M | S11: =$C$3 -> M | T11: =$D$3 -> Ĵ | U11: =$E$3 -> V | V11: =$F$3 -> S | W11: =$G$3 -> D | Y11: =$A$3 -> L | Z11: =$B$3 -> M | AA11: =$C$3 -> M | AB11: =$D$3 -> Ĵ | AC11: =$E$3 -> V | AD11: =$F$3 -> S | AE11: =$G$3 -> D
E12: 1 | F12: 2 | G12: 3 | I12: 1 | J12: 2 | K12: 3 | L12: 4 | M12: 5 | N12: 6 | O12: 7 | S12: 1 | T12: 2 | U12: 3 | V12: 4 | W12: 5 | AD12: 1 | AE12: 2
A13: =G12+1 -> 4 | B13: =A13+1 -> 5 | C13: =B13+1 -> 6 | D13: =C13+1 -> 7 | E13: =D13+1 -> 8 | F13: =E13+1 -> 9 | G13: =F13+1 -> 10 | I13: =O12+1 -> 8 | J13: =I13+1 -> 9 | K13: =J13+1 -> 10 | L13: =K13+1 -> 11 | M13: =L13+1 -> 12 | N13: =M13+1 -> 13 | O13: =N13+1 -> 14 | Q13: =W12+1 -> 6 | R13: =Q13+1 -> 7 | S13: =R13+1 -> 8 | T13: =S13+1 -> 9 | U13: =T13+1 -> 10 | V13: =U13+1 -> 11 | W13: =V13+1 -> 12 | Y13: =AE12+1 -> 3 | Z13: =Y13+1 -> 4 | AA13: =Z13+1 -> 5 | AB13: =AA13+1 -> 6 | AC13: =AB13+1 -> 7 | AD13: =AC13+1 -> 8 | AE13: =AD13+1 -> 9
